BEGIN:VCALENDAR
VERSION:2.0
PRODID:-//NEW Atlanta Parent - ECPv6.15.11//NONSGML v1.0//EN
CALSCALE:GREGORIAN
METHOD:PUBLISH
X-WR-CALNAME:NEW Atlanta Parent
X-ORIGINAL-URL:https://www.atlantaparent.com
X-WR-CALDESC:Events for NEW Atlanta Parent
REFRESH-INTERVAL;VALUE=DURATION:PT1H
X-Robots-Tag:noindex
X-PUBLISHED-TTL:PT1H
BEGIN:VTIMEZONE
TZID:America/New_York
BEGIN:DAYLIGHT
TZOFFSETFROM:-0500
TZOFFSETTO:-0400
TZNAME:EDT
DTSTART:20230312T070000
END:DAYLIGHT
BEGIN:STANDARD
TZOFFSETFROM:-0400
TZOFFSETTO:-0500
TZNAME:EST
DTSTART:20231105T060000
END:STANDARD
BEGIN:DAYLIGHT
TZOFFSETFROM:-0500
TZOFFSETTO:-0400
TZNAME:EDT
DTSTART:20240310T070000
END:DAYLIGHT
BEGIN:STANDARD
TZOFFSETFROM:-0400
TZOFFSETTO:-0500
TZNAME:EST
DTSTART:20241103T060000
END:STANDARD
BEGIN:DAYLIGHT
TZOFFSETFROM:-0500
TZOFFSETTO:-0400
TZNAME:EDT
DTSTART:20250309T070000
END:DAYLIGHT
BEGIN:STANDARD
TZOFFSETFROM:-0400
TZOFFSETTO:-0500
TZNAME:EST
DTSTART:20251102T060000
END:STANDARD
END:VTIMEZONE
BEGIN:VEVENT
DTSTART;TZID=America/New_York:20241207T120000
DTEND;TZID=America/New_York:20241207T150000
DTSTAMP:20260423T201856
CREATED:20241119T160914Z
LAST-MODIFIED:20241119T160914Z
UID:10008871-1733572800-1733583600@www.atlantaparent.com
SUMMARY:Holidays at The Book Cellar
DESCRIPTION:Celebrate the holiday season with The Book Cellar. Registration required. \n\nCookies with Santa & the Grinch: Enjoy storytime with Santa\, and take photos with Santa\, Mrs. Claus and The Grinch. Dec. 7\, noon-3 p.m. and Dec. 21\, 1-4 p.m. $24.99.\nStorytime with the Grinch: Dive into the holiday spirit with the Grinch\, ornament decorating\, cookies and hot cocoa. Dec. 15\, 2-3 p.m. $14.99.\nPolar Express Storytime: Enjoy a reading of The Polar Express\, holiday crafts and hot cocoa. Dec. 17\, 10:30-11:30 a.m. $7.99.
URL:https://www.atlantaparent.com/event/holidays-at-the-book-cellar/
LOCATION:The Book Cellar\, 951 Railroad St. NW\, Conyers
END:VEVENT
END:VCALENDAR