BEGIN:VCALENDAR
VERSION:2.0
PRODID:-//NEW Atlanta Parent - ECPv6.15.11//NONSGML v1.0//EN
CALSCALE:GREGORIAN
METHOD:PUBLISH
X-ORIGINAL-URL:https://www.atlantaparent.com
X-WR-CALDESC:Events for NEW Atlanta Parent
REFRESH-INTERVAL;VALUE=DURATION:PT1H
X-Robots-Tag:noindex
X-PUBLISHED-TTL:PT1H
BEGIN:VTIMEZONE
TZID:UTC
BEGIN:STANDARD
TZOFFSETFROM:+0000
TZOFFSETTO:+0000
TZNAME:UTC
DTSTART:20180101T000000
END:STANDARD
END:VTIMEZONE
BEGIN:VEVENT
DTSTART;VALUE=DATE:20191221
DTEND;VALUE=DATE:20191223
DTSTAMP:20260419T152741
CREATED:20191006T040009Z
LAST-MODIFIED:20191007T184029Z
UID:10001292-1576886400-1577059199@www.atlantaparent.com
SUMMARY:The Children's Nutcracker
DESCRIPTION:The classic story presented by the Academy of Ballet of Norcross. Dec. 21- 22. Sat. 11 a.m. and 2 p.m. Sun. 1:30 p.m. and 4:30 p.m. $17-$25; ages 2 and younger\, free.
URL:https://www.atlantaparent.com/event/the-childrens-nutcracker/
LOCATION:St. Pius X High School Theatre\, 2674 Johnson Rd.\, Atlanta
GEO:33.8645679;-84.2915716
X-APPLE-STRUCTURED-LOCATION;VALUE=URI;X-ADDRESS=St. Pius X High School Theatre 2674 Johnson Rd. Atlanta;X-APPLE-RADIUS=500;X-TITLE=2674 Johnson Rd.:geo:-84.2915716,33.8645679
END:VEVENT
END:VCALENDAR