BEGIN:VCALENDAR
VERSION:2.0
PRODID:-//NEW Atlanta Parent - ECPv6.15.11//NONSGML v1.0//EN
CALSCALE:GREGORIAN
METHOD:PUBLISH
X-WR-CALNAME:NEW Atlanta Parent
X-ORIGINAL-URL:https://www.atlantaparent.com
X-WR-CALDESC:Events for NEW Atlanta Parent
REFRESH-INTERVAL;VALUE=DURATION:PT1H
X-Robots-Tag:noindex
X-PUBLISHED-TTL:PT1H
BEGIN:VTIMEZONE
TZID:America/New_York
BEGIN:DAYLIGHT
TZOFFSETFROM:-0500
TZOFFSETTO:-0400
TZNAME:EDT
DTSTART:20210314T070000
END:DAYLIGHT
BEGIN:STANDARD
TZOFFSETFROM:-0400
TZOFFSETTO:-0500
TZNAME:EST
DTSTART:20211107T060000
END:STANDARD
BEGIN:DAYLIGHT
TZOFFSETFROM:-0500
TZOFFSETTO:-0400
TZNAME:EDT
DTSTART:20220313T070000
END:DAYLIGHT
BEGIN:STANDARD
TZOFFSETFROM:-0400
TZOFFSETTO:-0500
TZNAME:EST
DTSTART:20221106T060000
END:STANDARD
BEGIN:DAYLIGHT
TZOFFSETFROM:-0500
TZOFFSETTO:-0400
TZNAME:EDT
DTSTART:20230312T070000
END:DAYLIGHT
BEGIN:STANDARD
TZOFFSETFROM:-0400
TZOFFSETTO:-0500
TZNAME:EST
DTSTART:20231105T060000
END:STANDARD
BEGIN:DAYLIGHT
TZOFFSETFROM:-0500
TZOFFSETTO:-0400
TZNAME:EDT
DTSTART:20240310T070000
END:DAYLIGHT
BEGIN:STANDARD
TZOFFSETFROM:-0400
TZOFFSETTO:-0500
TZNAME:EST
DTSTART:20241103T060000
END:STANDARD
BEGIN:DAYLIGHT
TZOFFSETFROM:-0500
TZOFFSETTO:-0400
TZNAME:EDT
DTSTART:20250309T070000
END:DAYLIGHT
BEGIN:STANDARD
TZOFFSETFROM:-0400
TZOFFSETTO:-0500
TZNAME:EST
DTSTART:20251102T060000
END:STANDARD
BEGIN:DAYLIGHT
TZOFFSETFROM:-0500
TZOFFSETTO:-0400
TZNAME:EDT
DTSTART:20260308T070000
END:DAYLIGHT
BEGIN:STANDARD
TZOFFSETFROM:-0400
TZOFFSETTO:-0500
TZNAME:EST
DTSTART:20261101T060000
END:STANDARD
END:VTIMEZONE
BEGIN:VEVENT
DTSTART;TZID=America/New_York:20250426T090000
DTEND;TZID=America/New_York:20250426T140000
DTSTAMP:20260420T222950
CREATED:20250325T123932Z
LAST-MODIFIED:20250325T123932Z
UID:10009242-1745658000-1745676000@www.atlantaparent.com
SUMMARY:Chalk the Block
DESCRIPTION:Create art alongside fellow artists\, enjoy food\, listen to live music and more. Registration requested.
URL:https://www.atlantaparent.com/event/chalk-the-block/
LOCATION:Southwest Arts Center Performance Theater\, 915 New Hope Rd.\, Atlanta
GEO:33.7296843;-84.5415544
X-APPLE-STRUCTURED-LOCATION;VALUE=URI;X-ADDRESS=Southwest Arts Center Performance Theater 915 New Hope Rd. Atlanta;X-APPLE-RADIUS=500;X-TITLE=915 New Hope Rd.:geo:-84.5415544,33.7296843
END:VEVENT
BEGIN:VEVENT
DTSTART;TZID=America/New_York:20250216T150000
DTEND;TZID=America/New_York:20250216T170000
DTSTAMP:20260420T222950
CREATED:20250107T154148Z
LAST-MODIFIED:20250123T181602Z
UID:10006806-1739718000-1739725200@www.atlantaparent.com
SUMMARY:(Sankofa) A Celebration of Our Legacy! A Vision for Our Future!
DESCRIPTION:Envision a bright future as different storytellers from Kuumba Storytellers of Georgia share unique stories. $10-$30; ages 7 and younger\, free.
URL:https://www.atlantaparent.com/event/kuumba-storytellers-of-georgia-annual-historical-black-portraits-storytelling-concert/
LOCATION:Southwest Arts Center Performance Theater\, 915 New Hope Rd.\, Atlanta
ATTACH;FMTTYPE=image/jpeg:https://www.atlantaparent.com/wp-content/uploads/2023/02/KUUMBA-96-scaled-e1705932780378.jpg
GEO:33.7296843;-84.5415544
X-APPLE-STRUCTURED-LOCATION;VALUE=URI;X-ADDRESS=Southwest Arts Center Performance Theater 915 New Hope Rd. Atlanta;X-APPLE-RADIUS=500;X-TITLE=915 New Hope Rd.:geo:-84.5415544,33.7296843
END:VEVENT
BEGIN:VEVENT
DTSTART;VALUE=DATE:20221207
DTEND;VALUE=DATE:20221224
DTSTAMP:20260420T222950
CREATED:20221103T124623Z
LAST-MODIFIED:20221103T124623Z
UID:10006664-1670371200-1671839999@www.atlantaparent.com
SUMMARY:Mother of God
DESCRIPTION:View the story of Mary\, an ordinary woman facing extraordinary circumstances in this musical. Dec. 7-10\, 15-17 and 21-23\, 8 p.m.; Dec. 10-11\, 17-18\, 2:30 p.m. $30-$40.
URL:https://www.atlantaparent.com/event/mother-of-god/
LOCATION:Southwest Arts Center Performance Theater\, 915 New Hope Rd.\, Atlanta
GEO:33.7296843;-84.5415544
X-APPLE-STRUCTURED-LOCATION;VALUE=URI;X-ADDRESS=Southwest Arts Center Performance Theater 915 New Hope Rd. Atlanta;X-APPLE-RADIUS=500;X-TITLE=915 New Hope Rd.:geo:-84.5415544,33.7296843
END:VEVENT
END:VCALENDAR