BEGIN:VCALENDAR
VERSION:2.0
PRODID:-//NEW Atlanta Parent - ECPv6.15.11//NONSGML v1.0//EN
CALSCALE:GREGORIAN
METHOD:PUBLISH
X-ORIGINAL-URL:https://www.atlantaparent.com
X-WR-CALDESC:Events for NEW Atlanta Parent
REFRESH-INTERVAL;VALUE=DURATION:PT1H
X-Robots-Tag:noindex
X-PUBLISHED-TTL:PT1H
BEGIN:VTIMEZONE
TZID:America/New_York
BEGIN:DAYLIGHT
TZOFFSETFROM:-0500
TZOFFSETTO:-0400
TZNAME:EDT
DTSTART:20240310T070000
END:DAYLIGHT
BEGIN:STANDARD
TZOFFSETFROM:-0400
TZOFFSETTO:-0500
TZNAME:EST
DTSTART:20241103T060000
END:STANDARD
BEGIN:DAYLIGHT
TZOFFSETFROM:-0500
TZOFFSETTO:-0400
TZNAME:EDT
DTSTART:20250309T070000
END:DAYLIGHT
BEGIN:STANDARD
TZOFFSETFROM:-0400
TZOFFSETTO:-0500
TZNAME:EST
DTSTART:20251102T060000
END:STANDARD
BEGIN:DAYLIGHT
TZOFFSETFROM:-0500
TZOFFSETTO:-0400
TZNAME:EDT
DTSTART:20260308T070000
END:DAYLIGHT
BEGIN:STANDARD
TZOFFSETFROM:-0400
TZOFFSETTO:-0500
TZNAME:EST
DTSTART:20261101T060000
END:STANDARD
END:VTIMEZONE
BEGIN:VEVENT
DTSTART;TZID=America/New_York:20251129T170000
DTEND;TZID=America/New_York:20251129T200000
DTSTAMP:20260422T114432
CREATED:20251002T044006Z
LAST-MODIFIED:20251002T151848Z
UID:10005470-1764435600-1764446400@www.atlantaparent.com
SUMMARY:Christmas Tree Lighting and Lighted Christmas Parade
DESCRIPTION:Watch the Lighted Christmas Parade from Wisteria Plaza to the Towne Green\, along with a tree lighting\, cookie decorating\, s’mores and more. Free admission; activities\, extra.
URL:https://www.atlantaparent.com/event/virtual-snellville-christmas-tree-lighting/
LOCATION:Snellville Towne Green\, 2437 Main St E\, Snellville
END:VEVENT
BEGIN:VEVENT
DTSTART;TZID=America/New_York:20251025T120000
DTEND;TZID=America/New_York:20251025T180000
DTSTAMP:20260422T114432
CREATED:20250622T132655Z
LAST-MODIFIED:20250626T132906Z
UID:10004345-1761393600-1761415200@www.atlantaparent.com
SUMMARY:Snellville Fall Festival
DESCRIPTION:Shop a wide variety of craft vendors\, enjoy fall flavors\, climb the rock wall\, play mini golf\, ride the train and more. Free admission; activity band\, $15.
URL:https://www.atlantaparent.com/event/snellville-fall-festival/
LOCATION:Snellville Towne Green\, 2437 Main St E\, Snellville
END:VEVENT
BEGIN:VEVENT
DTSTART;TZID=America/New_York:20250913T160000
DTEND;TZID=America/New_York:20250913T200000
DTSTAMP:20260422T114432
CREATED:20250605T192548Z
LAST-MODIFIED:20250625T192418Z
UID:10004359-1757779200-1757793600@www.atlantaparent.com
SUMMARY:Taste of Snellville
DESCRIPTION:This food festival showcases the diversity of Snellville’s dining community with live music. Free admission; food tickets\, $1 each; activity band\, $15.
URL:https://www.atlantaparent.com/event/taste-of-snellville/
LOCATION:Snellville Towne Green\, 2437 Main St E\, Snellville
END:VEVENT
BEGIN:VEVENT
DTSTART;TZID=America/New_York:20250704T160000
DTEND;TZID=America/New_York:20250704T220000
DTSTAMP:20260422T114432
CREATED:20250510T135741Z
LAST-MODIFIED:20250515T193358Z
UID:10007275-1751644800-1751666400@www.atlantaparent.com
SUMMARY:Star Spangled Snellville
DESCRIPTION:Come in your best red\, white and blue for DJ entertainment\, fun\, games and fireworks. Free admission; activities\, extra.
URL:https://www.atlantaparent.com/event/star-spangled-snellville/
LOCATION:Snellville Towne Green\, 2437 Main St E\, Snellville
END:VEVENT
END:VCALENDAR