BEGIN:VCALENDAR
VERSION:2.0
PRODID:-//NEW Atlanta Parent - ECPv6.15.11//NONSGML v1.0//EN
CALSCALE:GREGORIAN
METHOD:PUBLISH
X-WR-CALNAME:NEW Atlanta Parent
X-ORIGINAL-URL:https://www.atlantaparent.com
X-WR-CALDESC:Events for NEW Atlanta Parent
REFRESH-INTERVAL;VALUE=DURATION:PT1H
X-Robots-Tag:noindex
X-PUBLISHED-TTL:PT1H
BEGIN:VTIMEZONE
TZID:America/New_York
BEGIN:DAYLIGHT
TZOFFSETFROM:-0500
TZOFFSETTO:-0400
TZNAME:EDT
DTSTART:20160313T070000
END:DAYLIGHT
BEGIN:STANDARD
TZOFFSETFROM:-0400
TZOFFSETTO:-0500
TZNAME:EST
DTSTART:20161106T060000
END:STANDARD
BEGIN:DAYLIGHT
TZOFFSETFROM:-0500
TZOFFSETTO:-0400
TZNAME:EDT
DTSTART:20170312T070000
END:DAYLIGHT
BEGIN:STANDARD
TZOFFSETFROM:-0400
TZOFFSETTO:-0500
TZNAME:EST
DTSTART:20171105T060000
END:STANDARD
BEGIN:DAYLIGHT
TZOFFSETFROM:-0500
TZOFFSETTO:-0400
TZNAME:EDT
DTSTART:20180311T070000
END:DAYLIGHT
BEGIN:STANDARD
TZOFFSETFROM:-0400
TZOFFSETTO:-0500
TZNAME:EST
DTSTART:20181104T060000
END:STANDARD
BEGIN:DAYLIGHT
TZOFFSETFROM:-0500
TZOFFSETTO:-0400
TZNAME:EDT
DTSTART:20190310T070000
END:DAYLIGHT
BEGIN:STANDARD
TZOFFSETFROM:-0400
TZOFFSETTO:-0500
TZNAME:EST
DTSTART:20191103T060000
END:STANDARD
BEGIN:DAYLIGHT
TZOFFSETFROM:-0500
TZOFFSETTO:-0400
TZNAME:EDT
DTSTART:20200308T070000
END:DAYLIGHT
BEGIN:STANDARD
TZOFFSETFROM:-0400
TZOFFSETTO:-0500
TZNAME:EST
DTSTART:20201101T060000
END:STANDARD
END:VTIMEZONE
BEGIN:VEVENT
DTSTART;VALUE=DATE:20190927
DTEND;VALUE=DATE:20191111
DTSTAMP:20260419T105106
CREATED:20190905T184645Z
LAST-MODIFIED:20191028T130109Z
UID:10002976-1569542400-1573430399@www.atlantaparent.com
SUMMARY:The Sleepy Hollow Experience
DESCRIPTION:Meet the headless horseman of Sleepy Hollow and enjoy this interactive retelling of the classic tale. Rated PG for spooks. Sept. 27-Nov. 10. Sat. and Sun. 2 p.m. less-spooks family show starting Oct. 12. See website for full schedule.
URL:https://www.atlantaparent.com/event/sleepy-hollow-experience/
LOCATION:Serenbe Playhouse\, 10950 Hutchesons Ferry Road\, Chattahoochee Hills
ATTACH;FMTTYPE=image/jpeg:https://www.atlantaparent.com/wp-content/uploads/2018/09/Sleepy-Hollow-Serenbe-Playhouse-b.jpg
GEO:33.5285765;-84.7439602
X-APPLE-STRUCTURED-LOCATION;VALUE=URI;X-ADDRESS=Serenbe Playhouse 10950 Hutchesons Ferry Road Chattahoochee Hills;X-APPLE-RADIUS=500;X-TITLE=10950 Hutchesons Ferry Road:geo:-84.7439602,33.5285765
END:VEVENT
BEGIN:VEVENT
DTSTART;VALUE=DATE:20181006
DTEND;VALUE=DATE:20181028
DTSTAMP:20260419T105106
CREATED:20180912T132803Z
LAST-MODIFIED:20180912T132803Z
UID:10003718-1538784000-1540684799@www.atlantaparent.com
SUMMARY:Spooky Saturdays Theatre Experience
DESCRIPTION:Learn creepy choreography and looming lyrics to hit songs like Thriller and Monster Mash as you participate in the creation of a Monster Musical. Grades K-12 will participate in the creation of the musical and gain skills in acting\, singing and dancing. Each Sat. 11 a.m.-2 p.m. for four weeks.\nFinal performance is October 27\, TBA.
URL:https://www.atlantaparent.com/event/spooky-saturdays-theatre-experience/
LOCATION:Serenbe Playhouse\, 10950 Hutchesons Ferry Road\, Chattahoochee Hills
GEO:33.5285765;-84.7439602
X-APPLE-STRUCTURED-LOCATION;VALUE=URI;X-ADDRESS=Serenbe Playhouse 10950 Hutchesons Ferry Road Chattahoochee Hills;X-APPLE-RADIUS=500;X-TITLE=10950 Hutchesons Ferry Road:geo:-84.7439602,33.5285765
END:VEVENT
BEGIN:VEVENT
DTSTART;VALUE=DATE:20170602
DTEND;VALUE=DATE:20170814
DTSTAMP:20260419T105106
CREATED:20170509T174857Z
LAST-MODIFIED:20170807T131255Z
UID:10002717-1496361600-1502668799@www.atlantaparent.com
SUMMARY:Robin Hood at Serenbe
DESCRIPTION:Our kids were cheering\, “Hip\, Hip\, Huzzah!” well after we left the performance. “Robin Hood” is easily the most entertaining family-friendly play we’ve seen with the kids.     \n            \n\n  \n\n                \n     \nPeyton\, 7\, and Cricket\, 4\, were both enthralled. The play is set in the woods\, where families are greeted by cast members. Popcorn and gold chocolate coins\, as well as mimosas\, can be purchased upon arrival. Families can sit together on benches or the kids can elect to sit on blankets up front. The cast interacts with the children and there is enough adult humor (not crass\, just over heads of young kids) that parents or grandparents will enjoy the show. \nThe cast zip lines back and forth throughout the production and fight scenes are entertaining\, not frightening. The show runs just under an hour and afterward\, guests are invited to interact with the cast and participate in their own obstacle course. Because the show is set outside in the forest\, there were no issues that sometimes arise when taking children to the theater such as darkness\, loud sound systems or flashing lights. \nKnow Before You Go: A portable toilet and bug spray are provided\, but taking care of both before you leave home is a good idea. The drive to Serenbe was close to an hour from North Atlanta\, but the kids agreed that it was well worth it. \n–Lauren Townsend \nEnjoy the classic story of the man who steals from the rich to give to the poor. Characters will fly through Serenbe’s magnificent forest on a zip line\, redistributing wealth as they go. June 2-Aug. 13. Showings 11 a.m. and 2 p.m. Tickets: Adults\, $20; younger than 12\, $10.
URL:https://www.atlantaparent.com/event/robin-hood/
LOCATION:Serenbe Playhouse\, 10950 Hutchesons Ferry Road\, Chattahoochee Hills
ATTACH;FMTTYPE=image/jpeg:https://www.atlantaparent.com/wp-content/uploads/2017/05/Serenbe_RobinHood_small-b.jpg
GEO:33.5285765;-84.7439602
X-APPLE-STRUCTURED-LOCATION;VALUE=URI;X-ADDRESS=Serenbe Playhouse 10950 Hutchesons Ferry Road Chattahoochee Hills;X-APPLE-RADIUS=500;X-TITLE=10950 Hutchesons Ferry Road:geo:-84.7439602,33.5285765
END:VEVENT
END:VCALENDAR