BEGIN:VCALENDAR
VERSION:2.0
PRODID:-//NEW Atlanta Parent - ECPv6.15.11//NONSGML v1.0//EN
CALSCALE:GREGORIAN
METHOD:PUBLISH
X-ORIGINAL-URL:https://www.atlantaparent.com
X-WR-CALDESC:Events for NEW Atlanta Parent
REFRESH-INTERVAL;VALUE=DURATION:PT1H
X-Robots-Tag:noindex
X-PUBLISHED-TTL:PT1H
BEGIN:VTIMEZONE
TZID:America/New_York
BEGIN:DAYLIGHT
TZOFFSETFROM:-0500
TZOFFSETTO:-0400
TZNAME:EDT
DTSTART:20180311T070000
END:DAYLIGHT
BEGIN:STANDARD
TZOFFSETFROM:-0400
TZOFFSETTO:-0500
TZNAME:EST
DTSTART:20181104T060000
END:STANDARD
BEGIN:DAYLIGHT
TZOFFSETFROM:-0500
TZOFFSETTO:-0400
TZNAME:EDT
DTSTART:20190310T070000
END:DAYLIGHT
BEGIN:STANDARD
TZOFFSETFROM:-0400
TZOFFSETTO:-0500
TZNAME:EST
DTSTART:20191103T060000
END:STANDARD
BEGIN:DAYLIGHT
TZOFFSETFROM:-0500
TZOFFSETTO:-0400
TZNAME:EDT
DTSTART:20200308T070000
END:DAYLIGHT
BEGIN:STANDARD
TZOFFSETFROM:-0400
TZOFFSETTO:-0500
TZNAME:EST
DTSTART:20201101T060000
END:STANDARD
BEGIN:DAYLIGHT
TZOFFSETFROM:-0500
TZOFFSETTO:-0400
TZNAME:EDT
DTSTART:20210314T070000
END:DAYLIGHT
BEGIN:STANDARD
TZOFFSETFROM:-0400
TZOFFSETTO:-0500
TZNAME:EST
DTSTART:20211107T060000
END:STANDARD
BEGIN:DAYLIGHT
TZOFFSETFROM:-0500
TZOFFSETTO:-0400
TZNAME:EDT
DTSTART:20220313T070000
END:DAYLIGHT
BEGIN:STANDARD
TZOFFSETFROM:-0400
TZOFFSETTO:-0500
TZNAME:EST
DTSTART:20221106T060000
END:STANDARD
BEGIN:DAYLIGHT
TZOFFSETFROM:-0500
TZOFFSETTO:-0400
TZNAME:EDT
DTSTART:20230312T070000
END:DAYLIGHT
BEGIN:STANDARD
TZOFFSETFROM:-0400
TZOFFSETTO:-0500
TZNAME:EST
DTSTART:20231105T060000
END:STANDARD
BEGIN:DAYLIGHT
TZOFFSETFROM:-0500
TZOFFSETTO:-0400
TZNAME:EDT
DTSTART:20240310T070000
END:DAYLIGHT
BEGIN:STANDARD
TZOFFSETFROM:-0400
TZOFFSETTO:-0500
TZNAME:EST
DTSTART:20241103T060000
END:STANDARD
BEGIN:DAYLIGHT
TZOFFSETFROM:-0500
TZOFFSETTO:-0400
TZNAME:EDT
DTSTART:20250309T070000
END:DAYLIGHT
BEGIN:STANDARD
TZOFFSETFROM:-0400
TZOFFSETTO:-0500
TZNAME:EST
DTSTART:20251102T060000
END:STANDARD
BEGIN:DAYLIGHT
TZOFFSETFROM:-0500
TZOFFSETTO:-0400
TZNAME:EDT
DTSTART:20260308T070000
END:DAYLIGHT
BEGIN:STANDARD
TZOFFSETFROM:-0400
TZOFFSETTO:-0500
TZNAME:EST
DTSTART:20261101T060000
END:STANDARD
END:VTIMEZONE
BEGIN:VEVENT
DTSTART;VALUE=DATE:20251206
DTEND;VALUE=DATE:20251207
DTSTAMP:20260419T205753
CREATED:20251004T014122Z
LAST-MODIFIED:20251027T155709Z
UID:10004554-1764979200-1765065599@www.atlantaparent.com
SUMMARY:Roswell Dance Starz Presents: Clara's Land of Sweets
DESCRIPTION:Join the Sugar Plum Fairy as she hosts a dessert party for Clara and her friends with sweet surprises for all ages. Dec. 6\, 11 a.m. and 3 p.m. $20.
URL:https://www.atlantaparent.com/event/roswell-dance-starz-presents-land-of-sweets/
LOCATION:Roswell Cultural Arts Center\, 950 Forrest St.\, Roswell
ATTACH;FMTTYPE=image/jpeg:https://www.atlantaparent.com/wp-content/uploads/2019/10/Roswell-Dance-Starz-e1572622193645.jpg
END:VEVENT
BEGIN:VEVENT
DTSTART;VALUE=DATE:20200314
DTEND;VALUE=DATE:20200315
DTSTAMP:20260419T205753
CREATED:20200219T222154Z
LAST-MODIFIED:20200224T143121Z
UID:10004925-1584144000-1584230399@www.atlantaparent.com
SUMMARY:Journey to Oz
DESCRIPTION:Dorothy\, Scarecrow\, Tin Man and Cowardly Lion dance down the yellow brick road in this performance by Roswell Dance Starz. March 14\, 3 and 7 p.m.
URL:https://www.atlantaparent.com/event/journey-to-oz/
LOCATION:Roswell Cultural Arts Center\, 950 Forrest St.\, Roswell
ATTACH;FMTTYPE=image/jpeg:https://www.atlantaparent.com/wp-content/uploads/2020/02/Roswell-Dance-Starz-Oz-b-e1582554669926.jpg
END:VEVENT
BEGIN:VEVENT
DTSTART;VALUE=DATE:20191220
DTEND;VALUE=DATE:20191222
DTSTAMP:20260419T205753
CREATED:20241007T181918Z
LAST-MODIFIED:20241010T183305Z
UID:10004626-1576800000-1576972799@www.atlantaparent.com
SUMMARY:Roswell Dance Starz Presents The Holiday Express
DESCRIPTION:Go on an enchanted journey to the North Pole. Dec. 7\, 11 a.m. and 3 p.m. $16.50.
URL:https://www.atlantaparent.com/event/frozen-jr/
LOCATION:Roswell Cultural Arts Center\, 950 Forrest St.\, Roswell
END:VEVENT
BEGIN:VEVENT
DTSTART;VALUE=DATE:20190209
DTEND;VALUE=DATE:20190210
DTSTAMP:20260419T205753
CREATED:20190124T211724Z
LAST-MODIFIED:20190125T015251Z
UID:10003964-1549670400-1549756799@www.atlantaparent.com
SUMMARY:Cirquescape
DESCRIPTION:Dance styles in this show include hip hop\, modern/contemporary\, character\, ballet\, tap and jazz performed by 7-18-year-olds from the Roswell Dance Starz. Feb. 9. 1 and 6 p.m.
URL:https://www.atlantaparent.com/event/cirquescape/
LOCATION:Roswell Cultural Arts Center\, 950 Forrest St.\, Roswell
END:VEVENT
END:VCALENDAR