BEGIN:VCALENDAR
VERSION:2.0
PRODID:-//NEW Atlanta Parent - ECPv6.15.11//NONSGML v1.0//EN
CALSCALE:GREGORIAN
METHOD:PUBLISH
X-WR-CALNAME:NEW Atlanta Parent
X-ORIGINAL-URL:https://www.atlantaparent.com
X-WR-CALDESC:Events for NEW Atlanta Parent
REFRESH-INTERVAL;VALUE=DURATION:PT1H
X-Robots-Tag:noindex
X-PUBLISHED-TTL:PT1H
BEGIN:VTIMEZONE
TZID:UTC
BEGIN:STANDARD
TZOFFSETFROM:+0000
TZOFFSETTO:+0000
TZNAME:UTC
DTSTART:20190101T000000
END:STANDARD
END:VTIMEZONE
BEGIN:VTIMEZONE
TZID:America/New_York
BEGIN:DAYLIGHT
TZOFFSETFROM:-0500
TZOFFSETTO:-0400
TZNAME:EDT
DTSTART:20160313T070000
END:DAYLIGHT
BEGIN:STANDARD
TZOFFSETFROM:-0400
TZOFFSETTO:-0500
TZNAME:EST
DTSTART:20161106T060000
END:STANDARD
BEGIN:DAYLIGHT
TZOFFSETFROM:-0500
TZOFFSETTO:-0400
TZNAME:EDT
DTSTART:20170312T070000
END:DAYLIGHT
BEGIN:STANDARD
TZOFFSETFROM:-0400
TZOFFSETTO:-0500
TZNAME:EST
DTSTART:20171105T060000
END:STANDARD
BEGIN:DAYLIGHT
TZOFFSETFROM:-0500
TZOFFSETTO:-0400
TZNAME:EDT
DTSTART:20180311T070000
END:DAYLIGHT
BEGIN:STANDARD
TZOFFSETFROM:-0400
TZOFFSETTO:-0500
TZNAME:EST
DTSTART:20181104T060000
END:STANDARD
BEGIN:DAYLIGHT
TZOFFSETFROM:-0500
TZOFFSETTO:-0400
TZNAME:EDT
DTSTART:20190310T070000
END:DAYLIGHT
BEGIN:STANDARD
TZOFFSETFROM:-0400
TZOFFSETTO:-0500
TZNAME:EST
DTSTART:20191103T060000
END:STANDARD
BEGIN:DAYLIGHT
TZOFFSETFROM:-0500
TZOFFSETTO:-0400
TZNAME:EDT
DTSTART:20200308T070000
END:DAYLIGHT
BEGIN:STANDARD
TZOFFSETFROM:-0400
TZOFFSETTO:-0500
TZNAME:EST
DTSTART:20201101T060000
END:STANDARD
END:VTIMEZONE
BEGIN:VEVENT
DTSTART;TZID=UTC:20201213T163000
DTEND;TZID=UTC:20201213T193000
DTSTAMP:20260425T140203
CREATED:20201118T050024Z
LAST-MODIFIED:20201118T224836Z
UID:10000623-1607877000-1607887800@www.atlantaparent.com
SUMMARY:Drive-In Chanukah
DESCRIPTION:Hosted by Chabad Intown\, experience a Chanukah celebration with a menorah lighting\, films and dinner. Dec. 13\, 4:30-7:30 p.m. Free; registration required.
URL:https://www.atlantaparent.com/event/menorah-lighting-3/
LOCATION:Ponce City Market\, 675 Ponce de Leon Ave\, Atlanta
ATTACH;FMTTYPE=image/jpeg:https://www.atlantaparent.com/wp-content/uploads/2019/10/Decatur-2-e1573148044598.jpg
GEO:33.7725173;-84.3659673
X-APPLE-STRUCTURED-LOCATION;VALUE=URI;X-ADDRESS=Ponce City Market 675 Ponce de Leon Ave Atlanta;X-APPLE-RADIUS=500;X-TITLE=675 Ponce de Leon Ave:geo:-84.3659673,33.7725173
END:VEVENT
BEGIN:VEVENT
DTSTART;TZID=America/New_York:20191129T110000
DTEND;TZID=America/New_York:20191224T180000
DTSTAMP:20260425T140203
CREATED:20191115T142447Z
LAST-MODIFIED:20191203T161620Z
UID:10004748-1575025200-1577210400@www.atlantaparent.com
SUMMARY:Naughty v. Nice Holiday Spectacular
DESCRIPTION:Take photos with the naughty and nice duo\, Santa Claus and The Grinch\, and write letters for delivery to the South Pole and North Pole. Photo opportunities can be reserved onsite\, so you can shop while waiting for your turn. Santa will be available for photos on Sun. through Dec. 22\, as well as Dec. 23 and 24. Take photos with the Grinch Sat. and Sun. through Dec. 22. \nOther holiday events at PCM include: King of Pops’ Tree Elves Holiday Forest\, a menorah lighting celebration and ice skating.
URL:https://www.atlantaparent.com/event/naughty-v-nice-holiday-spectacular/
LOCATION:Ponce City Market\, 675 Ponce de Leon Ave\, Atlanta
GEO:33.7725173;-84.3659673
X-APPLE-STRUCTURED-LOCATION;VALUE=URI;X-ADDRESS=Ponce City Market 675 Ponce de Leon Ave Atlanta;X-APPLE-RADIUS=500;X-TITLE=675 Ponce de Leon Ave:geo:-84.3659673,33.7725173
END:VEVENT
BEGIN:VEVENT
DTSTART;VALUE=DATE:20171124
DTEND;VALUE=DATE:20171225
DTSTAMP:20260425T140203
CREATED:20171114T050012Z
LAST-MODIFIED:20171114T153558Z
UID:10002434-1511481600-1514159999@www.atlantaparent.com
SUMMARY:Santa and Grinch Appearance
DESCRIPTION:Come visit the second floor and meet these iconic characters. Santa’s workshops with gift-wrapping and stocking-stuffing stations. Through Dec. 24. Daily.
URL:https://www.atlantaparent.com/event/santa-grinch-appearance/
LOCATION:Ponce City Market\, 675 Ponce de Leon Ave\, Atlanta
GEO:33.7725173;-84.3659673
X-APPLE-STRUCTURED-LOCATION;VALUE=URI;X-ADDRESS=Ponce City Market 675 Ponce de Leon Ave Atlanta;X-APPLE-RADIUS=500;X-TITLE=675 Ponce de Leon Ave:geo:-84.3659673,33.7725173
END:VEVENT
END:VCALENDAR