BEGIN:VCALENDAR
VERSION:2.0
PRODID:-//NEW Atlanta Parent - ECPv6.15.11//NONSGML v1.0//EN
CALSCALE:GREGORIAN
METHOD:PUBLISH
X-ORIGINAL-URL:https://www.atlantaparent.com
X-WR-CALDESC:Events for NEW Atlanta Parent
REFRESH-INTERVAL;VALUE=DURATION:PT1H
X-Robots-Tag:noindex
X-PUBLISHED-TTL:PT1H
BEGIN:VTIMEZONE
TZID:America/New_York
BEGIN:DAYLIGHT
TZOFFSETFROM:-0500
TZOFFSETTO:-0400
TZNAME:EDT
DTSTART:20210314T070000
END:DAYLIGHT
BEGIN:STANDARD
TZOFFSETFROM:-0400
TZOFFSETTO:-0500
TZNAME:EST
DTSTART:20211107T060000
END:STANDARD
BEGIN:DAYLIGHT
TZOFFSETFROM:-0500
TZOFFSETTO:-0400
TZNAME:EDT
DTSTART:20220313T070000
END:DAYLIGHT
BEGIN:STANDARD
TZOFFSETFROM:-0400
TZOFFSETTO:-0500
TZNAME:EST
DTSTART:20221106T060000
END:STANDARD
BEGIN:DAYLIGHT
TZOFFSETFROM:-0500
TZOFFSETTO:-0400
TZNAME:EDT
DTSTART:20230312T070000
END:DAYLIGHT
BEGIN:STANDARD
TZOFFSETFROM:-0400
TZOFFSETTO:-0500
TZNAME:EST
DTSTART:20231105T060000
END:STANDARD
BEGIN:DAYLIGHT
TZOFFSETFROM:-0500
TZOFFSETTO:-0400
TZNAME:EDT
DTSTART:20240310T070000
END:DAYLIGHT
BEGIN:STANDARD
TZOFFSETFROM:-0400
TZOFFSETTO:-0500
TZNAME:EST
DTSTART:20241103T060000
END:STANDARD
END:VTIMEZONE
BEGIN:VEVENT
DTSTART;TZID=America/New_York:20230311T190000
DTEND;TZID=America/New_York:20230311T190000
DTSTAMP:20260419T182342
CREATED:20230307T154559Z
LAST-MODIFIED:20230307T154559Z
UID:10006783-1678561200-1678561200@www.atlantaparent.com
SUMMARY:The Lion King\, Jr.
DESCRIPTION:Pinecrest Academy presents “The Lion King\, Jr.” for a family-friendly production. March 9 and 11\, 7 p.m. Free admission; donations to the Theatrical Arts Program accepted.
URL:https://www.atlantaparent.com/event/the-lion-king-jr/2023-03-11/
LOCATION:Pinecrest Academy\, 955 Peachtree Pkwy.\, Cumming
GEO:34.1363959;-84.1698083
X-APPLE-STRUCTURED-LOCATION;VALUE=URI;X-ADDRESS=Pinecrest Academy 955 Peachtree Pkwy. Cumming;X-APPLE-RADIUS=500;X-TITLE=955 Peachtree Pkwy.:geo:-84.1698083,34.1363959
END:VEVENT
BEGIN:VEVENT
DTSTART;TZID=America/New_York:20230225T070000
DTEND;TZID=America/New_York:20230225T070000
DTSTAMP:20260419T182342
CREATED:20230123T214359Z
LAST-MODIFIED:20230123T214359Z
UID:10006752-1677308400-1677308400@www.atlantaparent.com
SUMMARY:Paladin Pacer 5K and Fun Run
DESCRIPTION:Run or walk on Pinecrest Academy’s 68-acre campus for a fun trail race\, and participate in a costume contest. $20.
URL:https://www.atlantaparent.com/event/paladin-pacer-5k-and-fun-run/
LOCATION:Pinecrest Academy\, 955 Peachtree Pkwy.\, Cumming
GEO:34.1363959;-84.1698083
X-APPLE-STRUCTURED-LOCATION;VALUE=URI;X-ADDRESS=Pinecrest Academy 955 Peachtree Pkwy. Cumming;X-APPLE-RADIUS=500;X-TITLE=955 Peachtree Pkwy.:geo:-84.1698083,34.1363959
END:VEVENT
BEGIN:VEVENT
DTSTART;TZID=America/New_York:20220912T190000
DTEND;TZID=America/New_York:20220913T190000
DTSTAMP:20260419T182342
CREATED:20220817T135819Z
LAST-MODIFIED:20220817T135819Z
UID:10006491-1663009200-1663095600@www.atlantaparent.com
SUMMARY:Parenting with Love and Leadership and Understanding and Managing Your Teenager
DESCRIPTION:Author\, syndicated columnist and family psychologist John Rosemond will speak on “Parenting with Love and Leadership” on Sept. 12 at 7 p.m. and “Understanding and Managing Your Teenager” on Sept. 13 at 7 p.m. Free; registration required.
URL:https://www.atlantaparent.com/event/parenting-with-love-and-leadership-and-understanding-and-managing-your-teenager/
LOCATION:Pinecrest Academy\, 955 Peachtree Pkwy.\, Cumming
GEO:34.1363959;-84.1698083
X-APPLE-STRUCTURED-LOCATION;VALUE=URI;X-ADDRESS=Pinecrest Academy 955 Peachtree Pkwy. Cumming;X-APPLE-RADIUS=500;X-TITLE=955 Peachtree Pkwy.:geo:-84.1698083,34.1363959
END:VEVENT
END:VCALENDAR