BEGIN:VCALENDAR
VERSION:2.0
PRODID:-//NEW Atlanta Parent - ECPv6.15.11//NONSGML v1.0//EN
CALSCALE:GREGORIAN
METHOD:PUBLISH
X-ORIGINAL-URL:https://www.atlantaparent.com
X-WR-CALDESC:Events for NEW Atlanta Parent
REFRESH-INTERVAL;VALUE=DURATION:PT1H
X-Robots-Tag:noindex
X-PUBLISHED-TTL:PT1H
BEGIN:VTIMEZONE
TZID:America/New_York
BEGIN:DAYLIGHT
TZOFFSETFROM:-0500
TZOFFSETTO:-0400
TZNAME:EDT
DTSTART:20210314T070000
END:DAYLIGHT
BEGIN:STANDARD
TZOFFSETFROM:-0400
TZOFFSETTO:-0500
TZNAME:EST
DTSTART:20211107T060000
END:STANDARD
BEGIN:DAYLIGHT
TZOFFSETFROM:-0500
TZOFFSETTO:-0400
TZNAME:EDT
DTSTART:20220313T070000
END:DAYLIGHT
BEGIN:STANDARD
TZOFFSETFROM:-0400
TZOFFSETTO:-0500
TZNAME:EST
DTSTART:20221106T060000
END:STANDARD
BEGIN:DAYLIGHT
TZOFFSETFROM:-0500
TZOFFSETTO:-0400
TZNAME:EDT
DTSTART:20230312T070000
END:DAYLIGHT
BEGIN:STANDARD
TZOFFSETFROM:-0400
TZOFFSETTO:-0500
TZNAME:EST
DTSTART:20231105T060000
END:STANDARD
END:VTIMEZONE
BEGIN:VEVENT
DTSTART;TZID=America/New_York:20221216T180000
DTEND;TZID=America/New_York:20221216T200000
DTSTAMP:20260422T154934
CREATED:20191126T024626Z
LAST-MODIFIED:20221027T144325Z
UID:10004828-1671213600-1671220800@www.atlantaparent.com
SUMMARY:Family Snow Day
DESCRIPTION:Wear your holiday pajamas to participate in a snowball fight\, play games\, create crafts and more. $6.
URL:https://www.atlantaparent.com/event/family-snow-day/
LOCATION:Pinckneyville Park Community Recreation Center\, 4758 S. Old Peachtree Rd.\, Norcross
GEO:33.9640069;-84.1890259
X-APPLE-STRUCTURED-LOCATION;VALUE=URI;X-ADDRESS=Pinckneyville Park Community Recreation Center 4758 S. Old Peachtree Rd. Norcross;X-APPLE-RADIUS=500;X-TITLE=4758 S. Old Peachtree Rd.:geo:-84.1890259,33.9640069
END:VEVENT
END:VCALENDAR