BEGIN:VCALENDAR
VERSION:2.0
PRODID:-//NEW Atlanta Parent - ECPv6.15.11//NONSGML v1.0//EN
CALSCALE:GREGORIAN
METHOD:PUBLISH
X-ORIGINAL-URL:https://www.atlantaparent.com
X-WR-CALDESC:Events for NEW Atlanta Parent
REFRESH-INTERVAL;VALUE=DURATION:PT1H
X-Robots-Tag:noindex
X-PUBLISHED-TTL:PT1H
BEGIN:VTIMEZONE
TZID:UTC
BEGIN:STANDARD
TZOFFSETFROM:+0000
TZOFFSETTO:+0000
TZNAME:UTC
DTSTART:20220101T000000
END:STANDARD
END:VTIMEZONE
BEGIN:VTIMEZONE
TZID:America/New_York
BEGIN:DAYLIGHT
TZOFFSETFROM:-0500
TZOFFSETTO:-0400
TZNAME:EDT
DTSTART:20170312T070000
END:DAYLIGHT
BEGIN:STANDARD
TZOFFSETFROM:-0400
TZOFFSETTO:-0500
TZNAME:EST
DTSTART:20171105T060000
END:STANDARD
BEGIN:DAYLIGHT
TZOFFSETFROM:-0500
TZOFFSETTO:-0400
TZNAME:EDT
DTSTART:20180311T070000
END:DAYLIGHT
BEGIN:STANDARD
TZOFFSETFROM:-0400
TZOFFSETTO:-0500
TZNAME:EST
DTSTART:20181104T060000
END:STANDARD
BEGIN:DAYLIGHT
TZOFFSETFROM:-0500
TZOFFSETTO:-0400
TZNAME:EDT
DTSTART:20190310T070000
END:DAYLIGHT
BEGIN:STANDARD
TZOFFSETFROM:-0400
TZOFFSETTO:-0500
TZNAME:EST
DTSTART:20191103T060000
END:STANDARD
BEGIN:DAYLIGHT
TZOFFSETFROM:-0500
TZOFFSETTO:-0400
TZNAME:EDT
DTSTART:20200308T070000
END:DAYLIGHT
BEGIN:STANDARD
TZOFFSETFROM:-0400
TZOFFSETTO:-0500
TZNAME:EST
DTSTART:20201101T060000
END:STANDARD
BEGIN:DAYLIGHT
TZOFFSETFROM:-0500
TZOFFSETTO:-0400
TZNAME:EDT
DTSTART:20210314T070000
END:DAYLIGHT
BEGIN:STANDARD
TZOFFSETFROM:-0400
TZOFFSETTO:-0500
TZNAME:EST
DTSTART:20211107T060000
END:STANDARD
BEGIN:DAYLIGHT
TZOFFSETFROM:-0500
TZOFFSETTO:-0400
TZNAME:EDT
DTSTART:20220313T070000
END:DAYLIGHT
BEGIN:STANDARD
TZOFFSETFROM:-0400
TZOFFSETTO:-0500
TZNAME:EST
DTSTART:20221106T060000
END:STANDARD
BEGIN:DAYLIGHT
TZOFFSETFROM:-0500
TZOFFSETTO:-0400
TZNAME:EDT
DTSTART:20230312T070000
END:DAYLIGHT
BEGIN:STANDARD
TZOFFSETFROM:-0400
TZOFFSETTO:-0500
TZNAME:EST
DTSTART:20231105T060000
END:STANDARD
BEGIN:DAYLIGHT
TZOFFSETFROM:-0500
TZOFFSETTO:-0400
TZNAME:EDT
DTSTART:20240310T070000
END:DAYLIGHT
BEGIN:STANDARD
TZOFFSETFROM:-0400
TZOFFSETTO:-0500
TZNAME:EST
DTSTART:20241103T060000
END:STANDARD
BEGIN:DAYLIGHT
TZOFFSETFROM:-0500
TZOFFSETTO:-0400
TZNAME:EDT
DTSTART:20250309T070000
END:DAYLIGHT
BEGIN:STANDARD
TZOFFSETFROM:-0400
TZOFFSETTO:-0500
TZNAME:EST
DTSTART:20251102T060000
END:STANDARD
BEGIN:DAYLIGHT
TZOFFSETFROM:-0500
TZOFFSETTO:-0400
TZNAME:EDT
DTSTART:20260308T070000
END:DAYLIGHT
BEGIN:STANDARD
TZOFFSETFROM:-0400
TZOFFSETTO:-0500
TZNAME:EST
DTSTART:20261101T060000
END:STANDARD
END:VTIMEZONE
BEGIN:VEVENT
DTSTART;VALUE=DATE:20260410
DTEND;VALUE=DATE:20260413
DTSTAMP:20260421T103411
CREATED:20240201T050056Z
LAST-MODIFIED:20260413T123031Z
UID:10001267-1775779200-1776038399@www.atlantaparent.com
SUMMARY:Dogwood Festival
DESCRIPTION:The Atlanta Dogwood Festival is April 10-12 in Piedmont Park! Don’t miss this family favorite\, with a Kids Village presented by Dollywood in Pigeon Forge\, Tennessee\, live entertainment\, an artists’ market\, giant inflatables and amusement rides in the meadow and much more. The Kids Village is at Oak Hill\, inside the 12th Street entrance. On Saturday and Sunday\, enjoy pop-up fun with Atlanta Parent! Stop by to spin the prize wheel and pick up a copy of our April issue. $5-$10.     \n            \n\n  \n\n                \n     \nPlay at the Kids Village\nThere’s plenty of fun at the Kids Village! Play\, see a puppet show\, try the spider jump\, help color the mural and more! Friday-Sunday. \nCircus Fun!\nThe pros from Circus Camp will present interactive performances on aerial rig\, a hula hopping area\, balloon animals\, interactive juggling\, and giveaways! Saturday and Sunday. \nTake Care of a Teddy Bear\nBe a doctor and treat a furry friend at the Teddy Bear Hospital with play stethoscopes\, bandages and thermometers. Saturday and Sunday. \nCrafting Fun\nGet creative at the make-and-take art area! Make a glitter mask\, rainbow paper plate and more. Saturday and Sunday. \nPrincess-Pretty Nails\nHave a seat at the “spa” table and have a princess glam manicure! Saturday and Sunday.
URL:https://www.atlantaparent.com/event/dogwood-festival/
LOCATION:Piedmont Park\, 929 Charles Allen Dr.\, Atlanta\, GA\, United States
ATTACH;FMTTYPE=image/jpeg:https://www.atlantaparent.com/wp-content/uploads/2021/04/ADF14_048-scaled-e1680795241679.jpg
GEO:33.780743;-84.37076
X-APPLE-STRUCTURED-LOCATION;VALUE=URI;X-ADDRESS=Piedmont Park 929 Charles Allen Dr. Atlanta GA United States;X-APPLE-RADIUS=500;X-TITLE=929 Charles Allen Dr.:geo:-84.37076,33.780743
END:VEVENT
BEGIN:VEVENT
DTSTART;TZID=UTC:20260321T100000
DTEND;TZID=UTC:20260321T160000
DTSTAMP:20260421T103411
CREATED:20260201T150310Z
LAST-MODIFIED:20260225T151550Z
UID:10002109-1774087200-1774108800@www.atlantaparent.com
SUMMARY:Atlanta Science Festival's Exploration Expo
DESCRIPTION:Free\, interactive science event with family-focused demos\, experiments\, performances and hands-on science booths.
URL:https://www.atlantaparent.com/event/atlanta-science-festival-exploration-expo/
LOCATION:Piedmont Park\, 929 Charles Allen Dr.\, Atlanta\, GA\, United States
ATTACH;FMTTYPE=image/jpeg:https://www.atlantaparent.com/wp-content/uploads/2019/02/ASF-Expo-Organ.jpg
GEO:33.780743;-84.37076
X-APPLE-STRUCTURED-LOCATION;VALUE=URI;X-ADDRESS=Piedmont Park 929 Charles Allen Dr. Atlanta GA United States;X-APPLE-RADIUS=500;X-TITLE=929 Charles Allen Dr.:geo:-84.37076,33.780743
END:VEVENT
BEGIN:VEVENT
DTSTART;VALUE=DATE:20251129
DTEND;VALUE=DATE:20251201
DTSTAMP:20260421T103411
CREATED:20251101T144046Z
LAST-MODIFIED:20251103T204812Z
UID:10006699-1764374400-1764547199@www.atlantaparent.com
SUMMARY:Piedmont Holiday Gift Market
DESCRIPTION:Get into the spirit of gift-giving with shopping\, holiday music and hot cocoa. Nov. 29\, 10 a.m.-5 p.m. and Nov. 30\, 11 a.m.-5 p.m. Free admission.
URL:https://www.atlantaparent.com/event/piedmont-holiday-gift-market/
LOCATION:Piedmont Park\, 929 Charles Allen Dr.\, Atlanta\, GA\, United States
GEO:33.780743;-84.37076
X-APPLE-STRUCTURED-LOCATION;VALUE=URI;X-ADDRESS=Piedmont Park 929 Charles Allen Dr. Atlanta GA United States;X-APPLE-RADIUS=500;X-TITLE=929 Charles Allen Dr.:geo:-84.37076,33.780743
END:VEVENT
BEGIN:VEVENT
DTSTART;VALUE=DATE:20250726
DTEND;VALUE=DATE:20250727
DTSTAMP:20260421T103411
CREATED:20250210T164616Z
LAST-MODIFIED:20250728T123645Z
UID:10002881-1753488000-1753574399@www.atlantaparent.com
SUMMARY:Atlanta Ice Cream Festival
DESCRIPTION:Enjoy tons of ice cream and family fun at this food festival. Free admission.
URL:https://www.atlantaparent.com/event/atlanta-ice-cream-festival/
LOCATION:Piedmont Park\, 929 Charles Allen Dr.\, Atlanta\, GA\, United States
ATTACH;FMTTYPE=image/jpeg:https://www.atlantaparent.com/wp-content/uploads/2023/05/2.jpg
GEO:33.780743;-84.37076
X-APPLE-STRUCTURED-LOCATION;VALUE=URI;X-ADDRESS=Piedmont Park 929 Charles Allen Dr. Atlanta GA United States;X-APPLE-RADIUS=500;X-TITLE=929 Charles Allen Dr.:geo:-84.37076,33.780743
END:VEVENT
BEGIN:VEVENT
DTSTART;VALUE=DATE:20240608
DTEND;VALUE=DATE:20240609
DTSTAMP:20260421T103411
CREATED:20240427T144413Z
LAST-MODIFIED:20240516T160229Z
UID:10006367-1717804800-1717891199@www.atlantaparent.com
SUMMARY:Superhero Sprint
DESCRIPTION:The Strong4Life Superhero Sprint raises proceeds to benefit Children’s Healthcare of Atlanta’s Strong4Life program. June 8\, 7:30-10 a.m. $25-$30; 5K and 1 Mile Fun Run for ages 12 and younger\, $15.
URL:https://www.atlantaparent.com/event/superhero-sprint/
LOCATION:Piedmont Park\, 929 Charles Allen Dr.\, Atlanta\, GA\, United States
GEO:33.780743;-84.37076
X-APPLE-STRUCTURED-LOCATION;VALUE=URI;X-ADDRESS=Piedmont Park 929 Charles Allen Dr. Atlanta GA United States;X-APPLE-RADIUS=500;X-TITLE=929 Charles Allen Dr.:geo:-84.37076,33.780743
END:VEVENT
BEGIN:VEVENT
DTSTART;TZID=America/New_York:20230617T120000
DTEND;TZID=America/New_York:20230617T150000
DTSTAMP:20260421T103411
CREATED:20230601T160450Z
LAST-MODIFIED:20230601T160450Z
UID:10006893-1687003200-1687014000@www.atlantaparent.com
SUMMARY:Mayfield Creamery's Birthday Bash
DESCRIPTION:Celebrate Mayfield Creamery’s 100th birthday with free ice cream\, games\, activities\, live music from a DJ and more.
URL:https://www.atlantaparent.com/event/mayfield-creamerys-birthday-bash/
LOCATION:Piedmont Park\, 929 Charles Allen Dr.\, Atlanta\, GA\, United States
GEO:33.780743;-84.37076
X-APPLE-STRUCTURED-LOCATION;VALUE=URI;X-ADDRESS=Piedmont Park 929 Charles Allen Dr. Atlanta GA United States;X-APPLE-RADIUS=500;X-TITLE=929 Charles Allen Dr.:geo:-84.37076,33.780743
END:VEVENT
BEGIN:VEVENT
DTSTART;VALUE=DATE:20230527
DTEND;VALUE=DATE:20230530
DTSTAMP:20260421T103411
CREATED:20200305T050042Z
LAST-MODIFIED:20230329T124928Z
UID:10001584-1685145600-1685404799@www.atlantaparent.com
SUMMARY:Atlanta Jazz Festival
DESCRIPTION:Photo by Drew Dinwiddie \nThis three-day festival showcases many of the best performers and jazz acts in the country. May 27-29\, 11 a.m.-11 p.m. Free admission.
URL:https://www.atlantaparent.com/event/atlanta-jazz-festival/
LOCATION:Piedmont Park\, 929 Charles Allen Dr.\, Atlanta\, GA\, United States
ATTACH;FMTTYPE=image/jpeg:https://www.atlantaparent.com/wp-content/uploads/2020/03/Lizz-Wright-Photo-by-Drew-Dinwiddie_JF-Day-1-LD-Edits-48-of-48-scaled-e1627501465499.jpg
GEO:33.780743;-84.37076
X-APPLE-STRUCTURED-LOCATION;VALUE=URI;X-ADDRESS=Piedmont Park 929 Charles Allen Dr. Atlanta GA United States;X-APPLE-RADIUS=500;X-TITLE=929 Charles Allen Dr.:geo:-84.37076,33.780743
END:VEVENT
BEGIN:VEVENT
DTSTART;TZID=America/New_York:20211016T110000
DTEND;TZID=America/New_York:20211016T170000
DTSTAMP:20260421T103411
CREATED:20210730T145226Z
LAST-MODIFIED:20210730T145226Z
UID:10005913-1634382000-1634403600@www.atlantaparent.com
SUMMARY:Dog Festival & Party
DESCRIPTION:Dogs and their owners get to play with interactive dog game stations\, shop pet vendors\, participate in an interactive dog art project\, compete in a Howl-O-Ween costume contest and more. Free admission; registration required. From Oct. 1-16\, participate in fun virtual challenges for you and your dog.
URL:https://www.atlantaparent.com/event/dog-festival-party/
LOCATION:Piedmont Park\, 929 Charles Allen Dr.\, Atlanta\, GA\, United States
GEO:33.780743;-84.37076
X-APPLE-STRUCTURED-LOCATION;VALUE=URI;X-ADDRESS=Piedmont Park 929 Charles Allen Dr. Atlanta GA United States;X-APPLE-RADIUS=500;X-TITLE=929 Charles Allen Dr.:geo:-84.37076,33.780743
END:VEVENT
BEGIN:VEVENT
DTSTART;TZID=America/New_York:20210627T100000
DTEND;TZID=America/New_York:20210627T150000
DTSTAMP:20260421T103411
CREATED:20210617T165530Z
LAST-MODIFIED:20210617T165530Z
UID:10005870-1624788000-1624806000@www.atlantaparent.com
SUMMARY:Chuck E. Cheese Summer of Fun Concert Tour
DESCRIPTION:Daniel Wagner/AP Images for CEC Entertainment \nChuck E. Cheese and Munch’s Make Believe Band are celebrating the release of their new album with a free concert. June 27\, 10 a.m.\, 1 and 3 p.m.
URL:https://www.atlantaparent.com/event/chuck-e-cheese-summer-of-fun-concert-tour/
LOCATION:Piedmont Park\, 929 Charles Allen Dr.\, Atlanta\, GA\, United States
ATTACH;FMTTYPE=image/jpeg:https://www.atlantaparent.com/wp-content/uploads/2021/06/ChuckCheese-003-scaled-e1623948903713.jpg
GEO:33.780743;-84.37076
X-APPLE-STRUCTURED-LOCATION;VALUE=URI;X-ADDRESS=Piedmont Park 929 Charles Allen Dr. Atlanta GA United States;X-APPLE-RADIUS=500;X-TITLE=929 Charles Allen Dr.:geo:-84.37076,33.780743
END:VEVENT
BEGIN:VEVENT
DTSTART;VALUE=DATE:20190801
DTEND;VALUE=DATE:20190805
DTSTAMP:20260421T103411
CREATED:20190722T180651Z
LAST-MODIFIED:20190722T180651Z
UID:10004325-1564617600-1564963199@www.atlantaparent.com
SUMMARY:Atlanta Balloon Glow
DESCRIPTION:Experience the glow of hot air balloons each evening at dusk. Tethered hot air balloon rides\, food trucks\, retail vendors and activities will also be available. Aug. 1-4. 5-9 p.m.
URL:https://www.atlantaparent.com/event/atlanta-balloon-glow/
LOCATION:Piedmont Park\, 929 Charles Allen Dr.\, Atlanta\, GA\, United States
GEO:33.780743;-84.37076
X-APPLE-STRUCTURED-LOCATION;VALUE=URI;X-ADDRESS=Piedmont Park 929 Charles Allen Dr. Atlanta GA United States;X-APPLE-RADIUS=500;X-TITLE=929 Charles Allen Dr.:geo:-84.37076,33.780743
END:VEVENT
BEGIN:VEVENT
DTSTART;TZID=America/New_York:20181027T130000
DTEND;TZID=America/New_York:20181027T180000
DTSTAMP:20260421T103411
CREATED:20180918T181512Z
LAST-MODIFIED:20180919T162401Z
UID:10002412-1540645200-1540663200@www.atlantaparent.com
SUMMARY:World Kite Festival and Expo
DESCRIPTION:Fly your kite\, buy one or watch the experts. Food\, entertainment and kids fun zone with face painting\, photo booth and more. 10th St. between Charles Allen Dr. and Monroe St. Free.
URL:https://www.atlantaparent.com/event/world-kite-festival-expo/
LOCATION:Piedmont Park\, 929 Charles Allen Dr.\, Atlanta\, GA\, United States
GEO:33.780743;-84.37076
X-APPLE-STRUCTURED-LOCATION;VALUE=URI;X-ADDRESS=Piedmont Park 929 Charles Allen Dr. Atlanta GA United States;X-APPLE-RADIUS=500;X-TITLE=929 Charles Allen Dr.:geo:-84.37076,33.780743
END:VEVENT
BEGIN:VEVENT
DTSTART;TZID=America/New_York:20180623T093000
DTEND;TZID=America/New_York:20180623T093000
DTSTAMP:20260421T103411
CREATED:20180531T020500Z
LAST-MODIFIED:20180531T020500Z
UID:10003593-1529746200-1529746200@www.atlantaparent.com
SUMMARY:The Stroller Run
DESCRIPTION:5k dedicated to runners and their kids that benefits local children’s charities. Decorate your stroller\, dress up the kids and “run like a mom” (even if you’re a dad). Afterward\, drop your kids off at the free children’s camp so you can shop at the Mom Expo. $45-$50; children ages 5 and older not in a stroller\, $5.
URL:https://www.atlantaparent.com/event/the-stroller-run/
LOCATION:Piedmont Park\, 929 Charles Allen Dr.\, Atlanta\, GA\, United States
GEO:33.780743;-84.37076
X-APPLE-STRUCTURED-LOCATION;VALUE=URI;X-ADDRESS=Piedmont Park 929 Charles Allen Dr. Atlanta GA United States;X-APPLE-RADIUS=500;X-TITLE=929 Charles Allen Dr.:geo:-84.37076,33.780743
END:VEVENT
BEGIN:VEVENT
DTSTART;VALUE=DATE:20180620
DTEND;VALUE=DATE:20180624
DTSTAMP:20260421T103411
CREATED:20180525T173409Z
LAST-MODIFIED:20180525T173509Z
UID:10003570-1529452800-1529798399@www.atlantaparent.com
SUMMARY:Freaky Friday
DESCRIPTION:Horizon Theatre’s family-friendly musical adaptation of the popular Disney movies.  7:30 p.m. Located at the Promenade green space  (North  end  of  the  Park\,  near  the Park/Botanical Gardens parking garage and The Prado entrance to the Park).  Free.
URL:https://www.atlantaparent.com/event/freaky-friday/
LOCATION:Piedmont Park\, 929 Charles Allen Dr.\, Atlanta\, GA\, United States
GEO:33.780743;-84.37076
X-APPLE-STRUCTURED-LOCATION;VALUE=URI;X-ADDRESS=Piedmont Park 929 Charles Allen Dr. Atlanta GA United States;X-APPLE-RADIUS=500;X-TITLE=929 Charles Allen Dr.:geo:-84.37076,33.780743
END:VEVENT
END:VCALENDAR