BEGIN:VCALENDAR
VERSION:2.0
PRODID:-//NEW Atlanta Parent - ECPv6.15.11//NONSGML v1.0//EN
CALSCALE:GREGORIAN
METHOD:PUBLISH
X-ORIGINAL-URL:https://www.atlantaparent.com
X-WR-CALDESC:Events for NEW Atlanta Parent
REFRESH-INTERVAL;VALUE=DURATION:PT1H
X-Robots-Tag:noindex
X-PUBLISHED-TTL:PT1H
BEGIN:VTIMEZONE
TZID:America/New_York
BEGIN:DAYLIGHT
TZOFFSETFROM:-0500
TZOFFSETTO:-0400
TZNAME:EDT
DTSTART:20240310T070000
END:DAYLIGHT
BEGIN:STANDARD
TZOFFSETFROM:-0400
TZOFFSETTO:-0500
TZNAME:EST
DTSTART:20241103T060000
END:STANDARD
BEGIN:DAYLIGHT
TZOFFSETFROM:-0500
TZOFFSETTO:-0400
TZNAME:EDT
DTSTART:20250309T070000
END:DAYLIGHT
BEGIN:STANDARD
TZOFFSETFROM:-0400
TZOFFSETTO:-0500
TZNAME:EST
DTSTART:20251102T060000
END:STANDARD
BEGIN:DAYLIGHT
TZOFFSETFROM:-0500
TZOFFSETTO:-0400
TZNAME:EDT
DTSTART:20260308T070000
END:DAYLIGHT
BEGIN:STANDARD
TZOFFSETFROM:-0400
TZOFFSETTO:-0500
TZNAME:EST
DTSTART:20261101T060000
END:STANDARD
BEGIN:DAYLIGHT
TZOFFSETFROM:-0500
TZOFFSETTO:-0400
TZNAME:EDT
DTSTART:20270314T070000
END:DAYLIGHT
BEGIN:STANDARD
TZOFFSETFROM:-0400
TZOFFSETTO:-0500
TZNAME:EST
DTSTART:20271107T060000
END:STANDARD
END:VTIMEZONE
BEGIN:VEVENT
DTSTART;TZID=America/New_York:20251201T173000
DTEND;TZID=America/New_York:20260104T213000
DTSTAMP:20260420T164950
CREATED:20251006T210247Z
LAST-MODIFIED:20251006T210247Z
UID:10010105-1764610200-1767562200@www.atlantaparent.com
SUMMARY:Christmas Holiday Lights Tour
DESCRIPTION:Board a specially decorated golf cart for a 90-minute tour of the lights and holiday decorations of Peachtree City\, enjoy fresh-baked cookies and a souvenir ornament. Tours available nightly; $200 for up to 5 people. Address will be shared after booking.
URL:https://www.atlantaparent.com/event/christmas-holiday-lights-tour/
LOCATION:Peachtree City Cart Tours\, Peachtree City
END:VEVENT
BEGIN:VEVENT
DTSTART;TZID=America/New_York:20251017T183000
DTEND;TZID=America/New_York:20251101T200000
DTSTAMP:20260420T164950
CREATED:20251006T204550Z
LAST-MODIFIED:20251006T204550Z
UID:10009724-1760725800-1762027200@www.atlantaparent.com
SUMMARY:Haunted Halloween Nights Tour
DESCRIPTION:Enjoy warm apple cider and see the sights and sounds of Halloween on a one-hour tour of Peachtree City. You’ll see jack-o’-lanterns\, spooky inflatables\, and the very best Halloween displays in town. Tours available nightly; $150 for up to 5 people. Address will be shared after booking.
URL:https://www.atlantaparent.com/event/haunted-halloween-nights-tour/
LOCATION:Peachtree City Cart Tours\, Peachtree City
END:VEVENT
END:VCALENDAR