BEGIN:VCALENDAR
VERSION:2.0
PRODID:-//NEW Atlanta Parent - ECPv6.15.11//NONSGML v1.0//EN
CALSCALE:GREGORIAN
METHOD:PUBLISH
X-ORIGINAL-URL:https://www.atlantaparent.com
X-WR-CALDESC:Events for NEW Atlanta Parent
REFRESH-INTERVAL;VALUE=DURATION:PT1H
X-Robots-Tag:noindex
X-PUBLISHED-TTL:PT1H
BEGIN:VTIMEZONE
TZID:America/New_York
BEGIN:DAYLIGHT
TZOFFSETFROM:-0500
TZOFFSETTO:-0400
TZNAME:EDT
DTSTART:20190310T070000
END:DAYLIGHT
BEGIN:STANDARD
TZOFFSETFROM:-0400
TZOFFSETTO:-0500
TZNAME:EST
DTSTART:20191103T060000
END:STANDARD
BEGIN:DAYLIGHT
TZOFFSETFROM:-0500
TZOFFSETTO:-0400
TZNAME:EDT
DTSTART:20200308T070000
END:DAYLIGHT
BEGIN:STANDARD
TZOFFSETFROM:-0400
TZOFFSETTO:-0500
TZNAME:EST
DTSTART:20201101T060000
END:STANDARD
BEGIN:DAYLIGHT
TZOFFSETFROM:-0500
TZOFFSETTO:-0400
TZNAME:EDT
DTSTART:20210314T070000
END:DAYLIGHT
BEGIN:STANDARD
TZOFFSETFROM:-0400
TZOFFSETTO:-0500
TZNAME:EST
DTSTART:20211107T060000
END:STANDARD
END:VTIMEZONE
BEGIN:VEVENT
DTSTART;TZID=America/New_York:20200328T090000
DTEND;TZID=America/New_York:20200328T120000
DTSTAMP:20260423T191217
CREATED:20200213T050052Z
LAST-MODIFIED:20200317T015003Z
UID:10002597-1585386000-1585396800@www.atlantaparent.com
SUMMARY:Mount Pisgah Community Easter Egg Hunt
DESCRIPTION:Due to cancellations to prevent the spread of coronavirus\, please verify event before you go. \n36\,000 eggs\, inflatables\, games\, food and prizes. Hunts held every 30 minutes across five age groups.
URL:https://www.atlantaparent.com/event/mount-pisgah-community-easter-egg-hunt/
LOCATION:Mount Pisgah Patriot Athletic Complex\, 9825 Brumbelow Rd.\, Alpharetta\, GA\, United States
GEO:34.0183821;-84.2624426
X-APPLE-STRUCTURED-LOCATION;VALUE=URI;X-ADDRESS=Mount Pisgah Patriot Athletic Complex 9825 Brumbelow Rd. Alpharetta GA United States;X-APPLE-RADIUS=500;X-TITLE=9825 Brumbelow Rd.:geo:-84.2624426,34.0183821
END:VEVENT
END:VCALENDAR