BEGIN:VCALENDAR
VERSION:2.0
PRODID:-//NEW Atlanta Parent - ECPv6.15.11//NONSGML v1.0//EN
CALSCALE:GREGORIAN
METHOD:PUBLISH
X-ORIGINAL-URL:https://www.atlantaparent.com
X-WR-CALDESC:Events for NEW Atlanta Parent
REFRESH-INTERVAL;VALUE=DURATION:PT1H
X-Robots-Tag:noindex
X-PUBLISHED-TTL:PT1H
BEGIN:VTIMEZONE
TZID:America/New_York
BEGIN:DAYLIGHT
TZOFFSETFROM:-0500
TZOFFSETTO:-0400
TZNAME:EDT
DTSTART:20180311T070000
END:DAYLIGHT
BEGIN:STANDARD
TZOFFSETFROM:-0400
TZOFFSETTO:-0500
TZNAME:EST
DTSTART:20181104T060000
END:STANDARD
BEGIN:DAYLIGHT
TZOFFSETFROM:-0500
TZOFFSETTO:-0400
TZNAME:EDT
DTSTART:20190310T070000
END:DAYLIGHT
BEGIN:STANDARD
TZOFFSETFROM:-0400
TZOFFSETTO:-0500
TZNAME:EST
DTSTART:20191103T060000
END:STANDARD
BEGIN:DAYLIGHT
TZOFFSETFROM:-0500
TZOFFSETTO:-0400
TZNAME:EDT
DTSTART:20200308T070000
END:DAYLIGHT
BEGIN:STANDARD
TZOFFSETFROM:-0400
TZOFFSETTO:-0500
TZNAME:EST
DTSTART:20201101T060000
END:STANDARD
BEGIN:DAYLIGHT
TZOFFSETFROM:-0500
TZOFFSETTO:-0400
TZNAME:EDT
DTSTART:20210314T070000
END:DAYLIGHT
BEGIN:STANDARD
TZOFFSETFROM:-0400
TZOFFSETTO:-0500
TZNAME:EST
DTSTART:20211107T060000
END:STANDARD
BEGIN:DAYLIGHT
TZOFFSETFROM:-0500
TZOFFSETTO:-0400
TZNAME:EDT
DTSTART:20220313T070000
END:DAYLIGHT
BEGIN:STANDARD
TZOFFSETFROM:-0400
TZOFFSETTO:-0500
TZNAME:EST
DTSTART:20221106T060000
END:STANDARD
BEGIN:DAYLIGHT
TZOFFSETFROM:-0500
TZOFFSETTO:-0400
TZNAME:EDT
DTSTART:20230312T070000
END:DAYLIGHT
BEGIN:STANDARD
TZOFFSETFROM:-0400
TZOFFSETTO:-0500
TZNAME:EST
DTSTART:20231105T060000
END:STANDARD
BEGIN:DAYLIGHT
TZOFFSETFROM:-0500
TZOFFSETTO:-0400
TZNAME:EDT
DTSTART:20240310T070000
END:DAYLIGHT
BEGIN:STANDARD
TZOFFSETFROM:-0400
TZOFFSETTO:-0500
TZNAME:EST
DTSTART:20241103T060000
END:STANDARD
BEGIN:DAYLIGHT
TZOFFSETFROM:-0500
TZOFFSETTO:-0400
TZNAME:EDT
DTSTART:20250309T070000
END:DAYLIGHT
BEGIN:STANDARD
TZOFFSETFROM:-0400
TZOFFSETTO:-0500
TZNAME:EST
DTSTART:20251102T060000
END:STANDARD
BEGIN:DAYLIGHT
TZOFFSETFROM:-0500
TZOFFSETTO:-0400
TZNAME:EDT
DTSTART:20260308T070000
END:DAYLIGHT
BEGIN:STANDARD
TZOFFSETFROM:-0400
TZOFFSETTO:-0500
TZNAME:EST
DTSTART:20261101T060000
END:STANDARD
END:VTIMEZONE
BEGIN:VEVENT
DTSTART;TZID=America/New_York:20251212T170000
DTEND;TZID=America/New_York:20251219T173000
DTSTAMP:20260422T135107
CREATED:20251107T170209Z
LAST-MODIFIED:20251111T172645Z
UID:10006674-1765558800-1766165400@www.atlantaparent.com
SUMMARY:Community Hanukkah Candle Lighting
DESCRIPTION:Join daily candle lightings with songs and blessings. Dec. 12-19\, 5:15-5:30 p.m. Free admission.
URL:https://www.atlantaparent.com/event/science-of-light-hannukah-celebration/
LOCATION:MJCCA\, 5342 Tilly Mill Rd.\, Dunwoody
ATTACH;FMTTYPE=image/jpeg:https://www.atlantaparent.com/wp-content/uploads/2025/11/4EA077EC-D0F5-4497-910C-D7C309479725-scaled.jpeg
END:VEVENT
BEGIN:VEVENT
DTSTART;TZID=America/New_York:20221113T110000
DTEND;TZID=America/New_York:20221113T140000
DTSTAMP:20260422T135107
CREATED:20221107T145312Z
LAST-MODIFIED:20221109T155717Z
UID:10006716-1668337200-1668348000@www.atlantaparent.com
SUMMARY:Fall in Love with Camp Festival
DESCRIPTION:This fall festival includes live performances\, a s’mores station\, a magic show\, face painting and more\, along with the opportunity to learn more about MJCCA’s camp experiences.
URL:https://www.atlantaparent.com/event/camp-festival/
LOCATION:MJCCA\, 5342 Tilly Mill Rd.\, Dunwoody
END:VEVENT
BEGIN:VEVENT
DTSTART;VALUE=DATE:20190209
DTEND;VALUE=DATE:20190211
DTSTAMP:20260422T135107
CREATED:20190125T020430Z
LAST-MODIFIED:20190125T020430Z
UID:10003963-1549670400-1549843199@www.atlantaparent.com
SUMMARY:Illusionist Vitaly Beckman: An Evening of Wonders
DESCRIPTION:Vitaly has mystified fans from all over the world\, from making drawings and paintings come to life to teleporting playing cards from one audience member to another\, Vitaly’s illusions defy logic and belief. Feb. 9\, 8 p.m. and Feb. 10\, 5 p.m.
URL:https://www.atlantaparent.com/event/illusionist-vitaly-beckman-an-evening-of-wonders/
LOCATION:MJCCA\, 5342 Tilly Mill Rd.\, Dunwoody
ATTACH;FMTTYPE=image/jpeg:https://www.atlantaparent.com/wp-content/uploads/2019/01/Illusionist-Vitaly-Beckman_An-Evening-of-Wonders_MJCCA-2019-2.jpg
END:VEVENT
END:VCALENDAR