BEGIN:VCALENDAR
VERSION:2.0
PRODID:-//NEW Atlanta Parent - ECPv6.15.11//NONSGML v1.0//EN
CALSCALE:GREGORIAN
METHOD:PUBLISH
X-ORIGINAL-URL:https://www.atlantaparent.com
X-WR-CALDESC:Events for NEW Atlanta Parent
REFRESH-INTERVAL;VALUE=DURATION:PT1H
X-Robots-Tag:noindex
X-PUBLISHED-TTL:PT1H
BEGIN:VTIMEZONE
TZID:America/New_York
BEGIN:DAYLIGHT
TZOFFSETFROM:-0500
TZOFFSETTO:-0400
TZNAME:EDT
DTSTART:20220313T070000
END:DAYLIGHT
BEGIN:STANDARD
TZOFFSETFROM:-0400
TZOFFSETTO:-0500
TZNAME:EST
DTSTART:20221106T060000
END:STANDARD
BEGIN:DAYLIGHT
TZOFFSETFROM:-0500
TZOFFSETTO:-0400
TZNAME:EDT
DTSTART:20230312T070000
END:DAYLIGHT
BEGIN:STANDARD
TZOFFSETFROM:-0400
TZOFFSETTO:-0500
TZNAME:EST
DTSTART:20231105T060000
END:STANDARD
BEGIN:DAYLIGHT
TZOFFSETFROM:-0500
TZOFFSETTO:-0400
TZNAME:EDT
DTSTART:20240310T070000
END:DAYLIGHT
BEGIN:STANDARD
TZOFFSETFROM:-0400
TZOFFSETTO:-0500
TZNAME:EST
DTSTART:20241103T060000
END:STANDARD
BEGIN:DAYLIGHT
TZOFFSETFROM:-0500
TZOFFSETTO:-0400
TZNAME:EDT
DTSTART:20250309T070000
END:DAYLIGHT
BEGIN:STANDARD
TZOFFSETFROM:-0400
TZOFFSETTO:-0500
TZNAME:EST
DTSTART:20251102T060000
END:STANDARD
BEGIN:DAYLIGHT
TZOFFSETFROM:-0500
TZOFFSETTO:-0400
TZNAME:EDT
DTSTART:20260308T070000
END:DAYLIGHT
BEGIN:STANDARD
TZOFFSETFROM:-0400
TZOFFSETTO:-0500
TZNAME:EST
DTSTART:20261101T060000
END:STANDARD
BEGIN:DAYLIGHT
TZOFFSETFROM:-0500
TZOFFSETTO:-0400
TZNAME:EDT
DTSTART:20270314T070000
END:DAYLIGHT
BEGIN:STANDARD
TZOFFSETFROM:-0400
TZOFFSETTO:-0500
TZNAME:EST
DTSTART:20271107T060000
END:STANDARD
END:VTIMEZONE
BEGIN:VEVENT
DTSTART;TZID=America/New_York:20260404T130000
DTEND;TZID=America/New_York:20260404T150000
DTSTAMP:20260419T234638
CREATED:20260210T162112Z
LAST-MODIFIED:20260219T140200Z
UID:10006324-1775307600-1775314800@www.atlantaparent.com
SUMMARY:Annual Easter Egg Hunt
DESCRIPTION:Visit with the Easter Bunny\, play games and hunt for eggs. Free admission.
URL:https://www.atlantaparent.com/event/annual-easter-egg-hunt-2/
LOCATION:Midland Greenway\, 682 Grove St.\, Gainesville
GEO:34.2928607;-83.8253379
X-APPLE-STRUCTURED-LOCATION;VALUE=URI;X-ADDRESS=Midland Greenway 682 Grove St. Gainesville;X-APPLE-RADIUS=500;X-TITLE=682 Grove St.:geo:-83.8253379,34.2928607
END:VEVENT
BEGIN:VEVENT
DTSTART;TZID=America/New_York:20240420T130000
DTEND;TZID=America/New_York:20240420T170000
DTSTAMP:20260419T234638
CREATED:20240319T135116Z
LAST-MODIFIED:20240319T135116Z
UID:10007963-1713618000-1713632400@www.atlantaparent.com
SUMMARY:Waterfest
DESCRIPTION:Listen to local talent while exploring the Environmental Expo with local organizations highlighting their good work and family-friendly activities. Free admission. \n 
URL:https://www.atlantaparent.com/event/waterfest/
LOCATION:Midland Greenway\, 682 Grove St.\, Gainesville
GEO:34.2928607;-83.8253379
X-APPLE-STRUCTURED-LOCATION;VALUE=URI;X-ADDRESS=Midland Greenway 682 Grove St. Gainesville;X-APPLE-RADIUS=500;X-TITLE=682 Grove St.:geo:-83.8253379,34.2928607
END:VEVENT
BEGIN:VEVENT
DTSTART;TZID=America/New_York:20230430T130000
DTEND;TZID=America/New_York:20230430T160000
DTSTAMP:20260419T234638
CREATED:20230324T142844Z
LAST-MODIFIED:20230324T142844Z
UID:10006804-1682859600-1682870400@www.atlantaparent.com
SUMMARY:Skate the City
DESCRIPTION:Bring your skateboards\, roller skates\, bikes\, scooters and strollers for a rolling good time with giveaways\, music\, food\, yard games and more. Free admission.
URL:https://www.atlantaparent.com/event/skate-the-city/
LOCATION:Midland Greenway\, 682 Grove St.\, Gainesville
GEO:34.2928607;-83.8253379
X-APPLE-STRUCTURED-LOCATION;VALUE=URI;X-ADDRESS=Midland Greenway 682 Grove St. Gainesville;X-APPLE-RADIUS=500;X-TITLE=682 Grove St.:geo:-83.8253379,34.2928607
END:VEVENT
END:VCALENDAR