BEGIN:VCALENDAR
VERSION:2.0
PRODID:-//NEW Atlanta Parent - ECPv6.15.11//NONSGML v1.0//EN
CALSCALE:GREGORIAN
METHOD:PUBLISH
X-ORIGINAL-URL:https://www.atlantaparent.com
X-WR-CALDESC:Events for NEW Atlanta Parent
REFRESH-INTERVAL;VALUE=DURATION:PT1H
X-Robots-Tag:noindex
X-PUBLISHED-TTL:PT1H
BEGIN:VTIMEZONE
TZID:America/New_York
BEGIN:DAYLIGHT
TZOFFSETFROM:-0500
TZOFFSETTO:-0400
TZNAME:EDT
DTSTART:20240310T070000
END:DAYLIGHT
BEGIN:STANDARD
TZOFFSETFROM:-0400
TZOFFSETTO:-0500
TZNAME:EST
DTSTART:20241103T060000
END:STANDARD
BEGIN:DAYLIGHT
TZOFFSETFROM:-0500
TZOFFSETTO:-0400
TZNAME:EDT
DTSTART:20250309T070000
END:DAYLIGHT
BEGIN:STANDARD
TZOFFSETFROM:-0400
TZOFFSETTO:-0500
TZNAME:EST
DTSTART:20251102T060000
END:STANDARD
BEGIN:DAYLIGHT
TZOFFSETFROM:-0500
TZOFFSETTO:-0400
TZNAME:EDT
DTSTART:20260308T070000
END:DAYLIGHT
BEGIN:STANDARD
TZOFFSETFROM:-0400
TZOFFSETTO:-0500
TZNAME:EST
DTSTART:20261101T060000
END:STANDARD
END:VTIMEZONE
BEGIN:VEVENT
DTSTART;TZID=America/New_York:20251030T190000
DTEND;TZID=America/New_York:20251030T210000
DTSTAMP:20260420T151214
CREATED:20250908T040419Z
LAST-MODIFIED:20250908T164103Z
UID:10007440-1761850800-1761858000@www.atlantaparent.com
SUMMARY:Howl-o-ween
DESCRIPTION:Celebrate wolves and coyotes with keepsake wolf prints\, a storytime and s’mores around a campfire. Reservation required. $4-$7.
URL:https://www.atlantaparent.com/event/howl-o-ween-3/
LOCATION:McDaniel Farm Park\, 3251 McDaniel Road\, Duluth
GEO:33.9679171;-84.1277024
X-APPLE-STRUCTURED-LOCATION;VALUE=URI;X-ADDRESS=McDaniel Farm Park 3251 McDaniel Road Duluth;X-APPLE-RADIUS=500;X-TITLE=3251 McDaniel Road:geo:-84.1277024,33.9679171
END:VEVENT
END:VCALENDAR