BEGIN:VCALENDAR
VERSION:2.0
PRODID:-//NEW Atlanta Parent - ECPv6.15.11//NONSGML v1.0//EN
CALSCALE:GREGORIAN
METHOD:PUBLISH
X-WR-CALNAME:NEW Atlanta Parent
X-ORIGINAL-URL:https://www.atlantaparent.com
X-WR-CALDESC:Events for NEW Atlanta Parent
REFRESH-INTERVAL;VALUE=DURATION:PT1H
X-Robots-Tag:noindex
X-PUBLISHED-TTL:PT1H
BEGIN:VTIMEZONE
TZID:UTC
BEGIN:STANDARD
TZOFFSETFROM:+0000
TZOFFSETTO:+0000
TZNAME:UTC
DTSTART:20180101T000000
END:STANDARD
END:VTIMEZONE
BEGIN:VEVENT
DTSTART;TZID=UTC:20191203T103000
DTEND;TZID=UTC:20191203T120500
DTSTAMP:20260421T202909
CREATED:20190226T003825Z
LAST-MODIFIED:20190228T230530Z
UID:10000020-1575369000-1575374700@www.atlantaparent.com
SUMMARY:Mice Tours
DESCRIPTION:Mascots Murray and Etta mouse introduce history through tours\, storytime and crafts for ages 3-5. Reservations required. $5 per family (one adult and up to three children).
URL:https://www.atlantaparent.com/event/mice-tours/2019-12-03/
LOCATION:Marietta Museum of History\, 1 Depot St.\, Marietta
GEO:33.227377;-84.5696531
X-APPLE-STRUCTURED-LOCATION;VALUE=URI;X-ADDRESS=Marietta Museum of History 1 Depot St. Marietta;X-APPLE-RADIUS=500;X-TITLE=1 Depot St.:geo:-84.5696531,33.227377
END:VEVENT
END:VCALENDAR