BEGIN:VCALENDAR
VERSION:2.0
PRODID:-//NEW Atlanta Parent - ECPv6.15.11//NONSGML v1.0//EN
CALSCALE:GREGORIAN
METHOD:PUBLISH
X-ORIGINAL-URL:https://www.atlantaparent.com
X-WR-CALDESC:Events for NEW Atlanta Parent
REFRESH-INTERVAL;VALUE=DURATION:PT1H
X-Robots-Tag:noindex
X-PUBLISHED-TTL:PT1H
BEGIN:VTIMEZONE
TZID:America/New_York
BEGIN:DAYLIGHT
TZOFFSETFROM:-0500
TZOFFSETTO:-0400
TZNAME:EDT
DTSTART:20180311T070000
END:DAYLIGHT
BEGIN:STANDARD
TZOFFSETFROM:-0400
TZOFFSETTO:-0500
TZNAME:EST
DTSTART:20181104T060000
END:STANDARD
BEGIN:DAYLIGHT
TZOFFSETFROM:-0500
TZOFFSETTO:-0400
TZNAME:EDT
DTSTART:20190310T070000
END:DAYLIGHT
BEGIN:STANDARD
TZOFFSETFROM:-0400
TZOFFSETTO:-0500
TZNAME:EST
DTSTART:20191103T060000
END:STANDARD
BEGIN:DAYLIGHT
TZOFFSETFROM:-0500
TZOFFSETTO:-0400
TZNAME:EDT
DTSTART:20200308T070000
END:DAYLIGHT
BEGIN:STANDARD
TZOFFSETFROM:-0400
TZOFFSETTO:-0500
TZNAME:EST
DTSTART:20201101T060000
END:STANDARD
BEGIN:DAYLIGHT
TZOFFSETFROM:-0500
TZOFFSETTO:-0400
TZNAME:EDT
DTSTART:20210314T070000
END:DAYLIGHT
BEGIN:STANDARD
TZOFFSETFROM:-0400
TZOFFSETTO:-0500
TZNAME:EST
DTSTART:20211107T060000
END:STANDARD
BEGIN:DAYLIGHT
TZOFFSETFROM:-0500
TZOFFSETTO:-0400
TZNAME:EDT
DTSTART:20220313T070000
END:DAYLIGHT
BEGIN:STANDARD
TZOFFSETFROM:-0400
TZOFFSETTO:-0500
TZNAME:EST
DTSTART:20221106T060000
END:STANDARD
BEGIN:DAYLIGHT
TZOFFSETFROM:-0500
TZOFFSETTO:-0400
TZNAME:EDT
DTSTART:20230312T070000
END:DAYLIGHT
BEGIN:STANDARD
TZOFFSETFROM:-0400
TZOFFSETTO:-0500
TZNAME:EST
DTSTART:20231105T060000
END:STANDARD
BEGIN:DAYLIGHT
TZOFFSETFROM:-0500
TZOFFSETTO:-0400
TZNAME:EDT
DTSTART:20240310T070000
END:DAYLIGHT
BEGIN:STANDARD
TZOFFSETFROM:-0400
TZOFFSETTO:-0500
TZNAME:EST
DTSTART:20241103T060000
END:STANDARD
BEGIN:DAYLIGHT
TZOFFSETFROM:-0500
TZOFFSETTO:-0400
TZNAME:EDT
DTSTART:20250309T070000
END:DAYLIGHT
BEGIN:STANDARD
TZOFFSETFROM:-0400
TZOFFSETTO:-0500
TZNAME:EST
DTSTART:20251102T060000
END:STANDARD
END:VTIMEZONE
BEGIN:VEVENT
DTSTART;VALUE=DATE:20241102
DTEND;VALUE=DATE:20241118
DTSTAMP:20260422T064400
CREATED:20240823T004437Z
LAST-MODIFIED:20240823T124517Z
UID:10003820-1730505600-1731887999@www.atlantaparent.com
SUMMARY:Book Festival of the MJCCA
DESCRIPTION:A variety of authors\, personalities and thought leaders showcase diverse styles and genres\, including Emily Giffin\, Michael Richards and more. For ages 18 and older. Nov. 2-17. See website for schedule. $16.50+.
URL:https://www.atlantaparent.com/event/ruby-mundell-at-the-book-festival-of-the-mjcca/
LOCATION:Marcus Jewish Community Center of Atlanta\, 5342 Tilly Mill Rd.\, Dunwoody
GEO:33.9463766;-84.3047851
X-APPLE-STRUCTURED-LOCATION;VALUE=URI;X-ADDRESS=Marcus Jewish Community Center of Atlanta 5342 Tilly Mill Rd. Dunwoody;X-APPLE-RADIUS=500;X-TITLE=5342 Tilly Mill Rd.:geo:-84.3047851,33.9463766
END:VEVENT
BEGIN:VEVENT
DTSTART;TZID=America/New_York:20240505T090000
DTEND;TZID=America/New_York:20240505T120000
DTSTAMP:20260422T064400
CREATED:20240424T154650Z
LAST-MODIFIED:20240425T164834Z
UID:10002733-1714899600-1714910400@www.atlantaparent.com
SUMMARY:Swim Stroke Clinic
DESCRIPTION:Eight-time Olympic medalist Jason Lezak will combine an in-pool training session with an inspirational seminar for swimmers ages 11 and older. $100.
URL:https://www.atlantaparent.com/event/water-safety-day/
LOCATION:Marcus Jewish Community Center of Atlanta\, 5342 Tilly Mill Rd.\, Dunwoody
GEO:33.9463766;-84.3047851
X-APPLE-STRUCTURED-LOCATION;VALUE=URI;X-ADDRESS=Marcus Jewish Community Center of Atlanta 5342 Tilly Mill Rd. Dunwoody;X-APPLE-RADIUS=500;X-TITLE=5342 Tilly Mill Rd.:geo:-84.3047851,33.9463766
END:VEVENT
BEGIN:VEVENT
DTSTART;VALUE=DATE:20190728
DTEND;VALUE=DATE:20190803
DTSTAMP:20260422T064400
CREATED:20190717T103838Z
LAST-MODIFIED:20190717T103838Z
UID:10004318-1564272000-1564790399@www.atlantaparent.com
SUMMARY:2019 JCC Maccabi Games
DESCRIPTION:Olympic-style sporting competition brings teen athletes from around the globe to compete in sporting competitions\, perform community service\, and connect. Opening ceremonies July 28\, 2019 at Ameris Bank Amphitheatre\, Alpharetta. See website for tickets. July 28-Aug. 2
URL:https://www.atlantaparent.com/event/2019-jcc-maccabi-games/
LOCATION:Marcus Jewish Community Center of Atlanta\, 5342 Tilly Mill Rd.\, Dunwoody
ATTACH;FMTTYPE=image/jpeg:https://www.atlantaparent.com/wp-content/uploads/2019/07/Maccabi-Soccer_Ind-1_Team-Atlanta-Boys-U16.jpg
GEO:33.9463766;-84.3047851
X-APPLE-STRUCTURED-LOCATION;VALUE=URI;X-ADDRESS=Marcus Jewish Community Center of Atlanta 5342 Tilly Mill Rd. Dunwoody;X-APPLE-RADIUS=500;X-TITLE=5342 Tilly Mill Rd.:geo:-84.3047851,33.9463766
END:VEVENT
END:VCALENDAR