BEGIN:VCALENDAR
VERSION:2.0
PRODID:-//NEW Atlanta Parent - ECPv6.15.11//NONSGML v1.0//EN
CALSCALE:GREGORIAN
METHOD:PUBLISH
X-WR-CALNAME:NEW Atlanta Parent
X-ORIGINAL-URL:https://www.atlantaparent.com
X-WR-CALDESC:Events for NEW Atlanta Parent
REFRESH-INTERVAL;VALUE=DURATION:PT1H
X-Robots-Tag:noindex
X-PUBLISHED-TTL:PT1H
BEGIN:VTIMEZONE
TZID:America/New_York
BEGIN:DAYLIGHT
TZOFFSETFROM:-0500
TZOFFSETTO:-0400
TZNAME:EDT
DTSTART:20180311T070000
END:DAYLIGHT
BEGIN:STANDARD
TZOFFSETFROM:-0400
TZOFFSETTO:-0500
TZNAME:EST
DTSTART:20181104T060000
END:STANDARD
BEGIN:DAYLIGHT
TZOFFSETFROM:-0500
TZOFFSETTO:-0400
TZNAME:EDT
DTSTART:20190310T070000
END:DAYLIGHT
BEGIN:STANDARD
TZOFFSETFROM:-0400
TZOFFSETTO:-0500
TZNAME:EST
DTSTART:20191103T060000
END:STANDARD
BEGIN:DAYLIGHT
TZOFFSETFROM:-0500
TZOFFSETTO:-0400
TZNAME:EDT
DTSTART:20200308T070000
END:DAYLIGHT
BEGIN:STANDARD
TZOFFSETFROM:-0400
TZOFFSETTO:-0500
TZNAME:EST
DTSTART:20201101T060000
END:STANDARD
BEGIN:DAYLIGHT
TZOFFSETFROM:-0500
TZOFFSETTO:-0400
TZNAME:EDT
DTSTART:20210314T070000
END:DAYLIGHT
BEGIN:STANDARD
TZOFFSETFROM:-0400
TZOFFSETTO:-0500
TZNAME:EST
DTSTART:20211107T060000
END:STANDARD
END:VTIMEZONE
BEGIN:VTIMEZONE
TZID:UTC
BEGIN:STANDARD
TZOFFSETFROM:+0000
TZOFFSETTO:+0000
TZNAME:UTC
DTSTART:20160101T000000
END:STANDARD
END:VTIMEZONE
BEGIN:VEVENT
DTSTART;TZID=America/New_York:20200321T100000
DTEND;TZID=America/New_York:20200321T170000
DTSTAMP:20260424T084309
CREATED:20200214T151026Z
LAST-MODIFIED:20200318T123813Z
UID:10004909-1584784800-1584810000@www.atlantaparent.com
SUMMARY:CANCELED: Spring Arts Festival
DESCRIPTION:Due to cancellations to prevent the spread of coronavirus\, please verify event before you go. \nShop arts and crafts\, watch artist demonstrations\, sample from local food trucks\, enjoy live music and more. March 21\, 10 a.m.-5 p.m. Free admission.
URL:https://www.atlantaparent.com/event/spring-arts-festival/
LOCATION:Mable House Complex\, 5239 Floyd Road\, Mableton
GEO:33.825933;-84.5753786
X-APPLE-STRUCTURED-LOCATION;VALUE=URI;X-ADDRESS=Mable House Complex 5239 Floyd Road Mableton;X-APPLE-RADIUS=500;X-TITLE=5239 Floyd Road:geo:-84.5753786,33.825933
END:VEVENT
BEGIN:VEVENT
DTSTART;VALUE=DATE:20191204
DTEND;VALUE=DATE:20191216
DTSTAMP:20260424T084309
CREATED:20191202T205418Z
LAST-MODIFIED:20191202T205418Z
UID:10004778-1575417600-1576454399@www.atlantaparent.com
SUMMARY:12 Days of Christmas
DESCRIPTION:Enjoy 12 Days of Christmas with artisan markets\, Santa\, a tree lighting ceremony\, double feature movie nights\, a princess party and sing-a-long and more. See website for full schedule of events and pricing.
URL:https://www.atlantaparent.com/event/12-days-of-christmas/
LOCATION:Mable House Complex\, 5239 Floyd Road\, Mableton
GEO:33.825933;-84.5753786
X-APPLE-STRUCTURED-LOCATION;VALUE=URI;X-ADDRESS=Mable House Complex 5239 Floyd Road Mableton;X-APPLE-RADIUS=500;X-TITLE=5239 Floyd Road:geo:-84.5753786,33.825933
END:VEVENT
BEGIN:VEVENT
DTSTART;TZID=UTC:20170513T080000
DTEND;TZID=UTC:20170513T160000
DTSTAMP:20260424T084309
CREATED:20170419T221724Z
LAST-MODIFIED:20170419T221724Z
UID:10002539-1494662400-1494691200@www.atlantaparent.com
SUMMARY:Mableton Day
DESCRIPTION:5K race and fun run\, car show\, children’s play area\, arts and crafts\, food and live entertainment.
URL:https://www.atlantaparent.com/event/mableton-day/
LOCATION:Mable House Complex\, 5239 Floyd Road\, Mableton
GEO:33.825933;-84.5753786
X-APPLE-STRUCTURED-LOCATION;VALUE=URI;X-ADDRESS=Mable House Complex 5239 Floyd Road Mableton;X-APPLE-RADIUS=500;X-TITLE=5239 Floyd Road:geo:-84.5753786,33.825933
END:VEVENT
END:VCALENDAR