BEGIN:VCALENDAR
VERSION:2.0
PRODID:-//NEW Atlanta Parent - ECPv6.15.11//NONSGML v1.0//EN
CALSCALE:GREGORIAN
METHOD:PUBLISH
X-ORIGINAL-URL:https://www.atlantaparent.com
X-WR-CALDESC:Events for NEW Atlanta Parent
REFRESH-INTERVAL;VALUE=DURATION:PT1H
X-Robots-Tag:noindex
X-PUBLISHED-TTL:PT1H
BEGIN:VTIMEZONE
TZID:America/New_York
BEGIN:DAYLIGHT
TZOFFSETFROM:-0500
TZOFFSETTO:-0400
TZNAME:EDT
DTSTART:20170312T070000
END:DAYLIGHT
BEGIN:STANDARD
TZOFFSETFROM:-0400
TZOFFSETTO:-0500
TZNAME:EST
DTSTART:20171105T060000
END:STANDARD
BEGIN:DAYLIGHT
TZOFFSETFROM:-0500
TZOFFSETTO:-0400
TZNAME:EDT
DTSTART:20180311T070000
END:DAYLIGHT
BEGIN:STANDARD
TZOFFSETFROM:-0400
TZOFFSETTO:-0500
TZNAME:EST
DTSTART:20181104T060000
END:STANDARD
BEGIN:DAYLIGHT
TZOFFSETFROM:-0500
TZOFFSETTO:-0400
TZNAME:EDT
DTSTART:20190310T070000
END:DAYLIGHT
BEGIN:STANDARD
TZOFFSETFROM:-0400
TZOFFSETTO:-0500
TZNAME:EST
DTSTART:20191103T060000
END:STANDARD
END:VTIMEZONE
BEGIN:VEVENT
DTSTART;VALUE=DATE:20181201
DTEND;VALUE=DATE:20181202
DTSTAMP:20260425T070250
CREATED:20180130T191704Z
LAST-MODIFIED:20180514T145017Z
UID:10003454-1543622400-1543708799@www.atlantaparent.com
SUMMARY:Spanish Storytime: ¡Bienvenido!
DESCRIPTION:Fun stories\, traditional songs and activities in Spanish. First Sat. of each month. See website for times. Registration required. 678-801-6001. Ages 1-8\, $5; ages 1 and younger\, free.
URL:https://www.atlantaparent.com/event/spanish-storytime-bienvenido/2018-12-01/
LOCATION:Lango Kids Atlanta\, 1824 Piedmont Ave.\, Atlanta.
GEO:33.8045912;-84.3679369
X-APPLE-STRUCTURED-LOCATION;VALUE=URI;X-ADDRESS=Lango Kids Atlanta 1824 Piedmont Ave. Atlanta.;X-APPLE-RADIUS=500;X-TITLE=1824 Piedmont Ave.\, Atlanta.:geo:-84.3679369,33.8045912
END:VEVENT
END:VCALENDAR