BEGIN:VCALENDAR
VERSION:2.0
PRODID:-//NEW Atlanta Parent - ECPv6.15.11//NONSGML v1.0//EN
CALSCALE:GREGORIAN
METHOD:PUBLISH
X-WR-CALNAME:NEW Atlanta Parent
X-ORIGINAL-URL:https://www.atlantaparent.com
X-WR-CALDESC:Events for NEW Atlanta Parent
REFRESH-INTERVAL;VALUE=DURATION:PT1H
X-Robots-Tag:noindex
X-PUBLISHED-TTL:PT1H
BEGIN:VTIMEZONE
TZID:America/New_York
BEGIN:DAYLIGHT
TZOFFSETFROM:-0500
TZOFFSETTO:-0400
TZNAME:EDT
DTSTART:20170312T070000
END:DAYLIGHT
BEGIN:STANDARD
TZOFFSETFROM:-0400
TZOFFSETTO:-0500
TZNAME:EST
DTSTART:20171105T060000
END:STANDARD
BEGIN:DAYLIGHT
TZOFFSETFROM:-0500
TZOFFSETTO:-0400
TZNAME:EDT
DTSTART:20180311T070000
END:DAYLIGHT
BEGIN:STANDARD
TZOFFSETFROM:-0400
TZOFFSETTO:-0500
TZNAME:EST
DTSTART:20181104T060000
END:STANDARD
BEGIN:DAYLIGHT
TZOFFSETFROM:-0500
TZOFFSETTO:-0400
TZNAME:EDT
DTSTART:20190310T070000
END:DAYLIGHT
BEGIN:STANDARD
TZOFFSETFROM:-0400
TZOFFSETTO:-0500
TZNAME:EST
DTSTART:20191103T060000
END:STANDARD
BEGIN:DAYLIGHT
TZOFFSETFROM:-0500
TZOFFSETTO:-0400
TZNAME:EDT
DTSTART:20200308T070000
END:DAYLIGHT
BEGIN:STANDARD
TZOFFSETFROM:-0400
TZOFFSETTO:-0500
TZNAME:EST
DTSTART:20201101T060000
END:STANDARD
BEGIN:DAYLIGHT
TZOFFSETFROM:-0500
TZOFFSETTO:-0400
TZNAME:EDT
DTSTART:20210314T070000
END:DAYLIGHT
BEGIN:STANDARD
TZOFFSETFROM:-0400
TZOFFSETTO:-0500
TZNAME:EST
DTSTART:20211107T060000
END:STANDARD
END:VTIMEZONE
BEGIN:VEVENT
DTSTART;TZID=America/New_York:20200118T160000
DTEND;TZID=America/New_York:20200118T160000
DTSTAMP:20260425T101345
CREATED:20191217T222614Z
LAST-MODIFIED:20191217T222653Z
UID:10004815-1579363200-1579363200@www.atlantaparent.com
SUMMARY:Chinese Opera Spring Festival and Gala
DESCRIPTION:Presented by The Atlanta Drama Club\, this performance covers drama\, classical dance\, Chinese opera and other stage arts\, representing the cultural exchange between China and the United States.
URL:https://www.atlantaparent.com/event/chinese-opera-spring-festival-and-gala/
LOCATION:Infinite Energy Center\, 6400 Sugarloaf Pkwy.\, Duluth
GEO:33.9913579;-84.0938603
X-APPLE-STRUCTURED-LOCATION;VALUE=URI;X-ADDRESS=Infinite Energy Center 6400 Sugarloaf Pkwy. Duluth;X-APPLE-RADIUS=500;X-TITLE=6400 Sugarloaf Pkwy.:geo:-84.0938603,33.9913579
END:VEVENT
BEGIN:VEVENT
DTSTART;VALUE=DATE:20180222
DTEND;VALUE=DATE:20180226
DTSTAMP:20260425T101345
CREATED:20180116T232740Z
LAST-MODIFIED:20180219T141526Z
UID:10002566-1519257600-1519603199@www.atlantaparent.com
SUMMARY:The Wonderful World of Disney on Ice at Infinite Energy Center
DESCRIPTION:Join Mickey and Minnie Mouse on a walk down Disney memory lane. Dory is back with friends Nemo and Marlin\, travel to Arendelle with Anna and Elsa as well as see other favorites Rapunzel\, Snow White\, Aladdin and more. Feb. 22-Feb. 25. See website for showtimes and tickets.
URL:https://www.atlantaparent.com/event/wonderful-world-disney-ice-infinite-energy-center/
LOCATION:Infinite Energy Center\, 6400 Sugarloaf Pkwy.\, Duluth
ATTACH;FMTTYPE=image/jpeg:https://www.atlantaparent.com/wp-content/uploads/2018/01/disney-on-ice-aladin-b.jpg
GEO:33.9913579;-84.0938603
X-APPLE-STRUCTURED-LOCATION;VALUE=URI;X-ADDRESS=Infinite Energy Center 6400 Sugarloaf Pkwy. Duluth;X-APPLE-RADIUS=500;X-TITLE=6400 Sugarloaf Pkwy.:geo:-84.0938603,33.9913579
END:VEVENT
END:VCALENDAR