BEGIN:VCALENDAR
VERSION:2.0
PRODID:-//NEW Atlanta Parent - ECPv6.15.11//NONSGML v1.0//EN
CALSCALE:GREGORIAN
METHOD:PUBLISH
X-WR-CALNAME:NEW Atlanta Parent
X-ORIGINAL-URL:https://www.atlantaparent.com
X-WR-CALDESC:Events for NEW Atlanta Parent
REFRESH-INTERVAL;VALUE=DURATION:PT1H
X-Robots-Tag:noindex
X-PUBLISHED-TTL:PT1H
BEGIN:VTIMEZONE
TZID:UTC
BEGIN:STANDARD
TZOFFSETFROM:+0000
TZOFFSETTO:+0000
TZNAME:UTC
DTSTART:20190101T000000
END:STANDARD
END:VTIMEZONE
BEGIN:VEVENT
DTSTART;TZID=UTC:20200424T180000
DTEND;TZID=UTC:20200424T210000
DTSTAMP:20260424T043026
CREATED:20200303T050009Z
LAST-MODIFIED:20200324T181430Z
UID:10002429-1587751200-1587762000@www.atlantaparent.com
SUMMARY:Taste of Henry
DESCRIPTION:Due to cancellations to prevent the spread of coronavirus\, please verify event before you go. \nDine with friends\, family and neighbors to benefit A Friend’s House with face painting\, balloons and inflatables for kids. $20; ages 3-12\, $5; ages 2 and younger\, free.
URL:https://www.atlantaparent.com/event/taste-of-henry/
LOCATION:Heritage Park\, 99 Lake Dow Rd.\, McDonough
GEO:33.4413864;-84.1204241
X-APPLE-STRUCTURED-LOCATION;VALUE=URI;X-ADDRESS=Heritage Park 99 Lake Dow Rd. McDonough;X-APPLE-RADIUS=500;X-TITLE=99 Lake Dow Rd.:geo:-84.1204241,33.4413864
END:VEVENT
END:VCALENDAR