BEGIN:VCALENDAR
VERSION:2.0
PRODID:-//NEW Atlanta Parent - ECPv6.15.11//NONSGML v1.0//EN
CALSCALE:GREGORIAN
METHOD:PUBLISH
X-WR-CALNAME:NEW Atlanta Parent
X-ORIGINAL-URL:https://www.atlantaparent.com
X-WR-CALDESC:Events for NEW Atlanta Parent
REFRESH-INTERVAL;VALUE=DURATION:PT1H
X-Robots-Tag:noindex
X-PUBLISHED-TTL:PT1H
BEGIN:VTIMEZONE
TZID:America/New_York
BEGIN:DAYLIGHT
TZOFFSETFROM:-0500
TZOFFSETTO:-0400
TZNAME:EDT
DTSTART:20220313T070000
END:DAYLIGHT
BEGIN:STANDARD
TZOFFSETFROM:-0400
TZOFFSETTO:-0500
TZNAME:EST
DTSTART:20221106T060000
END:STANDARD
BEGIN:DAYLIGHT
TZOFFSETFROM:-0500
TZOFFSETTO:-0400
TZNAME:EDT
DTSTART:20230312T070000
END:DAYLIGHT
BEGIN:STANDARD
TZOFFSETFROM:-0400
TZOFFSETTO:-0500
TZNAME:EST
DTSTART:20231105T060000
END:STANDARD
BEGIN:DAYLIGHT
TZOFFSETFROM:-0500
TZOFFSETTO:-0400
TZNAME:EDT
DTSTART:20240310T070000
END:DAYLIGHT
BEGIN:STANDARD
TZOFFSETFROM:-0400
TZOFFSETTO:-0500
TZNAME:EST
DTSTART:20241103T060000
END:STANDARD
END:VTIMEZONE
BEGIN:VEVENT
DTSTART;TZID=America/New_York:20230507T140000
DTEND;TZID=America/New_York:20230507T160000
DTSTAMP:20260419T091241
CREATED:20230301T163437Z
LAST-MODIFIED:20230301T163437Z
UID:10006817-1683468000-1683475200@www.atlantaparent.com
SUMMARY:Young Entrepreneur Fair
DESCRIPTION:Support young entrepreneurs by shopping their products and services\, and enjoy cotton candy\, face painting\, games\, giveaways and more.
URL:https://www.atlantaparent.com/event/young-entrepreneur-fair/
LOCATION:Green Orthodontics\, 2450 Lawrenceville Hwy.\, Decatur
GEO:33.8189816;-84.2668503
X-APPLE-STRUCTURED-LOCATION;VALUE=URI;X-ADDRESS=Green Orthodontics 2450 Lawrenceville Hwy. Decatur;X-APPLE-RADIUS=500;X-TITLE=2450 Lawrenceville Hwy.:geo:-84.2668503,33.8189816
END:VEVENT
END:VCALENDAR