BEGIN:VCALENDAR
VERSION:2.0
PRODID:-//NEW Atlanta Parent - ECPv6.15.11//NONSGML v1.0//EN
CALSCALE:GREGORIAN
METHOD:PUBLISH
X-ORIGINAL-URL:https://www.atlantaparent.com
X-WR-CALDESC:Events for NEW Atlanta Parent
REFRESH-INTERVAL;VALUE=DURATION:PT1H
X-Robots-Tag:noindex
X-PUBLISHED-TTL:PT1H
BEGIN:VTIMEZONE
TZID:America/New_York
BEGIN:DAYLIGHT
TZOFFSETFROM:-0500
TZOFFSETTO:-0400
TZNAME:EDT
DTSTART:20170312T070000
END:DAYLIGHT
BEGIN:STANDARD
TZOFFSETFROM:-0400
TZOFFSETTO:-0500
TZNAME:EST
DTSTART:20171105T060000
END:STANDARD
BEGIN:DAYLIGHT
TZOFFSETFROM:-0500
TZOFFSETTO:-0400
TZNAME:EDT
DTSTART:20180311T070000
END:DAYLIGHT
BEGIN:STANDARD
TZOFFSETFROM:-0400
TZOFFSETTO:-0500
TZNAME:EST
DTSTART:20181104T060000
END:STANDARD
BEGIN:DAYLIGHT
TZOFFSETFROM:-0500
TZOFFSETTO:-0400
TZNAME:EDT
DTSTART:20190310T070000
END:DAYLIGHT
BEGIN:STANDARD
TZOFFSETFROM:-0400
TZOFFSETTO:-0500
TZNAME:EST
DTSTART:20191103T060000
END:STANDARD
BEGIN:DAYLIGHT
TZOFFSETFROM:-0500
TZOFFSETTO:-0400
TZNAME:EDT
DTSTART:20200308T070000
END:DAYLIGHT
BEGIN:STANDARD
TZOFFSETFROM:-0400
TZOFFSETTO:-0500
TZNAME:EST
DTSTART:20201101T060000
END:STANDARD
BEGIN:DAYLIGHT
TZOFFSETFROM:-0500
TZOFFSETTO:-0400
TZNAME:EDT
DTSTART:20210314T070000
END:DAYLIGHT
BEGIN:STANDARD
TZOFFSETFROM:-0400
TZOFFSETTO:-0500
TZNAME:EST
DTSTART:20211107T060000
END:STANDARD
END:VTIMEZONE
BEGIN:VTIMEZONE
TZID:UTC
BEGIN:STANDARD
TZOFFSETFROM:+0000
TZOFFSETTO:+0000
TZNAME:UTC
DTSTART:20180101T000000
END:STANDARD
END:VTIMEZONE
BEGIN:VEVENT
DTSTART;TZID=America/New_York:20200126T150000
DTEND;TZID=America/New_York:20200126T150000
DTSTAMP:20260424T151404
CREATED:20200106T155340Z
LAST-MODIFIED:20200106T155340Z
UID:10004833-1580050800-1580050800@www.atlantaparent.com
SUMMARY:Around the World in 60 Minutes
DESCRIPTION:DeKalb Symphony Orchestra’s Children’s Concert\, “Around the World in 60 Minutes\,” includes the Decatur School of Ballet\, Scottish bagpiper John Recknagel\, Manga African Dancer Ramatu Afegbua-Sabbatt and drummer\, as well as visits to the British Isles\, France\, Egypt and India before returning to the USA. Jan. 26\, 3 p.m. $5.
URL:https://www.atlantaparent.com/event/around-the-world-in-60-minutes/
LOCATION:Georgia State University Clarkston Campus Gym\, 555 North Indian Creek Dr.\, Clarkston
GEO:33.7930334;-84.2343236
X-APPLE-STRUCTURED-LOCATION;VALUE=URI;X-ADDRESS=Georgia State University Clarkston Campus Gym 555 North Indian Creek Dr. Clarkston;X-APPLE-RADIUS=500;X-TITLE=555 North Indian Creek Dr.:geo:-84.2343236,33.7930334
END:VEVENT
BEGIN:VEVENT
DTSTART;TZID=UTC:20190127T150000
DTEND;TZID=UTC:20190127T150000
DTSTAMP:20260424T151404
CREATED:20181216T212903Z
LAST-MODIFIED:20181217T113214Z
UID:10001814-1548601200-1548601200@www.atlantaparent.com
SUMMARY:Peter and the Wolf
DESCRIPTION:WSB-TV’s Nicole Carr hosts the DeKalb Symphony Orchestra’s Annual Children’s Concert.
URL:https://www.atlantaparent.com/event/peter-and-the-wolf/
LOCATION:Georgia State University Clarkston Campus Gym\, 555 North Indian Creek Dr.\, Clarkston
ATTACH;FMTTYPE=image/jpeg:https://www.atlantaparent.com/wp-content/uploads/2016/12/Peter-and-the-Wolf-Dekalb-Symphony-Orchestra-1-e1484595138244.jpg
GEO:33.7930334;-84.2343236
X-APPLE-STRUCTURED-LOCATION;VALUE=URI;X-ADDRESS=Georgia State University Clarkston Campus Gym 555 North Indian Creek Dr. Clarkston;X-APPLE-RADIUS=500;X-TITLE=555 North Indian Creek Dr.:geo:-84.2343236,33.7930334
END:VEVENT
BEGIN:VEVENT
DTSTART;TZID=America/New_York:20180128T150000
DTEND;TZID=America/New_York:20180128T160000
DTSTAMP:20260424T151404
CREATED:20171219T173307Z
LAST-MODIFIED:20180129T144356Z
UID:10003358-1517151600-1517155200@www.atlantaparent.com
SUMMARY:Around the World in 60 Minutes
DESCRIPTION:WSB-TV’s Nicole Carr narrates the DeKalb Symphony Orchestra’s Annual Children’s Concert with portrayal of music from around the world.
URL:https://www.atlantaparent.com/event/around-world-60-minutes/
LOCATION:Georgia State University Clarkston Campus Gym\, 555 North Indian Creek Dr.\, Clarkston
ATTACH;FMTTYPE=image/jpeg:https://www.atlantaparent.com/wp-content/uploads/2017/12/DSC_4481-X2.jpg
GEO:33.7930334;-84.2343236
X-APPLE-STRUCTURED-LOCATION;VALUE=URI;X-ADDRESS=Georgia State University Clarkston Campus Gym 555 North Indian Creek Dr. Clarkston;X-APPLE-RADIUS=500;X-TITLE=555 North Indian Creek Dr.:geo:-84.2343236,33.7930334
END:VEVENT
END:VCALENDAR