BEGIN:VCALENDAR
VERSION:2.0
PRODID:-//NEW Atlanta Parent - ECPv6.15.11//NONSGML v1.0//EN
CALSCALE:GREGORIAN
METHOD:PUBLISH
X-WR-CALNAME:NEW Atlanta Parent
X-ORIGINAL-URL:https://www.atlantaparent.com
X-WR-CALDESC:Events for NEW Atlanta Parent
REFRESH-INTERVAL;VALUE=DURATION:PT1H
X-Robots-Tag:noindex
X-PUBLISHED-TTL:PT1H
BEGIN:VTIMEZONE
TZID:America/New_York
BEGIN:DAYLIGHT
TZOFFSETFROM:-0500
TZOFFSETTO:-0400
TZNAME:EDT
DTSTART:20170312T070000
END:DAYLIGHT
BEGIN:STANDARD
TZOFFSETFROM:-0400
TZOFFSETTO:-0500
TZNAME:EST
DTSTART:20171105T060000
END:STANDARD
BEGIN:DAYLIGHT
TZOFFSETFROM:-0500
TZOFFSETTO:-0400
TZNAME:EDT
DTSTART:20180311T070000
END:DAYLIGHT
BEGIN:STANDARD
TZOFFSETFROM:-0400
TZOFFSETTO:-0500
TZNAME:EST
DTSTART:20181104T060000
END:STANDARD
BEGIN:DAYLIGHT
TZOFFSETFROM:-0500
TZOFFSETTO:-0400
TZNAME:EDT
DTSTART:20190310T070000
END:DAYLIGHT
BEGIN:STANDARD
TZOFFSETFROM:-0400
TZOFFSETTO:-0500
TZNAME:EST
DTSTART:20191103T060000
END:STANDARD
END:VTIMEZONE
BEGIN:VEVENT
DTSTART;TZID=America/New_York:20180901T120000
DTEND;TZID=America/New_York:20180901T190000
DTSTAMP:20260424T221322
CREATED:20180831T133124Z
LAST-MODIFIED:20180831T133124Z
UID:10003686-1535803200-1535828400@www.atlantaparent.com
SUMMARY:LUDAFAMDAY
DESCRIPTION:Join Grammy Award-Winning Artist Ludacris for a day filled with family-friendly fun\, live music\, food\, attractions and more. Food trucks\, entertainment\, kids’ zone and vendor marketplace.
URL:https://www.atlantaparent.com/event/ludafamday/
LOCATION:Friendship Field\, 99 Northside Dr. SW\, Atlanta
GEO:33.7449087;-84.4090282
X-APPLE-STRUCTURED-LOCATION;VALUE=URI;X-ADDRESS=Friendship Field 99 Northside Dr. SW Atlanta;X-APPLE-RADIUS=500;X-TITLE=99 Northside Dr. SW:geo:-84.4090282,33.7449087
END:VEVENT
END:VCALENDAR