BEGIN:VCALENDAR
VERSION:2.0
PRODID:-//NEW Atlanta Parent - ECPv6.15.11//NONSGML v1.0//EN
CALSCALE:GREGORIAN
METHOD:PUBLISH
X-ORIGINAL-URL:https://www.atlantaparent.com
X-WR-CALDESC:Events for NEW Atlanta Parent
REFRESH-INTERVAL;VALUE=DURATION:PT1H
X-Robots-Tag:noindex
X-PUBLISHED-TTL:PT1H
BEGIN:VTIMEZONE
TZID:America/New_York
BEGIN:DAYLIGHT
TZOFFSETFROM:-0500
TZOFFSETTO:-0400
TZNAME:EDT
DTSTART:20180311T070000
END:DAYLIGHT
BEGIN:STANDARD
TZOFFSETFROM:-0400
TZOFFSETTO:-0500
TZNAME:EST
DTSTART:20181104T060000
END:STANDARD
BEGIN:DAYLIGHT
TZOFFSETFROM:-0500
TZOFFSETTO:-0400
TZNAME:EDT
DTSTART:20190310T070000
END:DAYLIGHT
BEGIN:STANDARD
TZOFFSETFROM:-0400
TZOFFSETTO:-0500
TZNAME:EST
DTSTART:20191103T060000
END:STANDARD
BEGIN:DAYLIGHT
TZOFFSETFROM:-0500
TZOFFSETTO:-0400
TZNAME:EDT
DTSTART:20200308T070000
END:DAYLIGHT
BEGIN:STANDARD
TZOFFSETFROM:-0400
TZOFFSETTO:-0500
TZNAME:EST
DTSTART:20201101T060000
END:STANDARD
END:VTIMEZONE
BEGIN:VEVENT
DTSTART;VALUE=DATE:20191031
DTEND;VALUE=DATE:20191201
DTSTAMP:20260419T193929
CREATED:20190830T234439Z
LAST-MODIFIED:20190902T182308Z
UID:10003785-1572480000-1575158399@www.atlantaparent.com
SUMMARY:Fear The Woods at Yule Forest
DESCRIPTION:Adventures include a haunted house\, a thrill ride\, a haunted trail and an interactive combat zone with zombies. Recommended for ages 13 and older. Not recommended for pregnant women or people with medical conditions. Sept. 27-Oct. 27 and Oct. 31. Fri. and Sat. 7 p.m.-midnight. Sun. 7-11 p.m. Halloween 7 p.m.-midnight.
URL:https://www.atlantaparent.com/event/fear-the-woods-at-yule-forest/2019-10-31/
LOCATION:Fear the Woods at Yule Forest\, 3565 N Hwy. 155\, Stockbridge\, GA\, United States
GEO:33.7032963;-84.2704126
X-APPLE-STRUCTURED-LOCATION;VALUE=URI;X-ADDRESS=Fear the Woods at Yule Forest 3565 N Hwy. 155 Stockbridge GA United States;X-APPLE-RADIUS=500;X-TITLE=3565 N Hwy. 155:geo:-84.2704126,33.7032963
END:VEVENT
END:VCALENDAR