BEGIN:VCALENDAR
VERSION:2.0
PRODID:-//NEW Atlanta Parent - ECPv6.15.11//NONSGML v1.0//EN
CALSCALE:GREGORIAN
METHOD:PUBLISH
X-ORIGINAL-URL:https://www.atlantaparent.com
X-WR-CALDESC:Events for NEW Atlanta Parent
REFRESH-INTERVAL;VALUE=DURATION:PT1H
X-Robots-Tag:noindex
X-PUBLISHED-TTL:PT1H
BEGIN:VTIMEZONE
TZID:UTC
BEGIN:STANDARD
TZOFFSETFROM:+0000
TZOFFSETTO:+0000
TZNAME:UTC
DTSTART:20180101T000000
END:STANDARD
END:VTIMEZONE
BEGIN:VEVENT
DTSTART;TZID=UTC:20191214T100000
DTEND;TZID=UTC:20191214T120000
DTSTAMP:20260425T075805
CREATED:20181125T050014Z
LAST-MODIFIED:20191015T150323Z
UID:10000967-1576317600-1576324800@www.atlantaparent.com
SUMMARY:Breakfast Buffet with Santa
DESCRIPTION:Treat yourself to a breakfast buffet with Santa\, sing carols\, get an all-attractions pass to Stone Mountain Park and more. Proceeds benefit Friends of Disabled Adults and Children Too! Inc. $30; ages 6-11\, $20; ages 5 and younger\, free with adult admission.
URL:https://www.atlantaparent.com/event/breakfast-buffet-santa/
LOCATION:Evergreen Marriott Conference Resort\, 4021 Lakeview Dr.\, Stone Mountain
END:VEVENT
END:VCALENDAR