BEGIN:VCALENDAR
VERSION:2.0
PRODID:-//NEW Atlanta Parent - ECPv6.15.11//NONSGML v1.0//EN
CALSCALE:GREGORIAN
METHOD:PUBLISH
X-ORIGINAL-URL:https://www.atlantaparent.com
X-WR-CALDESC:Events for NEW Atlanta Parent
REFRESH-INTERVAL;VALUE=DURATION:PT1H
X-Robots-Tag:noindex
X-PUBLISHED-TTL:PT1H
BEGIN:VTIMEZONE
TZID:UTC
BEGIN:STANDARD
TZOFFSETFROM:+0000
TZOFFSETTO:+0000
TZNAME:UTC
DTSTART:20180101T000000
END:STANDARD
END:VTIMEZONE
BEGIN:VEVENT
DTSTART;TZID=UTC:20190428T120000
DTEND;TZID=UTC:20190428T150000
DTSTAMP:20260421T025052
CREATED:20190323T203816Z
LAST-MODIFIED:20190326T014449Z
UID:10002400-1556452800-1556463600@www.atlantaparent.com
SUMMARY:Kids’ Bicycle Safety Rodeo
DESCRIPTION:Kids can learn about bike safety and then participate in an obstacle course at the Roswell Moves! event\, part of the week-long Roswell Cycling Festival\, April 23-28. All bikes must pass a safety inspection; visit Roswell Bicycles (670 Houze Way\, Roswell) prior to the festival to avoid lines at the rodeo. Bring your own bicycle and helmet. Children who complete the rodeo will be certified to roll on the REI Pump Track. Ages 6-12\, free.
URL:https://www.atlantaparent.com/event/kids-bicycle-safety-rodeo-race/
LOCATION:East Alley Pathway in Historic Roswell\, 1003 Canton St.\, Roswell
ATTACH;FMTTYPE=image/jpeg:https://www.atlantaparent.com/wp-content/uploads/2018/03/rodeo-2005-girl-on-bike-2.jpg
END:VEVENT
END:VCALENDAR