BEGIN:VCALENDAR
VERSION:2.0
PRODID:-//NEW Atlanta Parent - ECPv6.15.11//NONSGML v1.0//EN
CALSCALE:GREGORIAN
METHOD:PUBLISH
X-ORIGINAL-URL:https://www.atlantaparent.com
X-WR-CALDESC:Events for NEW Atlanta Parent
REFRESH-INTERVAL;VALUE=DURATION:PT1H
X-Robots-Tag:noindex
X-PUBLISHED-TTL:PT1H
BEGIN:VTIMEZONE
TZID:America/New_York
BEGIN:DAYLIGHT
TZOFFSETFROM:-0500
TZOFFSETTO:-0400
TZNAME:EDT
DTSTART:20240310T070000
END:DAYLIGHT
BEGIN:STANDARD
TZOFFSETFROM:-0400
TZOFFSETTO:-0500
TZNAME:EST
DTSTART:20241103T060000
END:STANDARD
BEGIN:DAYLIGHT
TZOFFSETFROM:-0500
TZOFFSETTO:-0400
TZNAME:EDT
DTSTART:20250309T070000
END:DAYLIGHT
BEGIN:STANDARD
TZOFFSETFROM:-0400
TZOFFSETTO:-0500
TZNAME:EST
DTSTART:20251102T060000
END:STANDARD
BEGIN:DAYLIGHT
TZOFFSETFROM:-0500
TZOFFSETTO:-0400
TZNAME:EDT
DTSTART:20260308T070000
END:DAYLIGHT
BEGIN:STANDARD
TZOFFSETFROM:-0400
TZOFFSETTO:-0500
TZNAME:EST
DTSTART:20261101T060000
END:STANDARD
END:VTIMEZONE
BEGIN:VEVENT
DTSTART;TZID=America/New_York:20250703T180000
DTEND;TZID=America/New_York:20250703T220000
DTSTAMP:20260423T190619
CREATED:20250510T134536Z
LAST-MODIFIED:20250515T190836Z
UID:10001858-1751565600-1751580000@www.atlantaparent.com
SUMMARY:Kennesaw’s Salute to America
DESCRIPTION:Pre-Fourth celebration including two stages of live music\, food vendors and fireworks at 9:30 p.m. Free admission.
URL:https://www.atlantaparent.com/event/kennesaws-salute-america/
LOCATION:Downtown Kennesaw and Depot Park\, 2829 Cherokee St.\, Kennesaw\, GA\, United States
ATTACH;FMTTYPE=image/jpeg:https://www.atlantaparent.com/wp-content/uploads/2020/05/2018-Kennesaw-4th-3033-scaled-e1621952573561.jpg
GEO:34.0239779;-84.6143063
X-APPLE-STRUCTURED-LOCATION;VALUE=URI;X-ADDRESS=Downtown Kennesaw and Depot Park 2829 Cherokee St. Kennesaw GA United States;X-APPLE-RADIUS=500;X-TITLE=2829 Cherokee St.:geo:-84.6143063,34.0239779
END:VEVENT
END:VCALENDAR