BEGIN:VCALENDAR
VERSION:2.0
PRODID:-//NEW Atlanta Parent - ECPv6.15.11//NONSGML v1.0//EN
CALSCALE:GREGORIAN
METHOD:PUBLISH
X-ORIGINAL-URL:https://www.atlantaparent.com
X-WR-CALDESC:Events for NEW Atlanta Parent
REFRESH-INTERVAL;VALUE=DURATION:PT1H
X-Robots-Tag:noindex
X-PUBLISHED-TTL:PT1H
BEGIN:VTIMEZONE
TZID:America/New_York
BEGIN:DAYLIGHT
TZOFFSETFROM:-0500
TZOFFSETTO:-0400
TZNAME:EDT
DTSTART:20180311T070000
END:DAYLIGHT
BEGIN:STANDARD
TZOFFSETFROM:-0400
TZOFFSETTO:-0500
TZNAME:EST
DTSTART:20181104T060000
END:STANDARD
BEGIN:DAYLIGHT
TZOFFSETFROM:-0500
TZOFFSETTO:-0400
TZNAME:EDT
DTSTART:20190310T070000
END:DAYLIGHT
BEGIN:STANDARD
TZOFFSETFROM:-0400
TZOFFSETTO:-0500
TZNAME:EST
DTSTART:20191103T060000
END:STANDARD
BEGIN:DAYLIGHT
TZOFFSETFROM:-0500
TZOFFSETTO:-0400
TZNAME:EDT
DTSTART:20200308T070000
END:DAYLIGHT
BEGIN:STANDARD
TZOFFSETFROM:-0400
TZOFFSETTO:-0500
TZNAME:EST
DTSTART:20201101T060000
END:STANDARD
BEGIN:DAYLIGHT
TZOFFSETFROM:-0500
TZOFFSETTO:-0400
TZNAME:EDT
DTSTART:20210314T070000
END:DAYLIGHT
BEGIN:STANDARD
TZOFFSETFROM:-0400
TZOFFSETTO:-0500
TZNAME:EST
DTSTART:20211107T060000
END:STANDARD
BEGIN:DAYLIGHT
TZOFFSETFROM:-0500
TZOFFSETTO:-0400
TZNAME:EDT
DTSTART:20220313T070000
END:DAYLIGHT
BEGIN:STANDARD
TZOFFSETFROM:-0400
TZOFFSETTO:-0500
TZNAME:EST
DTSTART:20221106T060000
END:STANDARD
BEGIN:DAYLIGHT
TZOFFSETFROM:-0500
TZOFFSETTO:-0400
TZNAME:EDT
DTSTART:20230312T070000
END:DAYLIGHT
BEGIN:STANDARD
TZOFFSETFROM:-0400
TZOFFSETTO:-0500
TZNAME:EST
DTSTART:20231105T060000
END:STANDARD
BEGIN:DAYLIGHT
TZOFFSETFROM:-0500
TZOFFSETTO:-0400
TZNAME:EDT
DTSTART:20240310T070000
END:DAYLIGHT
BEGIN:STANDARD
TZOFFSETFROM:-0400
TZOFFSETTO:-0500
TZNAME:EST
DTSTART:20241103T060000
END:STANDARD
BEGIN:DAYLIGHT
TZOFFSETFROM:-0500
TZOFFSETTO:-0400
TZNAME:EDT
DTSTART:20250309T070000
END:DAYLIGHT
BEGIN:STANDARD
TZOFFSETFROM:-0400
TZOFFSETTO:-0500
TZNAME:EST
DTSTART:20251102T060000
END:STANDARD
BEGIN:DAYLIGHT
TZOFFSETFROM:-0500
TZOFFSETTO:-0400
TZNAME:EDT
DTSTART:20260308T070000
END:DAYLIGHT
BEGIN:STANDARD
TZOFFSETFROM:-0400
TZOFFSETTO:-0500
TZNAME:EST
DTSTART:20261101T060000
END:STANDARD
END:VTIMEZONE
BEGIN:VEVENT
DTSTART;TZID=America/New_York:20251204T180000
DTEND;TZID=America/New_York:20251204T180000
DTSTAMP:20260421T044348
CREATED:20251004T043449Z
LAST-MODIFIED:20251103T174025Z
UID:10003305-1764871200-1764871200@www.atlantaparent.com
SUMMARY:Decatur Christmas Tree Lighting
DESCRIPTION:This annual tradition includes holiday carols\, hot cocoa\, “snow” and Santa lighting the tree. Free admission.
URL:https://www.atlantaparent.com/event/decatur-christmas-tree-lighting-2/
LOCATION:Decatur Square\, 101 E Court Square\, Decatur
END:VEVENT
BEGIN:VEVENT
DTSTART;TZID=America/New_York:20230609T180000
DTEND;TZID=America/New_York:20230609T200000
DTSTAMP:20260421T044348
CREATED:20230508T134736Z
LAST-MODIFIED:20230508T134736Z
UID:10006862-1686333600-1686340800@www.atlantaparent.com
SUMMARY:Rock the Mic: Karaoke Night
DESCRIPTION:Belt out your favorite tunes with a bandstand. Free admission.
URL:https://www.atlantaparent.com/event/rock-the-mic-karaoke-night/2023-06-09/
LOCATION:Decatur Square\, 101 E Court Square\, Decatur
END:VEVENT
BEGIN:VEVENT
DTSTART;TZID=America/New_York:20230520T160000
DTEND;TZID=America/New_York:20230520T200000
DTSTAMP:20260421T044348
CREATED:20230508T135220Z
LAST-MODIFIED:20230508T135220Z
UID:10006860-1684598400-1684612800@www.atlantaparent.com
SUMMARY:Beacon Hill Concert
DESCRIPTION:Get ready to groove with ’70s and ’80s dance tunes from local favorites\, and enjoy delicious food from Black and Indigenous food truck vendors. Free admission.
URL:https://www.atlantaparent.com/event/beacon-hill-concert/
LOCATION:Decatur Square\, 101 E Court Square\, Decatur
END:VEVENT
BEGIN:VEVENT
DTSTART;VALUE=DATE:20210212
DTEND;VALUE=DATE:20210215
DTSTAMP:20260421T044348
CREATED:20210201T140706Z
LAST-MODIFIED:20210201T140706Z
UID:10005617-1613088000-1613347199@www.atlantaparent.com
SUMMARY:Skate on the Square
DESCRIPTION:Enjoy skating on the temporary ice in Decatur. Reservation required. Fri. 4-11 p.m.; Sat. 11 a.m.-11 p.m. and Sun. noon-8 p.m. $15; ages 3 and younger\, free.
URL:https://www.atlantaparent.com/event/skate-on-the-square/
LOCATION:Decatur Square\, 101 E Court Square\, Decatur
END:VEVENT
BEGIN:VEVENT
DTSTART;VALUE=DATE:20190907
DTEND;VALUE=DATE:20191101
DTSTAMP:20260421T044348
CREATED:20190905T162535Z
LAST-MODIFIED:20190908T171529Z
UID:10002964-1567814400-1572566399@www.atlantaparent.com
SUMMARY:Decatur Ghost Tour
DESCRIPTION:Led by professional psychic medium and paranormal investigator\, Boo Newell\, this tour discusses tales of murder\, passion\, vice\, war and tragedy. The tour lasts about two hours and covers one mile. Meet at the bandstand in Decatur Square. See website for schedule. $15; ages 10 and younger\, $12.
URL:https://www.atlantaparent.com/event/decatur-ghost-tours/
LOCATION:Decatur Square\, 101 E Court Square\, Decatur
END:VEVENT
END:VCALENDAR