BEGIN:VCALENDAR
VERSION:2.0
PRODID:-//NEW Atlanta Parent - ECPv6.15.11//NONSGML v1.0//EN
CALSCALE:GREGORIAN
METHOD:PUBLISH
X-ORIGINAL-URL:https://www.atlantaparent.com
X-WR-CALDESC:Events for NEW Atlanta Parent
REFRESH-INTERVAL;VALUE=DURATION:PT1H
X-Robots-Tag:noindex
X-PUBLISHED-TTL:PT1H
BEGIN:VTIMEZONE
TZID:UTC
BEGIN:STANDARD
TZOFFSETFROM:+0000
TZOFFSETTO:+0000
TZNAME:UTC
DTSTART:20240101T000000
END:STANDARD
END:VTIMEZONE
BEGIN:VTIMEZONE
TZID:America/New_York
BEGIN:DAYLIGHT
TZOFFSETFROM:-0500
TZOFFSETTO:-0400
TZNAME:EDT
DTSTART:20170312T070000
END:DAYLIGHT
BEGIN:STANDARD
TZOFFSETFROM:-0400
TZOFFSETTO:-0500
TZNAME:EST
DTSTART:20171105T060000
END:STANDARD
BEGIN:DAYLIGHT
TZOFFSETFROM:-0500
TZOFFSETTO:-0400
TZNAME:EDT
DTSTART:20180311T070000
END:DAYLIGHT
BEGIN:STANDARD
TZOFFSETFROM:-0400
TZOFFSETTO:-0500
TZNAME:EST
DTSTART:20181104T060000
END:STANDARD
BEGIN:DAYLIGHT
TZOFFSETFROM:-0500
TZOFFSETTO:-0400
TZNAME:EDT
DTSTART:20190310T070000
END:DAYLIGHT
BEGIN:STANDARD
TZOFFSETFROM:-0400
TZOFFSETTO:-0500
TZNAME:EST
DTSTART:20191103T060000
END:STANDARD
END:VTIMEZONE
BEGIN:VEVENT
DTSTART;TZID=UTC:20251211T180000
DTEND;TZID=UTC:20251211T200000
DTSTAMP:20260420T030455
CREATED:20251019T040034Z
LAST-MODIFIED:20251103T163912Z
UID:10000633-1765476000-1765483200@www.atlantaparent.com
SUMMARY:Bonfire + Marshmallow Roast on the Square
DESCRIPTION:Roast a marshmallow around a roaring bonfire to warm up this season. Registration requested. Free admission.
URL:https://www.atlantaparent.com/event/holiday-bonfire-marshmallow-roast/
LOCATION:Decatur Square\, 101 E. Court Square\, Decatur
GEO:33.775113;-84.296468
X-APPLE-STRUCTURED-LOCATION;VALUE=URI;X-ADDRESS=Decatur Square 101 E. Court Square Decatur;X-APPLE-RADIUS=500;X-TITLE=101 E. Court Square:geo:-84.296468,33.775113
END:VEVENT
BEGIN:VEVENT
DTSTART;TZID=America/New_York:20180929T200000
DTEND;TZID=America/New_York:20180929T200000
DTSTAMP:20260420T030455
CREATED:20180907T184527Z
LAST-MODIFIED:20180907T184708Z
UID:10003710-1538251200-1538251200@www.atlantaparent.com
SUMMARY:Decatur Ghost Tour
DESCRIPTION:Come meet some of Decatur’s ghosts on this historical\, paranormal walking tour of downtown Decatur. Reservations required. Every Sat. 8 p.m. Adults\, $15; ages 9 and and younger\, $12.
URL:https://www.atlantaparent.com/event/decatur-ghost-tour/2018-09-29/
LOCATION:Decatur Square\, 101 E. Court Square\, Decatur
GEO:33.775113;-84.296468
X-APPLE-STRUCTURED-LOCATION;VALUE=URI;X-ADDRESS=Decatur Square 101 E. Court Square Decatur;X-APPLE-RADIUS=500;X-TITLE=101 E. Court Square:geo:-84.296468,33.775113
END:VEVENT
END:VCALENDAR