BEGIN:VCALENDAR
VERSION:2.0
PRODID:-//NEW Atlanta Parent - ECPv6.15.11//NONSGML v1.0//EN
CALSCALE:GREGORIAN
METHOD:PUBLISH
X-WR-CALNAME:NEW Atlanta Parent
X-ORIGINAL-URL:https://www.atlantaparent.com
X-WR-CALDESC:Events for NEW Atlanta Parent
REFRESH-INTERVAL;VALUE=DURATION:PT1H
X-Robots-Tag:noindex
X-PUBLISHED-TTL:PT1H
BEGIN:VTIMEZONE
TZID:America/New_York
BEGIN:DAYLIGHT
TZOFFSETFROM:-0500
TZOFFSETTO:-0400
TZNAME:EDT
DTSTART:20190310T070000
END:DAYLIGHT
BEGIN:STANDARD
TZOFFSETFROM:-0400
TZOFFSETTO:-0500
TZNAME:EST
DTSTART:20191103T060000
END:STANDARD
BEGIN:DAYLIGHT
TZOFFSETFROM:-0500
TZOFFSETTO:-0400
TZNAME:EDT
DTSTART:20200308T070000
END:DAYLIGHT
BEGIN:STANDARD
TZOFFSETFROM:-0400
TZOFFSETTO:-0500
TZNAME:EST
DTSTART:20201101T060000
END:STANDARD
BEGIN:DAYLIGHT
TZOFFSETFROM:-0500
TZOFFSETTO:-0400
TZNAME:EDT
DTSTART:20210314T070000
END:DAYLIGHT
BEGIN:STANDARD
TZOFFSETFROM:-0400
TZOFFSETTO:-0500
TZNAME:EST
DTSTART:20211107T060000
END:STANDARD
BEGIN:DAYLIGHT
TZOFFSETFROM:-0500
TZOFFSETTO:-0400
TZNAME:EDT
DTSTART:20220313T070000
END:DAYLIGHT
BEGIN:STANDARD
TZOFFSETFROM:-0400
TZOFFSETTO:-0500
TZNAME:EST
DTSTART:20221106T060000
END:STANDARD
BEGIN:DAYLIGHT
TZOFFSETFROM:-0500
TZOFFSETTO:-0400
TZNAME:EDT
DTSTART:20230312T070000
END:DAYLIGHT
BEGIN:STANDARD
TZOFFSETFROM:-0400
TZOFFSETTO:-0500
TZNAME:EST
DTSTART:20231105T060000
END:STANDARD
BEGIN:DAYLIGHT
TZOFFSETFROM:-0500
TZOFFSETTO:-0400
TZNAME:EDT
DTSTART:20240310T070000
END:DAYLIGHT
BEGIN:STANDARD
TZOFFSETFROM:-0400
TZOFFSETTO:-0500
TZNAME:EST
DTSTART:20241103T060000
END:STANDARD
END:VTIMEZONE
BEGIN:VEVENT
DTSTART;TZID=America/New_York:20231005T180000
DTEND;TZID=America/New_York:20231005T180000
DTSTAMP:20260422T031733
CREATED:20230906T160555Z
LAST-MODIFIED:20230914T185246Z
UID:10007413-1696528800-1696528800@www.atlantaparent.com
SUMMARY:Disney Junior Live On Tour: Costume Palooza!
DESCRIPTION:Disney / Lorenzo Bevilaqua \nMickey\, Minnie and their pals are hosting a huge costume party\, but mysterious green rain\, wind and smoke interrupt the fun. Can Spidey and his fellow heroes save the party? $29.50-$89.50.
URL:https://www.atlantaparent.com/event/disney-junior-live-on-tour-costume-palooza/
LOCATION:Cobb Energy Centre\, 2800 Cobb Galleria Pkwy.\, Atlanta
ATTACH;FMTTYPE=image/jpeg:https://www.atlantaparent.com/wp-content/uploads/2023/09/170065_0018-Photo-Credit-Lorenzo-Bevilaqua-e1694717537346.jpg
END:VEVENT
BEGIN:VEVENT
DTSTART;TZID=America/New_York:20220605T150000
DTEND;TZID=America/New_York:20220605T150000
DTSTAMP:20260422T031733
CREATED:20220502T144159Z
LAST-MODIFIED:20220502T144159Z
UID:10006372-1654441200-1654441200@www.atlantaparent.com
SUMMARY:Wow in the World Pop Up Party
DESCRIPTION:This popular podcast becomes a show depicting interactive STEM games\, comedy skits and science-themed songs to engage the curiosity of kids. $29.50-$79.
URL:https://www.atlantaparent.com/event/wow-in-the-world-pop-up-party/
LOCATION:Cobb Energy Centre\, 2800 Cobb Galleria Pkwy.\, Atlanta
END:VEVENT
BEGIN:VEVENT
DTSTART;TZID=America/New_York:20200114T193000
DTEND;TZID=America/New_York:20200114T193000
DTSTAMP:20260422T031733
CREATED:20191216T192402Z
LAST-MODIFIED:20191216T192402Z
UID:10004792-1579030200-1579030200@www.atlantaparent.com
SUMMARY:Criss Angel RAW: The Mindfreak Unplugged
DESCRIPTION:This evening of magic includes Criss Angel and his friends\, sleight of hand street magic\, mentalism and illusions.
URL:https://www.atlantaparent.com/event/criss-angel-raw-the-mindfreak-unplugged/
LOCATION:Cobb Energy Centre\, 2800 Cobb Galleria Pkwy.\, Atlanta
END:VEVENT
END:VCALENDAR