BEGIN:VCALENDAR
VERSION:2.0
PRODID:-//NEW Atlanta Parent - ECPv6.15.11//NONSGML v1.0//EN
CALSCALE:GREGORIAN
METHOD:PUBLISH
X-WR-CALNAME:NEW Atlanta Parent
X-ORIGINAL-URL:https://www.atlantaparent.com
X-WR-CALDESC:Events for NEW Atlanta Parent
REFRESH-INTERVAL;VALUE=DURATION:PT1H
X-Robots-Tag:noindex
X-PUBLISHED-TTL:PT1H
BEGIN:VTIMEZONE
TZID:UTC
BEGIN:STANDARD
TZOFFSETFROM:+0000
TZOFFSETTO:+0000
TZNAME:UTC
DTSTART:20190101T000000
END:STANDARD
END:VTIMEZONE
BEGIN:VEVENT
DTSTART;TZID=UTC:20200502T140000
DTEND;TZID=UTC:20200502T170000
DTSTAMP:20260421T080445
CREATED:20200302T211319Z
LAST-MODIFIED:20200408T181130Z
UID:10002639-1588428000-1588438800@www.atlantaparent.com
SUMMARY:POSTPONED: Fairy House Festival
DESCRIPTION:Due to cancellations to prevent the spread of coronavirus\, please verify event before you go.     \n            \n\n  \n\n                \n     \nEnjoy live entertainment\, crafts\, storytelling\, refreshments and costumes. Build your own fairy house to take home and visit the fairy house village. May 2\, 2-5 p.m. $5; ages 2 and younger\, free.
URL:https://www.atlantaparent.com/event/fairy-house-festival/
LOCATION:Chimney Park\, 8201 Hazelbrand Road\, Covington
ATTACH;FMTTYPE=image/jpeg:https://www.atlantaparent.com/wp-content/uploads/2017/04/Little-Fairies-b.jpg
GEO:33.5987331;-83.8385846
X-APPLE-STRUCTURED-LOCATION;VALUE=URI;X-ADDRESS=Chimney Park 8201 Hazelbrand Road Covington;X-APPLE-RADIUS=500;X-TITLE=8201 Hazelbrand Road:geo:-83.8385846,33.5987331
END:VEVENT
END:VCALENDAR