BEGIN:VCALENDAR
VERSION:2.0
PRODID:-//NEW Atlanta Parent - ECPv6.15.11//NONSGML v1.0//EN
CALSCALE:GREGORIAN
METHOD:PUBLISH
X-WR-CALNAME:NEW Atlanta Parent
X-ORIGINAL-URL:https://www.atlantaparent.com
X-WR-CALDESC:Events for NEW Atlanta Parent
REFRESH-INTERVAL;VALUE=DURATION:PT1H
X-Robots-Tag:noindex
X-PUBLISHED-TTL:PT1H
BEGIN:VTIMEZONE
TZID:America/New_York
BEGIN:DAYLIGHT
TZOFFSETFROM:-0500
TZOFFSETTO:-0400
TZNAME:EDT
DTSTART:20240310T070000
END:DAYLIGHT
BEGIN:STANDARD
TZOFFSETFROM:-0400
TZOFFSETTO:-0500
TZNAME:EST
DTSTART:20241103T060000
END:STANDARD
BEGIN:DAYLIGHT
TZOFFSETFROM:-0500
TZOFFSETTO:-0400
TZNAME:EDT
DTSTART:20250309T070000
END:DAYLIGHT
BEGIN:STANDARD
TZOFFSETFROM:-0400
TZOFFSETTO:-0500
TZNAME:EST
DTSTART:20251102T060000
END:STANDARD
BEGIN:DAYLIGHT
TZOFFSETFROM:-0500
TZOFFSETTO:-0400
TZNAME:EDT
DTSTART:20260308T070000
END:DAYLIGHT
BEGIN:STANDARD
TZOFFSETFROM:-0400
TZOFFSETTO:-0500
TZNAME:EST
DTSTART:20261101T060000
END:STANDARD
END:VTIMEZONE
BEGIN:VEVENT
DTSTART;VALUE=DATE:20251004
DTEND;VALUE=DATE:20251006
DTSTAMP:20260422T104821
CREATED:20250624T180840Z
LAST-MODIFIED:20250625T202457Z
UID:10004971-1759536000-1759708799@www.atlantaparent.com
SUMMARY:Candler Park's Fall Festival
DESCRIPTION:This festival features live music on two stages\, an artist market\, food trucks and a kids’ area. Free admission.
URL:https://www.atlantaparent.com/event/candler-park-music-festival/
LOCATION:Candler Park\, 1500 McLendon Ave.\, Atlanta
GEO:33.7661881;-84.3373915
X-APPLE-STRUCTURED-LOCATION;VALUE=URI;X-ADDRESS=Candler Park 1500 McLendon Ave. Atlanta;X-APPLE-RADIUS=500;X-TITLE=1500 McLendon Ave.:geo:-84.3373915,33.7661881
END:VEVENT
END:VCALENDAR