BEGIN:VCALENDAR
VERSION:2.0
PRODID:-//NEW Atlanta Parent - ECPv6.15.11//NONSGML v1.0//EN
CALSCALE:GREGORIAN
METHOD:PUBLISH
X-ORIGINAL-URL:https://www.atlantaparent.com
X-WR-CALDESC:Events for NEW Atlanta Parent
REFRESH-INTERVAL;VALUE=DURATION:PT1H
X-Robots-Tag:noindex
X-PUBLISHED-TTL:PT1H
BEGIN:VTIMEZONE
TZID:America/New_York
BEGIN:DAYLIGHT
TZOFFSETFROM:-0500
TZOFFSETTO:-0400
TZNAME:EDT
DTSTART:20230312T070000
END:DAYLIGHT
BEGIN:STANDARD
TZOFFSETFROM:-0400
TZOFFSETTO:-0500
TZNAME:EST
DTSTART:20231105T060000
END:STANDARD
BEGIN:DAYLIGHT
TZOFFSETFROM:-0500
TZOFFSETTO:-0400
TZNAME:EDT
DTSTART:20240310T070000
END:DAYLIGHT
BEGIN:STANDARD
TZOFFSETFROM:-0400
TZOFFSETTO:-0500
TZNAME:EST
DTSTART:20241103T060000
END:STANDARD
BEGIN:DAYLIGHT
TZOFFSETFROM:-0500
TZOFFSETTO:-0400
TZNAME:EDT
DTSTART:20250309T070000
END:DAYLIGHT
BEGIN:STANDARD
TZOFFSETFROM:-0400
TZOFFSETTO:-0500
TZNAME:EST
DTSTART:20251102T060000
END:STANDARD
END:VTIMEZONE
BEGIN:VEVENT
DTSTART;VALUE=DATE:20241027
DTEND;VALUE=DATE:20241029
DTSTAMP:20260424T020549
CREATED:20240309T150912Z
LAST-MODIFIED:20240919T153043Z
UID:10008675-1729987200-1730159940@www.atlantaparent.com
SUMMARY:Alpharetta Art in the Park
DESCRIPTION:Shop pottery\, woodwork\, metal work\, jewelry creations\, handmade children’s clothing\, photography\, watercolor\, oil\, soaps and lotions\, mosaic art and more. Sat. 9 a.m.-4 p.m. and Sun. noon-4 p.m.
URL:https://www.atlantaparent.com/event/art-in-the-park-2/2024-10-27/
LOCATION:Brooke Street Park\, 2 Park Plaza\, Alpharetta
ATTACH;FMTTYPE=image/jpeg:https://www.atlantaparent.com/wp-content/uploads/2019/08/Alpharetta-Art-in-the-Park-scaled-e1598453491203.jpg
END:VEVENT
BEGIN:VEVENT
DTSTART;TZID=America/New_York:20240914T193000
DTEND;TZID=America/New_York:20240914T193000
DTSTAMP:20260424T020549
CREATED:20210602T213512Z
LAST-MODIFIED:20240503T134203Z
UID:10008346-1726342200-1726342200@www.atlantaparent.com
SUMMARY:Home by Dark at Brooke Street Park Concert Series
DESCRIPTION:Free monthly music series. 7:30 p.m.
URL:https://www.atlantaparent.com/event/brooke-street-park-summer-concert-series/2024-09-14/
LOCATION:Brooke Street Park\, 2 Park Plaza\, Alpharetta
END:VEVENT
END:VCALENDAR