BEGIN:VCALENDAR
VERSION:2.0
PRODID:-//NEW Atlanta Parent - ECPv6.15.11//NONSGML v1.0//EN
CALSCALE:GREGORIAN
METHOD:PUBLISH
X-ORIGINAL-URL:https://www.atlantaparent.com
X-WR-CALDESC:Events for NEW Atlanta Parent
REFRESH-INTERVAL;VALUE=DURATION:PT1H
X-Robots-Tag:noindex
X-PUBLISHED-TTL:PT1H
BEGIN:VTIMEZONE
TZID:America/New_York
BEGIN:DAYLIGHT
TZOFFSETFROM:-0500
TZOFFSETTO:-0400
TZNAME:EDT
DTSTART:20190310T070000
END:DAYLIGHT
BEGIN:STANDARD
TZOFFSETFROM:-0400
TZOFFSETTO:-0500
TZNAME:EST
DTSTART:20191103T060000
END:STANDARD
BEGIN:DAYLIGHT
TZOFFSETFROM:-0500
TZOFFSETTO:-0400
TZNAME:EDT
DTSTART:20200308T070000
END:DAYLIGHT
BEGIN:STANDARD
TZOFFSETFROM:-0400
TZOFFSETTO:-0500
TZNAME:EST
DTSTART:20201101T060000
END:STANDARD
BEGIN:DAYLIGHT
TZOFFSETFROM:-0500
TZOFFSETTO:-0400
TZNAME:EDT
DTSTART:20210314T070000
END:DAYLIGHT
BEGIN:STANDARD
TZOFFSETFROM:-0400
TZOFFSETTO:-0500
TZNAME:EST
DTSTART:20211107T060000
END:STANDARD
END:VTIMEZONE
BEGIN:VEVENT
DTSTART;TZID=America/New_York:20201024T183000
DTEND;TZID=America/New_York:20201024T220000
DTSTAMP:20260423T055904
CREATED:20200826T141134Z
LAST-MODIFIED:20200909T135741Z
UID:10005350-1603564200-1603576800@www.atlantaparent.com
SUMMARY:Duluth Drive-In Theatre
DESCRIPTION:Enjoy films at this free experience with concessions available for purchase at The Red Popcorn Wagon. Registration required. \nSept. 12 – Jurassic Park\nSept. 26 – Space Jam\nOct. 10 – Addams Family\nOct. 24 – Beetlejuice
URL:https://www.atlantaparent.com/event/duluth-drive-in-theatre/2020-10-24/
LOCATION:Bill Head Funeral Homes & Crematory\, 3088 Duluth Hwy.\, Duluth
GEO:33.9921931;-84.1331244
X-APPLE-STRUCTURED-LOCATION;VALUE=URI;X-ADDRESS=Bill Head Funeral Homes & Crematory 3088 Duluth Hwy. Duluth;X-APPLE-RADIUS=500;X-TITLE=3088 Duluth Hwy.:geo:-84.1331244,33.9921931
END:VEVENT
END:VCALENDAR