BEGIN:VCALENDAR
VERSION:2.0
PRODID:-//NEW Atlanta Parent - ECPv6.15.11//NONSGML v1.0//EN
CALSCALE:GREGORIAN
METHOD:PUBLISH
X-WR-CALNAME:NEW Atlanta Parent
X-ORIGINAL-URL:https://www.atlantaparent.com
X-WR-CALDESC:Events for NEW Atlanta Parent
REFRESH-INTERVAL;VALUE=DURATION:PT1H
X-Robots-Tag:noindex
X-PUBLISHED-TTL:PT1H
BEGIN:VTIMEZONE
TZID:America/New_York
BEGIN:DAYLIGHT
TZOFFSETFROM:-0500
TZOFFSETTO:-0400
TZNAME:EDT
DTSTART:20230312T070000
END:DAYLIGHT
BEGIN:STANDARD
TZOFFSETFROM:-0400
TZOFFSETTO:-0500
TZNAME:EST
DTSTART:20231105T060000
END:STANDARD
BEGIN:DAYLIGHT
TZOFFSETFROM:-0500
TZOFFSETTO:-0400
TZNAME:EDT
DTSTART:20240310T070000
END:DAYLIGHT
BEGIN:STANDARD
TZOFFSETFROM:-0400
TZOFFSETTO:-0500
TZNAME:EST
DTSTART:20241103T060000
END:STANDARD
BEGIN:DAYLIGHT
TZOFFSETFROM:-0500
TZOFFSETTO:-0400
TZNAME:EDT
DTSTART:20250309T070000
END:DAYLIGHT
BEGIN:STANDARD
TZOFFSETFROM:-0400
TZOFFSETTO:-0500
TZNAME:EST
DTSTART:20251102T060000
END:STANDARD
END:VTIMEZONE
BEGIN:VEVENT
DTSTART;TZID=America/New_York:20241022T080000
DTEND;TZID=America/New_York:20241022T170000
DTSTAMP:20260422T180828
CREATED:20241022T141115Z
LAST-MODIFIED:20241022T141750Z
UID:10008778-1729584000-1729616400@www.atlantaparent.com
SUMMARY:Create Holiday Memories in Auburn-Opelika
DESCRIPTION:Experience the magic of the holidays in Auburn-Opelika! From ice skating under a 24-foot Christmas tree at Hey Day Holiday to exploring festive downtowns filled with twinkling lights\, holiday shopping and unique events\, there’s something for everyone. Visit Opelika’s Victorian Front Porch Christmas Tour or Christmas in a Railroad Town for unforgettable family moments. Plan your holiday getaway today and discover why Auburn-Opelika is the perfect destination for creating lasting memories!
URL:https://www.atlantaparent.com/event/create-holiday-memories-in-auburn-opelika/
LOCATION:Auburn-Opelika\, N. Gay St.\, Auburn
ATTACH;FMTTYPE=image/jpeg:https://www.atlantaparent.com/wp-content/uploads/2024/08/AuburnOpelikaNOV24-scaled-e1729606206893.jpeg
END:VEVENT
END:VCALENDAR