BEGIN:VCALENDAR
VERSION:2.0
PRODID:-//NEW Atlanta Parent - ECPv6.15.11//NONSGML v1.0//EN
CALSCALE:GREGORIAN
METHOD:PUBLISH
X-WR-CALNAME:NEW Atlanta Parent
X-ORIGINAL-URL:https://www.atlantaparent.com
X-WR-CALDESC:Events for NEW Atlanta Parent
REFRESH-INTERVAL;VALUE=DURATION:PT1H
X-Robots-Tag:noindex
X-PUBLISHED-TTL:PT1H
BEGIN:VTIMEZONE
TZID:America/New_York
BEGIN:DAYLIGHT
TZOFFSETFROM:-0500
TZOFFSETTO:-0400
TZNAME:EDT
DTSTART:20190310T070000
END:DAYLIGHT
BEGIN:STANDARD
TZOFFSETFROM:-0400
TZOFFSETTO:-0500
TZNAME:EST
DTSTART:20191103T060000
END:STANDARD
BEGIN:DAYLIGHT
TZOFFSETFROM:-0500
TZOFFSETTO:-0400
TZNAME:EDT
DTSTART:20200308T070000
END:DAYLIGHT
BEGIN:STANDARD
TZOFFSETFROM:-0400
TZOFFSETTO:-0500
TZNAME:EST
DTSTART:20201101T060000
END:STANDARD
BEGIN:DAYLIGHT
TZOFFSETFROM:-0500
TZOFFSETTO:-0400
TZNAME:EDT
DTSTART:20210314T070000
END:DAYLIGHT
BEGIN:STANDARD
TZOFFSETFROM:-0400
TZOFFSETTO:-0500
TZNAME:EST
DTSTART:20211107T060000
END:STANDARD
END:VTIMEZONE
BEGIN:VEVENT
DTSTART;TZID=America/New_York:20200613T140000
DTEND;TZID=America/New_York:20200613T190000
DTSTAMP:20260424T024030
CREATED:20200527T151228Z
LAST-MODIFIED:20200615T132046Z
UID:10005048-1592056800-1592074800@www.atlantaparent.com
SUMMARY:Drive Thru ATL
DESCRIPTION:Carley Rickles \nThe Creatives Project is sharing the work of artists with a pop-up experiment enjoying art in the comfort of your car. June 13\, 2-7 p.m. Free; reservation requested.
URL:https://www.atlantaparent.com/event/drive-thru-atl/
LOCATION:Atlanta Art District\, 1374 Moreland Ave.\, Atlanta\, GA\, 30316
ATTACH;FMTTYPE=image/jpeg:https://www.atlantaparent.com/wp-content/uploads/2020/05/CarleyRickles_DriveThruExistingConditions_2020-scaled-e1590592079596.jpg
GEO:33.7136517;-84.3459066
X-APPLE-STRUCTURED-LOCATION;VALUE=URI;X-ADDRESS=Atlanta Art District 1374 Moreland Ave. Atlanta GA 30316;X-APPLE-RADIUS=500;X-TITLE=1374 Moreland Ave.:geo:-84.3459066,33.7136517
END:VEVENT
END:VCALENDAR