BEGIN:VCALENDAR
VERSION:2.0
PRODID:-//NEW Atlanta Parent - ECPv6.15.11//NONSGML v1.0//EN
CALSCALE:GREGORIAN
METHOD:PUBLISH
X-WR-CALNAME:NEW Atlanta Parent
X-ORIGINAL-URL:https://www.atlantaparent.com
X-WR-CALDESC:Events for NEW Atlanta Parent
REFRESH-INTERVAL;VALUE=DURATION:PT1H
X-Robots-Tag:noindex
X-PUBLISHED-TTL:PT1H
BEGIN:VTIMEZONE
TZID:America/New_York
BEGIN:DAYLIGHT
TZOFFSETFROM:-0500
TZOFFSETTO:-0400
TZNAME:EDT
DTSTART:20180311T070000
END:DAYLIGHT
BEGIN:STANDARD
TZOFFSETFROM:-0400
TZOFFSETTO:-0500
TZNAME:EST
DTSTART:20181104T060000
END:STANDARD
BEGIN:DAYLIGHT
TZOFFSETFROM:-0500
TZOFFSETTO:-0400
TZNAME:EDT
DTSTART:20190310T070000
END:DAYLIGHT
BEGIN:STANDARD
TZOFFSETFROM:-0400
TZOFFSETTO:-0500
TZNAME:EST
DTSTART:20191103T060000
END:STANDARD
BEGIN:DAYLIGHT
TZOFFSETFROM:-0500
TZOFFSETTO:-0400
TZNAME:EDT
DTSTART:20200308T070000
END:DAYLIGHT
BEGIN:STANDARD
TZOFFSETFROM:-0400
TZOFFSETTO:-0500
TZNAME:EST
DTSTART:20201101T060000
END:STANDARD
END:VTIMEZONE
BEGIN:VEVENT
DTSTART;TZID=America/New_York:20191221T090000
DTEND;TZID=America/New_York:20191221T110000
DTSTAMP:20260419T081835
CREATED:20191016T143119Z
LAST-MODIFIED:20191016T143119Z
UID:10004621-1576918800-1576926000@www.atlantaparent.com
SUMMARY:Santa Brunch
DESCRIPTION:Spend time with Santa to share your holiday wishes and take a photo and eat a delicious breakfast. For ages 3 and older. Reservations required. $30.
URL:https://www.atlantaparent.com/event/santa-brunch/2019-12-21/
LOCATION:American Girl Boutique and Bistro\, 1202 N. Point Cir.\, Alpharetta
END:VEVENT
BEGIN:VEVENT
DTSTART;TZID=America/New_York:20191031T160000
DTEND;TZID=America/New_York:20191031T200000
DTSTAMP:20260419T081835
CREATED:20190909T015902Z
LAST-MODIFIED:20190909T015902Z
UID:10004473-1572537600-1572552000@www.atlantaparent.com
SUMMARY:Halloween Spooktacular
DESCRIPTION:Visit the store in costume for a sweet treat\, a Halloween Boo Box craft and a photo op. For girls ages 3 and older. Oct. 25\, 5:30-8:30 p.m. and Oct. 31\, 4-8 p.m.
URL:https://www.atlantaparent.com/event/halloween-spooktacular/2019-10-31/
LOCATION:American Girl Boutique and Bistro\, 1202 N. Point Cir.\, Alpharetta
END:VEVENT
END:VCALENDAR