BEGIN:VCALENDAR
VERSION:2.0
PRODID:-//NEW Atlanta Parent - ECPv6.15.11//NONSGML v1.0//EN
CALSCALE:GREGORIAN
METHOD:PUBLISH
X-ORIGINAL-URL:https://www.atlantaparent.com
X-WR-CALDESC:Events for NEW Atlanta Parent
REFRESH-INTERVAL;VALUE=DURATION:PT1H
X-Robots-Tag:noindex
X-PUBLISHED-TTL:PT1H
BEGIN:VTIMEZONE
TZID:America/New_York
BEGIN:DAYLIGHT
TZOFFSETFROM:-0500
TZOFFSETTO:-0400
TZNAME:EDT
DTSTART:20240310T070000
END:DAYLIGHT
BEGIN:STANDARD
TZOFFSETFROM:-0400
TZOFFSETTO:-0500
TZNAME:EST
DTSTART:20241103T060000
END:STANDARD
BEGIN:DAYLIGHT
TZOFFSETFROM:-0500
TZOFFSETTO:-0400
TZNAME:EDT
DTSTART:20250309T070000
END:DAYLIGHT
BEGIN:STANDARD
TZOFFSETFROM:-0400
TZOFFSETTO:-0500
TZNAME:EST
DTSTART:20251102T060000
END:STANDARD
BEGIN:DAYLIGHT
TZOFFSETFROM:-0500
TZOFFSETTO:-0400
TZNAME:EDT
DTSTART:20260308T070000
END:DAYLIGHT
BEGIN:STANDARD
TZOFFSETFROM:-0400
TZOFFSETTO:-0500
TZNAME:EST
DTSTART:20261101T060000
END:STANDARD
BEGIN:DAYLIGHT
TZOFFSETFROM:-0500
TZOFFSETTO:-0400
TZNAME:EDT
DTSTART:20270314T070000
END:DAYLIGHT
BEGIN:STANDARD
TZOFFSETFROM:-0400
TZOFFSETTO:-0500
TZNAME:EST
DTSTART:20271107T060000
END:STANDARD
END:VTIMEZONE
BEGIN:VTIMEZONE
TZID:UTC
BEGIN:STANDARD
TZOFFSETFROM:+0000
TZOFFSETTO:+0000
TZNAME:UTC
DTSTART:20250101T000000
END:STANDARD
END:VTIMEZONE
BEGIN:VEVENT
DTSTART;VALUE=DATE:20250828
DTEND;VALUE=DATE:20260630
DTSTAMP:20260420T030535
CREATED:20250730T190721Z
LAST-MODIFIED:20260225T135016Z
UID:10009518-1756339200-1782777599@www.atlantaparent.com
SUMMARY:Bubble Planet
DESCRIPTION:Voyage through fantastical\, pastel landscapes designed to appeal to all five senses with an LED Room\, Bubble Ocean and more. $23.90+; ages 3-12\, $18.90+; ages 2 and younger\, free.
URL:https://www.atlantaparent.com/event/bubble-planet/
LOCATION:Exhibition Hub\, Atlanta Art Center\, 5660 Buford Hwy. NE\, Atlanta
ATTACH;FMTTYPE=image/jpeg:https://www.atlantaparent.com/wp-content/uploads/2025/07/Bubble-Planet_Children-scaled-e1754402865847.jpg
GEO:33.9070243;-84.2711871
X-APPLE-STRUCTURED-LOCATION;VALUE=URI;X-ADDRESS=Exhibition Hub Atlanta Art Center 5660 Buford Hwy. NE Atlanta;X-APPLE-RADIUS=500;X-TITLE=5660 Buford Hwy. NE:geo:-84.2711871,33.9070243
END:VEVENT
BEGIN:VEVENT
DTSTART;VALUE=DATE:20250920
DTEND;VALUE=DATE:20260504
DTSTAMP:20260420T030535
CREATED:20250822T163751Z
LAST-MODIFIED:20250822T163751Z
UID:10009537-1758326400-1777852799@www.atlantaparent.com
SUMMARY:Measurement Rules
DESCRIPTION:Explore weights\, lengths\, volumes\, time and more using standard and non-standard tools in this hands-on exhibit. $20; ages 3-17\, $16; ages 2 and younger\, free.
URL:https://www.atlantaparent.com/event/measurement-rules-2/
LOCATION:Tellus Science Museum\, 100 Tellus Drive\, Cartersville
GEO:34.2418518;-84.7706004
X-APPLE-STRUCTURED-LOCATION;VALUE=URI;X-ADDRESS=Tellus Science Museum 100 Tellus Drive Cartersville;X-APPLE-RADIUS=500;X-TITLE=100 Tellus Drive:geo:-84.7706004,34.2418518
END:VEVENT
BEGIN:VEVENT
DTSTART;VALUE=DATE:20250926
DTEND;VALUE=DATE:20260829
DTSTAMP:20260420T030535
CREATED:20250926T135954Z
LAST-MODIFIED:20260225T134730Z
UID:10009667-1758844800-1787961599@www.atlantaparent.com
SUMMARY:DinoVerse Atlanta
DESCRIPTION:Enjoy a Dino Hall with more than 20 real fossils\, explore fascinating dino science\, go on a virtual reality adventure and more. For ages 6 and older. $19.90+; ages 6-12\, $14.90+.
URL:https://www.atlantaparent.com/event/dinoverse-atlanta/
LOCATION:Exhibition Hub\, Atlanta Art Center\, 5660 Buford Hwy. NE\, Atlanta
GEO:33.9070243;-84.2711871
X-APPLE-STRUCTURED-LOCATION;VALUE=URI;X-ADDRESS=Exhibition Hub Atlanta Art Center 5660 Buford Hwy. NE Atlanta;X-APPLE-RADIUS=500;X-TITLE=5660 Buford Hwy. NE:geo:-84.2711871,33.9070243
END:VEVENT
BEGIN:VEVENT
DTSTART;VALUE=DATE:20260117
DTEND;VALUE=DATE:20260511
DTSTAMP:20260420T030535
CREATED:20251216T160005Z
LAST-MODIFIED:20260202T133705Z
UID:10010288-1768608000-1778457599@www.atlantaparent.com
SUMMARY:AIM HIGH: Soaring with the Tuskegee Airmen
DESCRIPTION:Explore the history of aviation with the Tuskegee Airmen to 21st century STEM concepts. “Black Wings American Dreams of Flight” chronicles the story of African Americans who attained amazing achievements in aviation history despite facing tremendous racial barriers. $17.95+.
URL:https://www.atlantaparent.com/event/aim-high-soaring-with-the-tuskegee-airmen/
LOCATION:Children’s Museum of Atlanta\, 275 Centennial Olympic Park Dr. NW\, Atlanta\, GA
ATTACH;FMTTYPE=image/jpeg:https://www.atlantaparent.com/wp-content/uploads/2025/12/DSC07783-Enhanced-NR-scaled.jpg
END:VEVENT
BEGIN:VEVENT
DTSTART;VALUE=DATE:20260131
DTEND;VALUE=DATE:20260628
DTSTAMP:20260420T030535
CREATED:20251206T170801Z
LAST-MODIFIED:20260317T170139Z
UID:10007414-1769817600-1782604799@www.atlantaparent.com
SUMMARY:Into the Burrow: A Peter Rabbit Tale
DESCRIPTION:Into the Burrow / Greg Mooney \nJourney down the rabbit hole for a delightful musical adventure inspired by the stories of Beatrix Potter. Jan. 31-June 27. See website for showtimes. $12-$20; ages 18 and younger\, $10-$12.
URL:https://www.atlantaparent.com/event/into-the-burrow-a-peter-rabbit-tale/
LOCATION:Goizueta Stage for Youth & Families\, Woodruff Arts Center\, 1280 Peachtree St. NE\, Atlanta
ATTACH;FMTTYPE=image/jpeg:https://www.atlantaparent.com/wp-content/uploads/2026/02/Z066316-scaled-e1770166849501.jpg
END:VEVENT
BEGIN:VEVENT
DTSTART;VALUE=DATE:20260207
DTEND;VALUE=DATE:20260504
DTSTAMP:20260420T030535
CREATED:20260121T170202Z
LAST-MODIFIED:20260121T170202Z
UID:10010325-1770422400-1777852799@www.atlantaparent.com
SUMMARY:Planet Ice
DESCRIPTION:Chill out at this immersive exhibit showcasing the importance of ice in shaping the planet. $25.95-$27.95; ages 3-12\, $23.95-$25.95; ages 2 and younger\, free.
URL:https://www.atlantaparent.com/event/planet-ice/
LOCATION:Fernbank Museum of Natural History\, 767 Clifton Road\, Atlanta
GEO:33.7739167;-84.3277484
X-APPLE-STRUCTURED-LOCATION;VALUE=URI;X-ADDRESS=Fernbank Museum of Natural History 767 Clifton Road Atlanta;X-APPLE-RADIUS=500;X-TITLE=767 Clifton Road:geo:-84.3277484,33.7739167
END:VEVENT
BEGIN:VEVENT
DTSTART;VALUE=DATE:20260221
DTEND;VALUE=DATE:20260701
DTSTAMP:20260420T030535
CREATED:20260118T024953Z
LAST-MODIFIED:20260331T130911Z
UID:10004956-1771632000-1782863999@www.atlantaparent.com
SUMMARY:Naked Mole Rat Gets Dressed: The Rock Experience
DESCRIPTION:Alliance Theatre Naked Mole Rat \nInspired by Mo Willems’ works\, this performance features Wilbur\, a clothes-loving mole rat\, as he navigates the pressure to be like everyone else in this fun musical. Feb. 21-June 30. See website for showtimes. $20; ages 18 and younger\, $10.
URL:https://www.atlantaparent.com/event/naked-mole-rat-gets-dressed-the-rock-experience/
LOCATION:Goizueta Stage for Youth & Families\, Woodruff Arts Center\, 1280 Peachtree St. NE\, Atlanta
ATTACH;FMTTYPE=image/jpeg:https://www.atlantaparent.com/wp-content/uploads/2016/03/Alliance.jpg
END:VEVENT
BEGIN:VEVENT
DTSTART;VALUE=DATE:20260227
DTEND;VALUE=DATE:20260518
DTSTAMP:20260420T030535
CREATED:20260225T134606Z
LAST-MODIFIED:20260225T134606Z
UID:10010453-1772150400-1779062399@www.atlantaparent.com
SUMMARY:Public Notice: The 2025 U.S. International Poster Biennial
DESCRIPTION:Posters communicate quickly and powerfully\, and this exhibit focuses on U.S. history as seen through art. $13.65.
URL:https://www.atlantaparent.com/event/public-notice-the-2025-u-s-international-poster-biennial/
LOCATION:Museum of Design Atlanta\, 1315 Peachtree St.\, Atlanta
GEO:33.7907143;-84.3845497
X-APPLE-STRUCTURED-LOCATION;VALUE=URI;X-ADDRESS=Museum of Design Atlanta 1315 Peachtree St. Atlanta;X-APPLE-RADIUS=500;X-TITLE=1315 Peachtree St.:geo:-84.3845497,33.7907143
END:VEVENT
BEGIN:VEVENT
DTSTART;VALUE=DATE:20260314
DTEND;VALUE=DATE:20260608
DTSTAMP:20260420T030535
CREATED:20260219T051252Z
LAST-MODIFIED:20260220T153023Z
UID:10003889-1773446400-1780876799@www.atlantaparent.com
SUMMARY:Flight of Butterflies
DESCRIPTION:This outdoor exhibits combines nature\, art and storytelling with striking butterfly sculptures lining the paths of WildWoods. $25.95-$27.95; ages 3-12\, $23.95-$25.95; ages 2 and younger\, free.
URL:https://www.atlantaparent.com/event/flight-of-the-butterflies/
LOCATION:Fernbank Museum of Natural History\, 767 Clifton Road\, Atlanta
GEO:33.7739167;-84.3277484
X-APPLE-STRUCTURED-LOCATION;VALUE=URI;X-ADDRESS=Fernbank Museum of Natural History 767 Clifton Road Atlanta;X-APPLE-RADIUS=500;X-TITLE=767 Clifton Road:geo:-84.3277484,33.7739167
END:VEVENT
BEGIN:VEVENT
DTSTART;VALUE=DATE:20260402
DTEND;VALUE=DATE:20260429
DTSTAMP:20260420T030535
CREATED:20260318T011227Z
LAST-MODIFIED:20260325T190921Z
UID:10002684-1775088000-1777420799@www.atlantaparent.com
SUMMARY:Earth Month
DESCRIPTION:Enjoy fun-filled activities centered around the planet by making seed paper\, creating egg carton dragonflies\, enjoying a special interactive storytime and more. $19.95-$21.95; ages 11 months and younger\, free.
URL:https://www.atlantaparent.com/event/earth-day-celebration-2/
LOCATION:Children’s Museum of Atlanta\, 275 Centennial Olympic Park Drive\, Atlanta\, GA
ATTACH;FMTTYPE=image/jpeg:https://www.atlantaparent.com/wp-content/uploads/2018/03/Earth-Day-at-CMA.jpg
GEO:33.762568;-84.3914318
X-APPLE-STRUCTURED-LOCATION;VALUE=URI;X-ADDRESS=Children’s Museum of Atlanta 275 Centennial Olympic Park Drive Atlanta GA;X-APPLE-RADIUS=500;X-TITLE=275 Centennial Olympic Park Drive:geo:-84.3914318,33.762568
END:VEVENT
BEGIN:VEVENT
DTSTART;VALUE=DATE:20260407
DTEND;VALUE=DATE:20260518
DTSTAMP:20260420T030535
CREATED:20260316T141132Z
LAST-MODIFIED:20260317T165716Z
UID:10010474-1775520000-1779062399@www.atlantaparent.com
SUMMARY:The Stinky Cheese Man and Other Fairly Stupid Tales
DESCRIPTION:Delight in the strange twists and hilarious retellings that poke loving fun at classic folktales. Make a Stinky Cheese Man Rod Puppet in the Create-A-Puppet Workshop. April 7-May 17. See website for showtimes. $20-$30; ages 1-12\, $15-$24; ages 11 months and younger\, free.
URL:https://www.atlantaparent.com/event/the-stinky-cheese-man-and-other-fairly-stupid-tales/
LOCATION:Center for Puppetry Arts\, 1404 Spring Street NW\, Atlanta
ATTACH;FMTTYPE=image/jpeg:https://www.atlantaparent.com/wp-content/uploads/2026/03/cpa-stinky-man-cheese.jpg
GEO:33.7928692;-84.3895974
X-APPLE-STRUCTURED-LOCATION;VALUE=URI;X-ADDRESS=Center for Puppetry Arts 1404 Spring Street NW Atlanta;X-APPLE-RADIUS=500;X-TITLE=1404 Spring Street NW:geo:-84.3895974,33.7928692
END:VEVENT
BEGIN:VEVENT
DTSTART;VALUE=DATE:20260411
DTEND;VALUE=DATE:20260511
DTSTAMP:20260420T030535
CREATED:20250129T143716Z
LAST-MODIFIED:20260210T141020Z
UID:10006198-1775865600-1778457599@www.atlantaparent.com
SUMMARY:Rhododendron Festival
DESCRIPTION:Spend a day in beautiful North Georgia to explore beautiful native flowers. April 11-May 10. Mon.-Thur. 11 a.m.-3 p.m. and Fri.-Sun. 10 a.m.-4 p.m. $10; ages 12 and younger\, free.
URL:https://www.atlantaparent.com/event/rhododendron-festival/
LOCATION:Georgia Mountain Fairgrounds\, 1311 Music Hall Road\, Hiawassee
ATTACH;FMTTYPE=image/jpeg:https://www.atlantaparent.com/wp-content/uploads/2024/07/36L-People-in-gardens-e1739812195708.jpg
GEO:34.9679896;-83.7739687
X-APPLE-STRUCTURED-LOCATION;VALUE=URI;X-ADDRESS=Georgia Mountain Fairgrounds 1311 Music Hall Road Hiawassee;X-APPLE-RADIUS=500;X-TITLE=1311 Music Hall Road:geo:-83.7739687,34.9679896
END:VEVENT
BEGIN:VEVENT
DTSTART;VALUE=DATE:20260424
DTEND;VALUE=DATE:20260504
DTSTAMP:20260420T030535
CREATED:20250112T183755Z
LAST-MODIFIED:20260210T140146Z
UID:10002402-1776988800-1777852799@www.atlantaparent.com
SUMMARY:Georgia State Fair
DESCRIPTION:Petting zoo\, camel rides\, pig races\, fair rides\, live music and more. April 24-May 3. See website for schedule. $13-$15; ages 5-12\, $5; ages 4 and younger\, free; parking\, $10; ride tickets\, extra.
URL:https://www.atlantaparent.com/event/georgia-state-fair-2/
LOCATION:EchoPark Speedway\, 1500 Tara Place\, Hampton
GEO:33.384517;-84.313377
X-APPLE-STRUCTURED-LOCATION;VALUE=URI;X-ADDRESS=EchoPark Speedway 1500 Tara Place Hampton;X-APPLE-RADIUS=500;X-TITLE=1500 Tara Place:geo:-84.313377,33.384517
END:VEVENT
BEGIN:VEVENT
DTSTART;VALUE=DATE:20260502
DTEND;VALUE=DATE:20260504
DTSTAMP:20260420T030535
CREATED:20250129T050028Z
LAST-MODIFIED:20260216T162645Z
UID:10010374-1777680000-1777852799@www.atlantaparent.com
SUMMARY:Georgia Renaissance Festival
DESCRIPTION:Enjoy Renaissance-themed entertainment with jousting\, an artisan marketplace\, delicious food\, jugglers\, jesters and more. Tickets are date specific. April 11-May 31. Sat.-Sun. 10:30 a.m.-6 p.m. $26.86-$35.09; ages 6-12\, $13.40-$19.56; ages 5 and younger\, free.
URL:https://www.atlantaparent.com/event/georgia-renaissance-festival/2026-05-02/
LOCATION:Fairburn\, 6732 Virlyn B. Smith Rd.\, Fairburn
ATTACH;FMTTYPE=image/jpeg:https://www.atlantaparent.com/wp-content/uploads/2017/03/garenfestcom_-b.jpg
GEO:33.5645601;-84.6026285
X-APPLE-STRUCTURED-LOCATION;VALUE=URI;X-ADDRESS=Fairburn 6732 Virlyn B. Smith Rd. Fairburn;X-APPLE-RADIUS=500;X-TITLE=6732 Virlyn B. Smith Rd.:geo:-84.6026285,33.5645601
END:VEVENT
BEGIN:VEVENT
DTSTART;VALUE=DATE:20260502
DTEND;VALUE=DATE:20260504
DTSTAMP:20260420T030535
CREATED:20250129T224746Z
LAST-MODIFIED:20260210T134754Z
UID:10002532-1777680000-1777852799@www.atlantaparent.com
SUMMARY:May-retta Daze
DESCRIPTION:Enjoy delicious festival food\, a kid’s zone\, live music and arts and crafts. May 2\, 10 a.m.-7 p.m. and May 3\, 11 a.m.-5 p.m. Free admission.
URL:https://www.atlantaparent.com/event/may-retta-daze/
LOCATION:Glover Park-Marietta Square\, 50 Park Square\, Marietta
ATTACH;FMTTYPE=image/jpeg:https://www.atlantaparent.com/wp-content/uploads/2022/01/MAYRETTA-DAYS-02-e1682426301689.jpg
GEO:33.9528565;-84.5485166
X-APPLE-STRUCTURED-LOCATION;VALUE=URI;X-ADDRESS=Glover Park-Marietta Square 50 Park Square Marietta;X-APPLE-RADIUS=500;X-TITLE=50 Park Square:geo:-84.5485166,33.9528565
END:VEVENT
BEGIN:VEVENT
DTSTART;VALUE=DATE:20260502
DTEND;VALUE=DATE:20260504
DTSTAMP:20260420T030535
CREATED:20260414T045459Z
LAST-MODIFIED:20260416T131707Z
UID:10008310-1777680000-1777852799@www.atlantaparent.com
SUMMARY:Little Shop of Stories Children’s Book Festival
DESCRIPTION:This book festival features acclaimed authors to celebrate children and young adult literature with different exhibits\, speakers and more. May 2-3. Free admission.
URL:https://www.atlantaparent.com/event/decatur-childrens-book-festival/
LOCATION:Decatur Library\, 215 Sycamore St.\, Decatur
END:VEVENT
BEGIN:VEVENT
DTSTART;TZID=UTC:20260502T090000
DTEND;TZID=UTC:20260502T090000
DTSTAMP:20260420T030535
CREATED:20241222T220740Z
LAST-MODIFIED:20250108T193218Z
UID:10007798-1777712400-1777712400@www.atlantaparent.com
SUMMARY:Home Depot Kids Workshop
DESCRIPTION:Visit Home Depot at 9 a.m. on the first Saturday of every month for a free project. Registration encouraged.
URL:https://www.atlantaparent.com/event/home-depot-kids-workshop/2026-05-02/
LOCATION:Home Depot – All Locations
END:VEVENT
BEGIN:VEVENT
DTSTART;TZID=America/New_York:20260502T090000
DTEND;TZID=America/New_York:20260502T160000
DTSTAMP:20260420T030535
CREATED:20260220T054345Z
LAST-MODIFIED:20260220T190337Z
UID:10005937-1777712400-1777737600@www.atlantaparent.com
SUMMARY:Acworth-Cobb Dragon Boat Festival
DESCRIPTION:Watch corporate and community teams race in 46-foot ornamental dragon boats.
URL:https://www.atlantaparent.com/event/acworth-cobb-dragon-boat-festival/
LOCATION:Dallas Landing Park\, 5120 Allatoona Dr.\, Acworth
ATTACH;FMTTYPE=image/jpeg:https://www.atlantaparent.com/wp-content/uploads/2021/07/Bruce-enviroment-e1625766194610.jpg
END:VEVENT
BEGIN:VEVENT
DTSTART;TZID=America/New_York:20260502T090000
DTEND;TZID=America/New_York:20260502T170000
DTSTAMP:20260420T030535
CREATED:20260227T183102Z
LAST-MODIFIED:20260306T164447Z
UID:10010465-1777712400-1777741200@www.atlantaparent.com
SUMMARY:Super Spring Saturdays
DESCRIPTION:Enjoy tons of farm fun\, including a cow train\, zip lines\, the petting zoo\, paintball and more. April 4-May 23. Sat. 9 a.m.-5 p.m. $14.95; ages 1 and younger\, free; strawberries\, extra.
URL:https://www.atlantaparent.com/event/super-spring-saturdays/2026-05-02/
LOCATION:Washington Farms\, 5691 Hog Mountain Rd.\, Bogart
ATTACH;FMTTYPE=image/jpeg:https://www.atlantaparent.com/wp-content/uploads/2022/03/Picking-38-scaled-e1675352074311.jpg
GEO:33.8790019;-83.5510718
X-APPLE-STRUCTURED-LOCATION;VALUE=URI;X-ADDRESS=Washington Farms 5691 Hog Mountain Rd. Bogart;X-APPLE-RADIUS=500;X-TITLE=5691 Hog Mountain Rd.:geo:-83.5510718,33.8790019
END:VEVENT
BEGIN:VEVENT
DTSTART;TZID=America/New_York:20260502T093000
DTEND;TZID=America/New_York:20260502T103000
DTSTAMP:20260420T030535
CREATED:20260103T133902Z
LAST-MODIFIED:20260406T154925Z
UID:10010456-1777714200-1777717800@www.atlantaparent.com
SUMMARY:Adventure Cubs at Zoo Atlanta
DESCRIPTION:Each month\, a new adventure awaits with new animals to observe. Adventure Cubs will explore a new region of the world to investigate the animals and environments there! The purpose of each program is to expose young children to the diversity of animals around the world and to draw connections to the ways we are similar and different. For each adventure they go on\, Adventure Cubs will engage in an activity\, read a story\, and create a take-away memory. April 16\, May 2 and 21\, June 6 and 18\, July 11 and 16\, and Aug. 1 and 20\, 9:30-10:30 a.m. $21 for a parent/guardian and child; Non-Member\, $26 for a parent/guardian and child; each additional child\, $5 each.
URL:https://www.atlantaparent.com/event/adventure-cubs-2-2018-04-25-2-4/2026-05-02/
LOCATION:Zoo Atlanta\,  800 Cherokee Avenue SE\, Atlanta
ATTACH;FMTTYPE=image/jpeg:https://www.atlantaparent.com/wp-content/uploads/2026/01/guest_family_reticulatedpython_ZA_3807-scaled-e1772050106629.jpg
GEO:33.7321624;-84.3713351
X-APPLE-STRUCTURED-LOCATION;VALUE=URI;X-ADDRESS=Zoo Atlanta  800 Cherokee Avenue SE Atlanta;X-APPLE-RADIUS=500;X-TITLE=800 Cherokee Avenue SE:geo:-84.3713351,33.7321624
END:VEVENT
BEGIN:VEVENT
DTSTART;TZID=America/New_York:20260502T100000
DTEND;TZID=America/New_York:20260502T160000
DTSTAMP:20260420T030535
CREATED:20260220T052858Z
LAST-MODIFIED:20260220T185937Z
UID:10008285-1777716000-1777737600@www.atlantaparent.com
SUMMARY:Taste of Spring
DESCRIPTION:This festival features food\, craft vendors\, live entertainment\, activities and a car show. Free admission. \n 
URL:https://www.atlantaparent.com/event/taste-of-spring-festival-shine-and-dine-car-show/
LOCATION:Olde Town Conyers Pavilion\, 949 S. Main St. NE\, Conyers
GEO:33.6663867;-84.0167479
X-APPLE-STRUCTURED-LOCATION;VALUE=URI;X-ADDRESS=Olde Town Conyers Pavilion 949 S. Main St. NE Conyers;X-APPLE-RADIUS=500;X-TITLE=949 S. Main St. NE:geo:-84.0167479,33.6663867
END:VEVENT
BEGIN:VEVENT
DTSTART;TZID=America/New_York:20260502T110000
DTEND;TZID=America/New_York:20260502T170000
DTSTAMP:20260420T030535
CREATED:20260220T050453Z
LAST-MODIFIED:20260220T190056Z
UID:10006346-1777719600-1777741200@www.atlantaparent.com
SUMMARY:Taste of East Cobb
DESCRIPTION:Enjoy live music\, local restaurant tastings and a huge Kids’ Zone. Free admission; taste tickets\, $1.
URL:https://www.atlantaparent.com/event/taste-of-east-cobb/
LOCATION:Johnson Ferry Baptist Church\, 955 Johnson Ferry Road\, Marietta
ATTACH;FMTTYPE=image/jpeg:https://www.atlantaparent.com/wp-content/uploads/2022/04/TOEC-2019-students.jpg
GEO:33.9722232;-84.4147056
X-APPLE-STRUCTURED-LOCATION;VALUE=URI;X-ADDRESS=Johnson Ferry Baptist Church 955 Johnson Ferry Road Marietta;X-APPLE-RADIUS=500;X-TITLE=955 Johnson Ferry Road:geo:-84.4147056,33.9722232
END:VEVENT
BEGIN:VEVENT
DTSTART;TZID=America/New_York:20260502T113000
DTEND;TZID=America/New_York:20260502T113000
DTSTAMP:20260420T030535
CREATED:20260416T143621Z
LAST-MODIFIED:20260416T143621Z
UID:10010511-1777721400-1777721400@www.atlantaparent.com
SUMMARY:Cap’N Peak
DESCRIPTION:This Star Trek-themed performance from Felt Nerdy Puppets will feature intergalactic fun. $7.
URL:https://www.atlantaparent.com/event/capn-peak/
LOCATION: Aurora Theatre\, 128 East Pike St.\, Lawrenceville
END:VEVENT
BEGIN:VEVENT
DTSTART;TZID=America/New_York:20260502T120000
DTEND;TZID=America/New_York:20260502T180000
DTSTAMP:20260420T030535
CREATED:20260219T161607Z
LAST-MODIFIED:20260220T190221Z
UID:10005927-1777723200-1777744800@www.atlantaparent.com
SUMMARY:Johns Creek International Festival
DESCRIPTION:Celebrate countries and cultures from around the world with music\, performances\, a global marketplace and kid’s activities. Free admission.
URL:https://www.atlantaparent.com/event/johns-creek-international-festival/
LOCATION:Atlanta Athletic Club\, 1930 Bobby Jones Dr.\, Johns Creek
GEO:34.0039271;-84.1919771
X-APPLE-STRUCTURED-LOCATION;VALUE=URI;X-ADDRESS=Atlanta Athletic Club 1930 Bobby Jones Dr. Johns Creek;X-APPLE-RADIUS=500;X-TITLE=1930 Bobby Jones Dr.:geo:-84.1919771,34.0039271
END:VEVENT
BEGIN:VEVENT
DTSTART;TZID=America/New_York:20260502T151500
DTEND;TZID=America/New_York:20260502T151500
DTSTAMP:20260420T030535
CREATED:20240401T143616Z
LAST-MODIFIED:20240412T144746Z
UID:10008127-1777734900-1777734900@www.atlantaparent.com
SUMMARY:Wild Encounter: Petting Zoo Painters
DESCRIPTION:See how the talented “VanGoat” and “Baaahlo” create unforgettable paintings. Reservation required. Saturdays\, 3:15 p.m. $75 per group of up to four people; Zoo admission not included.
URL:https://www.atlantaparent.com/event/wild-encounter-goat-painting-experience-3/2026-05-02/
LOCATION:Zoo Atlanta\,  800 Cherokee Avenue SE\, Atlanta
ATTACH;FMTTYPE=image/jpeg:https://www.atlantaparent.com/wp-content/uploads/2023/06/GoatPaintingEncounter2-scaled-e1687439045923.jpg
GEO:33.7321624;-84.3713351
X-APPLE-STRUCTURED-LOCATION;VALUE=URI;X-ADDRESS=Zoo Atlanta  800 Cherokee Avenue SE Atlanta;X-APPLE-RADIUS=500;X-TITLE=800 Cherokee Avenue SE:geo:-84.3713351,33.7321624
END:VEVENT
BEGIN:VEVENT
DTSTART;TZID=America/New_York:20260503T110000
DTEND;TZID=America/New_York:20260503T160000
DTSTAMP:20260420T030535
CREATED:20250921T142027Z
LAST-MODIFIED:20260123T142356Z
UID:10010333-1777806000-1777824000@www.atlantaparent.com
SUMMARY:Free Sunday
DESCRIPTION:View exhibits for free\, and create an art piece you can take home. Free admission.
URL:https://www.atlantaparent.com/event/free-sunday-2/2026-05-03/
LOCATION:Marietta Cobb Museum of Art\, 30 Atlanta St. SE\, Marietta
END:VEVENT
BEGIN:VEVENT
DTSTART;TZID=America/New_York:20260503T120000
DTEND;TZID=America/New_York:20260503T160000
DTSTAMP:20260420T030535
CREATED:20251002T040017Z
LAST-MODIFIED:20260123T142747Z
UID:10010337-1777809600-1777824000@www.atlantaparent.com
SUMMARY:Sunday FUNday
DESCRIPTION:Enjoy a hands-on arts craft\, exploring exhibits and learning. Free admission.
URL:https://www.atlantaparent.com/event/sunday-funday/2026-05-03/
LOCATION:Michael C. Carlos Museum\, 571 South Kilgo Cir. NE\, Atlanta
END:VEVENT
END:VCALENDAR