BEGIN:VCALENDAR
VERSION:2.0
PRODID:-//NEW Atlanta Parent - ECPv6.15.11//NONSGML v1.0//EN
CALSCALE:GREGORIAN
METHOD:PUBLISH
X-WR-CALNAME:NEW Atlanta Parent
X-ORIGINAL-URL:https://www.atlantaparent.com
X-WR-CALDESC:Events for NEW Atlanta Parent
REFRESH-INTERVAL;VALUE=DURATION:PT1H
X-Robots-Tag:noindex
X-PUBLISHED-TTL:PT1H
BEGIN:VTIMEZONE
TZID:America/New_York
BEGIN:DAYLIGHT
TZOFFSETFROM:-0500
TZOFFSETTO:-0400
TZNAME:EDT
DTSTART:20190310T070000
END:DAYLIGHT
BEGIN:STANDARD
TZOFFSETFROM:-0400
TZOFFSETTO:-0500
TZNAME:EST
DTSTART:20191103T060000
END:STANDARD
BEGIN:DAYLIGHT
TZOFFSETFROM:-0500
TZOFFSETTO:-0400
TZNAME:EDT
DTSTART:20200308T070000
END:DAYLIGHT
BEGIN:STANDARD
TZOFFSETFROM:-0400
TZOFFSETTO:-0500
TZNAME:EST
DTSTART:20201101T060000
END:STANDARD
BEGIN:DAYLIGHT
TZOFFSETFROM:-0500
TZOFFSETTO:-0400
TZNAME:EDT
DTSTART:20210314T070000
END:DAYLIGHT
BEGIN:STANDARD
TZOFFSETFROM:-0400
TZOFFSETTO:-0500
TZNAME:EST
DTSTART:20211107T060000
END:STANDARD
BEGIN:DAYLIGHT
TZOFFSETFROM:-0500
TZOFFSETTO:-0400
TZNAME:EDT
DTSTART:20220313T070000
END:DAYLIGHT
BEGIN:STANDARD
TZOFFSETFROM:-0400
TZOFFSETTO:-0500
TZNAME:EST
DTSTART:20221106T060000
END:STANDARD
BEGIN:DAYLIGHT
TZOFFSETFROM:-0500
TZOFFSETTO:-0400
TZNAME:EDT
DTSTART:20230312T070000
END:DAYLIGHT
BEGIN:STANDARD
TZOFFSETFROM:-0400
TZOFFSETTO:-0500
TZNAME:EST
DTSTART:20231105T060000
END:STANDARD
END:VTIMEZONE
BEGIN:VEVENT
DTSTART;VALUE=DATE:20201107
DTEND;VALUE=DATE:20211025
DTSTAMP:20260422T035645
CREATED:20201208T170203Z
LAST-MODIFIED:20201208T170203Z
UID:10005615-1604707200-1635119999@www.atlantaparent.com
SUMMARY:Out Of This World! Jewelry In The Space Age
DESCRIPTION:Explore more than 200 pieces of vintage and contemporary jewelry with celestial and Space Age designs. Reservation required. $15.95; ages 3-17\, $11.95; ages 2 and younger\, free.
URL:https://www.atlantaparent.com/event/out-of-this-world-jewelry-in-the-space-age/
LOCATION:Tellus Science Museum\, 100 Tellus Drive\, Cartersville
GEO:34.2418518;-84.7706004
X-APPLE-STRUCTURED-LOCATION;VALUE=URI;X-ADDRESS=Tellus Science Museum 100 Tellus Drive Cartersville;X-APPLE-RADIUS=500;X-TITLE=100 Tellus Drive:geo:-84.7706004,34.2418518
END:VEVENT
BEGIN:VEVENT
DTSTART;VALUE=DATE:20201212
DTEND;VALUE=DATE:20210419
DTSTAMP:20260422T035645
CREATED:20201208T165344Z
LAST-MODIFIED:20201208T165344Z
UID:10005566-1607731200-1618790399@www.atlantaparent.com
SUMMARY:Bestowing Beauty: Masterpieces from Persian Lands
DESCRIPTION:Celebrate the artistic traditions of Persian civilization with carpets\, textiles\, manuscripts\, paintings\, ceramics\, jeweled objects and more. Reservation required. $14.50; ages 5 and younger\, free.
URL:https://www.atlantaparent.com/event/bestowing-beauty-masterpieces-from-persian-lands/
LOCATION:High Museum of Art\, 1280 Peachtree Street\, Atlanta
GEO:33.7891582;-84.3849351
X-APPLE-STRUCTURED-LOCATION;VALUE=URI;X-ADDRESS=High Museum of Art 1280 Peachtree Street Atlanta;X-APPLE-RADIUS=500;X-TITLE=1280 Peachtree Street:geo:-84.3849351,33.7891582
END:VEVENT
BEGIN:VEVENT
DTSTART;VALUE=DATE:20210116
DTEND;VALUE=DATE:20210510
DTSTAMP:20260422T035645
CREATED:20201208T170439Z
LAST-MODIFIED:20210510T124329Z
UID:10005572-1610755200-1620604799@www.atlantaparent.com
SUMMARY:The Pigeon Comes to Atlanta! A Mo Willems Exhibit
DESCRIPTION:Celebrate your favorite stories by having conversations as Elephant Gerald and Piggie\, dressing up Naked Mole Rat\, uncovering Knuffle Bunny\, launching foam hot dogs at The Pigeon and more. Reservation required. $12.95-$18.95; ages 11 months and younger\, free.
URL:https://www.atlantaparent.com/event/the-pigeon-comes-to-atlanta-a-mo-willems-exhibit/
LOCATION:Children’s Museum of Atlanta\, 275 Centennial Olympic Park Dr. NW\, Atlanta\, GA
ATTACH;FMTTYPE=image/jpeg:https://www.atlantaparent.com/wp-content/uploads/2020/12/180425_ChildrensMuseum_Pigeon_087-scaled-e1607447174212.jpg
END:VEVENT
BEGIN:VEVENT
DTSTART;VALUE=DATE:20210123
DTEND;VALUE=DATE:20210907
DTSTAMP:20260422T035645
CREATED:20210105T144821Z
LAST-MODIFIED:20210105T144821Z
UID:10005625-1611360000-1630972799@www.atlantaparent.com
SUMMARY:Zoo in You
DESCRIPTION:View the world of inner microorganisms and the microbiome to learn more about personal health with engaging\, interactive and bilingual exhibits. Reservation required. $15.95; ages 3-17\, $11.95; ages 2 and younger\, free.
URL:https://www.atlantaparent.com/event/zoo-in-you/
LOCATION:Tellus Science Museum\, 100 Tellus Drive\, Cartersville
GEO:34.2418518;-84.7706004
X-APPLE-STRUCTURED-LOCATION;VALUE=URI;X-ADDRESS=Tellus Science Museum 100 Tellus Drive Cartersville;X-APPLE-RADIUS=500;X-TITLE=100 Tellus Drive:geo:-84.7706004,34.2418518
END:VEVENT
BEGIN:VEVENT
DTSTART;VALUE=DATE:20210130
DTEND;VALUE=DATE:20210503
DTSTAMP:20260422T035645
CREATED:20210114T214553Z
LAST-MODIFIED:20210201T135300Z
UID:10005587-1611964800-1619999999@www.atlantaparent.com
SUMMARY:Microsculpture
DESCRIPTION:Credit: Levon Biss \nThe tiny world of insects is magnified with portraits in this outdoor exhibit. Reservation required. $20; ages 3-12\, $18; ages 2 and younger\, free.
URL:https://www.atlantaparent.com/event/microsculpture/
LOCATION:Fernbank Museum of Natural History\, 767 Clifton Rd. NE\, Atlanta
ATTACH;FMTTYPE=image/jpeg:https://www.atlantaparent.com/wp-content/uploads/2021/01/2.-Jewel-Longhorned-Beetle-e1610660665531.jpg
GEO:33.7739166;-84.3277485
X-APPLE-STRUCTURED-LOCATION;VALUE=URI;X-ADDRESS=Fernbank Museum of Natural History 767 Clifton Rd. NE Atlanta;X-APPLE-RADIUS=500;X-TITLE=767 Clifton Rd. NE:geo:-84.3277485,33.7739166
END:VEVENT
BEGIN:VEVENT
DTSTART;VALUE=DATE:20210206
DTEND;VALUE=DATE:20210510
DTSTAMP:20260422T035645
CREATED:20210120T214402Z
LAST-MODIFIED:20210120T214402Z
UID:10005645-1612569600-1620604799@www.atlantaparent.com
SUMMARY:David Driskell: Icons of Nature and History
DESCRIPTION:Driskell’s paintings\, printmaking pieces\, collages and more combine the American landscape with the imagery and aesthetics of the African diaspora. Reservation required. $14.50; ages 5 and younger\, free.
URL:https://www.atlantaparent.com/event/david-driskell-icons-of-nature-and-history/
LOCATION:High Museum of Art\, 1280 Peachtree Street\, Atlanta
GEO:33.7891582;-84.3849351
X-APPLE-STRUCTURED-LOCATION;VALUE=URI;X-ADDRESS=High Museum of Art 1280 Peachtree Street Atlanta;X-APPLE-RADIUS=500;X-TITLE=1280 Peachtree Street:geo:-84.3849351,33.7891582
END:VEVENT
BEGIN:VEVENT
DTSTART;VALUE=DATE:20210213
DTEND;VALUE=DATE:20210510
DTSTAMP:20260422T035645
CREATED:20210120T202020Z
LAST-MODIFIED:20210215T140304Z
UID:10005591-1613174400-1620604799@www.atlantaparent.com
SUMMARY:Maya: Hidden Worlds Revealed
DESCRIPTION:Find out what archaeologists have discovered about the ancient Maya civilization that flourished in Mexico\, Belize\, Guatemala and Honduras. Reservation required. $20; ages 3-12\, $18; ages 2 and younger\, free.
URL:https://www.atlantaparent.com/event/maya-hidden-worlds-revealed/
LOCATION:Fernbank Museum of Natural History\, 767 Clifton Rd. NE\, Atlanta
ATTACH;FMTTYPE=image/jpeg:https://www.atlantaparent.com/wp-content/uploads/2021/01/mosaicearflares-scaled-e1611174099521.jpg
GEO:33.7739166;-84.3277485
X-APPLE-STRUCTURED-LOCATION;VALUE=URI;X-ADDRESS=Fernbank Museum of Natural History 767 Clifton Rd. NE Atlanta;X-APPLE-RADIUS=500;X-TITLE=767 Clifton Rd. NE:geo:-84.3277485,33.7739166
END:VEVENT
BEGIN:VEVENT
DTSTART;VALUE=DATE:20210304
DTEND;VALUE=DATE:20210419
DTSTAMP:20260422T035645
CREATED:20210225T052951Z
LAST-MODIFIED:20210308T134946Z
UID:10004968-1614816000-1618790399@www.atlantaparent.com
SUMMARY:LEGO Trolls World Tour
DESCRIPTION:Celebrate the adventure of the “Trolls World Tour” movie with building instrument stations\, zipline creations\, tour bus races\, stop-motion music videos and more. Reservation required. $19.99-$27.95.
URL:https://www.atlantaparent.com/event/lego-trolls-world-tour/
LOCATION:LEGOLAND Discovery Center\, 3500 Peachtree Rd. NE\, Atlanta
ATTACH;FMTTYPE=image/jpeg:https://www.atlantaparent.com/wp-content/uploads/2020/02/LEGOLAND-Discovery-Center-Trolls-World-Tour-2-scaled-e1614260713342.jpg
GEO:33.8527457;-84.3622452
X-APPLE-STRUCTURED-LOCATION;VALUE=URI;X-ADDRESS=LEGOLAND Discovery Center 3500 Peachtree Rd. NE Atlanta;X-APPLE-RADIUS=500;X-TITLE=3500 Peachtree Rd. NE:geo:-84.3622452,33.8527457
END:VEVENT
BEGIN:VEVENT
DTSTART;VALUE=DATE:20210306
DTEND;VALUE=DATE:20220221
DTSTAMP:20260422T035645
CREATED:20210304T135340Z
LAST-MODIFIED:20210304T135340Z
UID:10005658-1614988800-1645401599@www.atlantaparent.com
SUMMARY:Science Fiction\, Science Fact!
DESCRIPTION:Determine the technologies science fiction was able to predict\, along with the amazing inventions created with science fiction. $15.95; ages 3-17\, $11.95; ages 2 and younger\, free.
URL:https://www.atlantaparent.com/event/science-fiction-science-fact/
LOCATION:Tellus Science Museum\, 100 Tellus Drive\, Cartersville
GEO:34.2418518;-84.7706004
X-APPLE-STRUCTURED-LOCATION;VALUE=URI;X-ADDRESS=Tellus Science Museum 100 Tellus Drive Cartersville;X-APPLE-RADIUS=500;X-TITLE=100 Tellus Drive:geo:-84.7706004,34.2418518
END:VEVENT
BEGIN:VEVENT
DTSTART;VALUE=DATE:20210311
DTEND;VALUE=DATE:20210329
DTSTAMP:20260422T035645
CREATED:20210309T205608Z
LAST-MODIFIED:20210310T151617Z
UID:10005656-1615420800-1616975999@www.atlantaparent.com
SUMMARY:Dinosaur Drive-Thru
DESCRIPTION:This dinosaur experience features more than 60 life-sized\, animatronic dinosaurs that move and roar with an entertaining and educational audio tour. See website for hours. $49 per car.
URL:https://www.atlantaparent.com/event/dinosaur-drive-thru/
LOCATION:Six Flags White Water\, 250 Cobb Pkwy. N.\, Marietta
ATTACH;FMTTYPE=image/jpeg:https://www.atlantaparent.com/wp-content/uploads/2021/03/11-Kid-Trex-scaled-e1615389365127.jpg
GEO:33.9577663;-84.5209874
X-APPLE-STRUCTURED-LOCATION;VALUE=URI;X-ADDRESS=Six Flags White Water 250 Cobb Pkwy. N. Marietta;X-APPLE-RADIUS=500;X-TITLE=250 Cobb Pkwy. N.:geo:-84.5209874,33.9577663
END:VEVENT
BEGIN:VEVENT
DTSTART;VALUE=DATE:20210312
DTEND;VALUE=DATE:20210405
DTSTAMP:20260422T035645
CREATED:20210208T185356Z
LAST-MODIFIED:20210405T125036Z
UID:10005571-1615507200-1617580799@www.atlantaparent.com
SUMMARY:Mirandy and Brother Wind
DESCRIPTION:Mirandy is determined to win first place in the cakewalk\, so she decides to capture the spirit of Brother Wind to serve as her dancing partner. Virtual performances from March 19-April 4. March 12-April 4. Fri. 7 p.m.; Sat. 4 p.m. and Sun. 2 p.m. $10-$40.
URL:https://www.atlantaparent.com/event/mirandy-and-brother-wind/
LOCATION:Synchronicity Theatre\, 1545 Peachtree Street\, Atlanta
ATTACH;FMTTYPE=image/jpeg:https://www.atlantaparent.com/wp-content/uploads/2021/02/IMG_0668-scaled-e1614182902591.jpg
GEO:33.7972669;-84.3882065
X-APPLE-STRUCTURED-LOCATION;VALUE=URI;X-ADDRESS=Synchronicity Theatre 1545 Peachtree Street Atlanta;X-APPLE-RADIUS=500;X-TITLE=1545 Peachtree Street:geo:-84.3882065,33.7972669
END:VEVENT
BEGIN:VEVENT
DTSTART;VALUE=DATE:20210325
DTEND;VALUE=DATE:20210329
DTSTAMP:20260422T035645
CREATED:20210216T190904Z
LAST-MODIFIED:20210216T190904Z
UID:10005700-1616630400-1616975999@www.atlantaparent.com
SUMMARY:Luminous
DESCRIPTION:This musical cabaret includes dance numbers\, costumes and more with delightful musical theatre songs. March 25-28. Thur.-Sat. 8 p.m. and Sun. 3 p.m. $40.
URL:https://www.atlantaparent.com/event/luminous/
LOCATION:Larry Bell Park Field\, 592 Fairground St. SE\, Marietta
GEO:33.9415621;-84.5389282
X-APPLE-STRUCTURED-LOCATION;VALUE=URI;X-ADDRESS=Larry Bell Park Field 592 Fairground St. SE Marietta;X-APPLE-RADIUS=500;X-TITLE=592 Fairground St. SE:geo:-84.5389282,33.9415621
END:VEVENT
BEGIN:VEVENT
DTSTART;TZID=America/New_York:20210326T113000
DTEND;TZID=America/New_York:20210326T140000
DTSTAMP:20260422T035645
CREATED:20210323T153006Z
LAST-MODIFIED:20210323T153006Z
UID:10005691-1616758200-1616767200@www.atlantaparent.com
SUMMARY:Drive-Thru EGGStravangza
DESCRIPTION:Drive along the Bunny Trail to see goats and cows\, view the Easter Bunny\, and spot the 18 giant eggs. March 26\, 11:30 a.m.-2 p.m. $7.50 per vehicle.
URL:https://www.atlantaparent.com/event/drive-thru-eggstravangza/
LOCATION:Warbington Farms\, 5555 Crow Rd.\,\, Cumming
END:VEVENT
BEGIN:VEVENT
DTSTART;TZID=America/New_York:20210327T100000
DTEND;TZID=America/New_York:20210327T113000
DTSTAMP:20260422T035645
CREATED:20200210T050014Z
LAST-MODIFIED:20210217T161830Z
UID:10004067-1616839200-1616844600@www.atlantaparent.com
SUMMARY:Family Easter Activities
DESCRIPTION:Drive-thru Easter activities for kids.
URL:https://www.atlantaparent.com/event/easter-egg-hunt-and-celebration/
LOCATION:Lutheran Church of the Redeemer\, 731 Peachtree St.\,\, Atlanta
END:VEVENT
BEGIN:VEVENT
DTSTART;TZID=America/New_York:20210327T100000
DTEND;TZID=America/New_York:20210327T150000
DTSTAMP:20260422T035645
CREATED:20210215T050040Z
LAST-MODIFIED:20210216T174053Z
UID:10004057-1616839200-1616857200@www.atlantaparent.com
SUMMARY:Kori Bustard Day
DESCRIPTION:Meet Tuza and Zola\, the kori bustards at Zoo Atlanta\, play games showcasing Earth’s heaviest flighted bird and more. Reservation required. $26.99-$29.99; ages 3-11\, $20.99-$21.99; ages 2 and younger\, free.
URL:https://www.atlantaparent.com/event/kori-bustard-day/
LOCATION:Zoo Atlanta\,  800 Cherokee Avenue SE\, Atlanta
GEO:33.7321624;-84.3713351
X-APPLE-STRUCTURED-LOCATION;VALUE=URI;X-ADDRESS=Zoo Atlanta  800 Cherokee Avenue SE Atlanta;X-APPLE-RADIUS=500;X-TITLE=800 Cherokee Avenue SE:geo:-84.3713351,33.7321624
END:VEVENT
BEGIN:VEVENT
DTSTART;TZID=America/New_York:20210327T110000
DTEND;TZID=America/New_York:20210327T140000
DTSTAMP:20260422T035645
CREATED:20210315T165200Z
LAST-MODIFIED:20210316T145750Z
UID:10005682-1616842800-1616853600@www.atlantaparent.com
SUMMARY:Bunny Egg-Venture Drive Thru
DESCRIPTION:See the Easter Bunny and get goodie bags at this drive thru event. \nLocations: \n\nSouth Cobb Recreation Center. 875 Riverside Pkwy.\, Austell.\nFair Oaks Recreation Center. 1465 W. Booth Rd. Ext. SW\, Marietta.\nSewell Mill Library and Cultural Center. 2051 Lower Roswell Rd.\, Marietta.\nMountain View Aquatic Center. 2650 Gordy Pkwy.\, Marietta.
URL:https://www.atlantaparent.com/event/bunny-egg-venture-drive-thru/
END:VEVENT
BEGIN:VEVENT
DTSTART;TZID=America/New_York:20210327T120000
DTEND;TZID=America/New_York:20210327T120000
DTSTAMP:20260422T035645
CREATED:20200210T050000Z
LAST-MODIFIED:20210315T163528Z
UID:10002590-1616846400-1616846400@www.atlantaparent.com
SUMMARY:Easter Bunny Tour
DESCRIPTION:Watch the Easter Bunny arrive in a parade. See route online.
URL:https://www.atlantaparent.com/event/easter-egg-hunt/
END:VEVENT
BEGIN:VEVENT
DTSTART;TZID=America/New_York:20210327T130000
DTEND;TZID=America/New_York:20210327T150000
DTSTAMP:20260422T035645
CREATED:20200309T182757Z
LAST-MODIFIED:20210315T162907Z
UID:10004986-1616850000-1616857200@www.atlantaparent.com
SUMMARY:Easter Egg Hunt
DESCRIPTION:Enter a one-way egg hunt course to find eggs and participate in fun activities. Registration required.
URL:https://www.atlantaparent.com/event/easter-egg-hunt-6/
LOCATION:Noonday Creek Trail\, 1941 Vaughn Rd. NW\, Kennesaw
GEO:34.0060236;-84.5905734
X-APPLE-STRUCTURED-LOCATION;VALUE=URI;X-ADDRESS=Noonday Creek Trail 1941 Vaughn Rd. NW Kennesaw;X-APPLE-RADIUS=500;X-TITLE=1941 Vaughn Rd. NW:geo:-84.5905734,34.0060236
END:VEVENT
BEGIN:VEVENT
DTSTART;TZID=America/New_York:20210327T130000
DTEND;TZID=America/New_York:20210327T150000
DTSTAMP:20260422T035645
CREATED:20210217T164727Z
LAST-MODIFIED:20210217T164727Z
UID:10005706-1616850000-1616857200@www.atlantaparent.com
SUMMARY:A Colorful Eggs-perience
DESCRIPTION:Experiment with dyeing eggs with glitter\, tie-dye and more\, along with snacks and a storytime. Register by March 25. $6; non-resident\, $16.
URL:https://www.atlantaparent.com/event/a-colorful-eggs-perience/
LOCATION:Rhodes Jordan Park Community Recreation Center\, 100 East Crogan St.\, Lawrenceville
GEO:33.9570648;-83.9793829
X-APPLE-STRUCTURED-LOCATION;VALUE=URI;X-ADDRESS=Rhodes Jordan Park Community Recreation Center 100 East Crogan St. Lawrenceville;X-APPLE-RADIUS=500;X-TITLE=100 East Crogan St.:geo:-83.9793829,33.9570648
END:VEVENT
BEGIN:VEVENT
DTSTART;TZID=America/New_York:20210327T180000
DTEND;TZID=America/New_York:20210327T210000
DTSTAMP:20260422T035645
CREATED:20210120T203814Z
LAST-MODIFIED:20210216T194821Z
UID:10005596-1616868000-1616878800@www.atlantaparent.com
SUMMARY:Museum Chills & Science Thrills
DESCRIPTION:Enjoy after-hours access to indoor exhibits and WildWoods\, themed science activities and demonstrations and more. Feb.-Freeze; March 27-Arts and Science. Reservation required. $20.
URL:https://www.atlantaparent.com/event/museum-chills-science-thrills/2021-03-27/
LOCATION:Fernbank Museum of Natural History\, 767 Clifton Road\, Atlanta
GEO:33.7739167;-84.3277484
X-APPLE-STRUCTURED-LOCATION;VALUE=URI;X-ADDRESS=Fernbank Museum of Natural History 767 Clifton Road Atlanta;X-APPLE-RADIUS=500;X-TITLE=767 Clifton Road:geo:-84.3277484,33.7739167
END:VEVENT
BEGIN:VEVENT
DTSTART;TZID=America/New_York:20210327T183000
DTEND;TZID=America/New_York:20210327T203000
DTSTAMP:20260422T035645
CREATED:20210217T164848Z
LAST-MODIFIED:20210217T164848Z
UID:10005646-1616869800-1616877000@www.atlantaparent.com
SUMMARY:Illuminated Easter Egg Relay
DESCRIPTION:Participate in games and relays\, enjoy refreshments\, make crafts and more. $6; non-resident\, $11.
URL:https://www.atlantaparent.com/event/illuminated-easter-egg-relay/
LOCATION:George Pierce Park Community Recreation Center\, 55 Buford Hwy.\, Suwanee
GEO:34.0606638;-84.0616299
X-APPLE-STRUCTURED-LOCATION;VALUE=URI;X-ADDRESS=George Pierce Park Community Recreation Center 55 Buford Hwy. Suwanee;X-APPLE-RADIUS=500;X-TITLE=55 Buford Hwy.:geo:-84.0616299,34.0606638
END:VEVENT
BEGIN:VEVENT
DTSTART;TZID=America/New_York:20210328T130000
DTEND;TZID=America/New_York:20210328T160000
DTSTAMP:20260422T035645
CREATED:20200212T050049Z
LAST-MODIFIED:20210315T164707Z
UID:10003992-1616936400-1616947200@www.atlantaparent.com
SUMMARY:Easter Egg Hunt
DESCRIPTION:Four Easter egg hunts for different age groups. Registration required. $5.
URL:https://www.atlantaparent.com/event/evening-with-the-easter-bunny/
LOCATION:Tolleson Park\, 3515 McCauley Rd.\, Smyrna
GEO:33.8680893;-84.5202528
X-APPLE-STRUCTURED-LOCATION;VALUE=URI;X-ADDRESS=Tolleson Park 3515 McCauley Rd. Smyrna;X-APPLE-RADIUS=500;X-TITLE=3515 McCauley Rd.:geo:-84.5202528,33.8680893
END:VEVENT
END:VCALENDAR