BEGIN:VCALENDAR
VERSION:2.0
PRODID:-//NEW Atlanta Parent - ECPv6.15.11//NONSGML v1.0//EN
CALSCALE:GREGORIAN
METHOD:PUBLISH
X-WR-CALNAME:NEW Atlanta Parent
X-ORIGINAL-URL:https://www.atlantaparent.com
X-WR-CALDESC:Events for NEW Atlanta Parent
REFRESH-INTERVAL;VALUE=DURATION:PT1H
X-Robots-Tag:noindex
X-PUBLISHED-TTL:PT1H
BEGIN:VTIMEZONE
TZID:America/New_York
BEGIN:DAYLIGHT
TZOFFSETFROM:-0500
TZOFFSETTO:-0400
TZNAME:EDT
DTSTART:20180311T070000
END:DAYLIGHT
BEGIN:STANDARD
TZOFFSETFROM:-0400
TZOFFSETTO:-0500
TZNAME:EST
DTSTART:20181104T060000
END:STANDARD
BEGIN:DAYLIGHT
TZOFFSETFROM:-0500
TZOFFSETTO:-0400
TZNAME:EDT
DTSTART:20190310T070000
END:DAYLIGHT
BEGIN:STANDARD
TZOFFSETFROM:-0400
TZOFFSETTO:-0500
TZNAME:EST
DTSTART:20191103T060000
END:STANDARD
BEGIN:DAYLIGHT
TZOFFSETFROM:-0500
TZOFFSETTO:-0400
TZNAME:EDT
DTSTART:20200308T070000
END:DAYLIGHT
BEGIN:STANDARD
TZOFFSETFROM:-0400
TZOFFSETTO:-0500
TZNAME:EST
DTSTART:20201101T060000
END:STANDARD
BEGIN:DAYLIGHT
TZOFFSETFROM:-0500
TZOFFSETTO:-0400
TZNAME:EDT
DTSTART:20210314T070000
END:DAYLIGHT
BEGIN:STANDARD
TZOFFSETFROM:-0400
TZOFFSETTO:-0500
TZNAME:EST
DTSTART:20211107T060000
END:STANDARD
BEGIN:DAYLIGHT
TZOFFSETFROM:-0500
TZOFFSETTO:-0400
TZNAME:EDT
DTSTART:20220313T070000
END:DAYLIGHT
BEGIN:STANDARD
TZOFFSETFROM:-0400
TZOFFSETTO:-0500
TZNAME:EST
DTSTART:20221106T060000
END:STANDARD
END:VTIMEZONE
BEGIN:VEVENT
DTSTART;VALUE=DATE:20190816
DTEND;VALUE=DATE:20210201
DTSTAMP:20260425T063025
CREATED:20190721T191919Z
LAST-MODIFIED:20200316T182618Z
UID:10004322-1565913600-1612137599@www.atlantaparent.com
SUMMARY:Any Great Change: Centennial of the 19th Amendment
DESCRIPTION:Due to cancellations to prevent the spread of coronavirus\, please verify event before you go. \nThis exhibition documents how women gained the vote and the ways they have used political power over the last century. Mon.-Sat. 10 a.m.-5:30 p.m. Sun. Noon-5:30 p.m. $21.50; ages 13-18\, $18; ages 4-12\, $9; ages 3 and younger\, free.
URL:https://www.atlantaparent.com/event/any-great-change-centennial-of-the-19th-amendment/
LOCATION:Atlanta History Center\, 130 W. Paces Ferry Rd.\, Atlanta\, GA
GEO:33.8413097;-84.3857926
X-APPLE-STRUCTURED-LOCATION;VALUE=URI;X-ADDRESS=Atlanta History Center 130 W. Paces Ferry Rd. Atlanta GA;X-APPLE-RADIUS=500;X-TITLE=130 W. Paces Ferry Rd.:geo:-84.3857926,33.8413097
END:VEVENT
BEGIN:VEVENT
DTSTART;VALUE=DATE:20200620
DTEND;VALUE=DATE:20210215
DTSTAMP:20260425T063025
CREATED:20200619T152051Z
LAST-MODIFIED:20210104T143604Z
UID:10005138-1592611200-1613347199@www.atlantaparent.com
SUMMARY:Machines in Motion
DESCRIPTION:Experience the genius of Leonardo da Vinci with this exhibit machines based on his visionary designs\, as separated by the four elements: air\, water\, land and fire. Pre-purchased tickets are required: $15.95; ages 3-17\, $11.95; ages 2 and younger\, free.
URL:https://www.atlantaparent.com/event/machines-in-motion/
LOCATION:Tellus Science Museum\, 100 Tellus Drive\, Cartersville
GEO:34.2418518;-84.7706004
X-APPLE-STRUCTURED-LOCATION;VALUE=URI;X-ADDRESS=Tellus Science Museum 100 Tellus Drive Cartersville;X-APPLE-RADIUS=500;X-TITLE=100 Tellus Drive:geo:-84.7706004,34.2418518
END:VEVENT
BEGIN:VEVENT
DTSTART;VALUE=DATE:20200717
DTEND;VALUE=DATE:20210215
DTSTAMP:20260425T063025
CREATED:20200318T013753Z
LAST-MODIFIED:20210127T164500Z
UID:10005022-1594944000-1613347199@www.atlantaparent.com
SUMMARY:Murmuration
DESCRIPTION:A soaring art installation and canopy that reflects Atlanta’s relationship with the natural world.
URL:https://www.atlantaparent.com/event/murmuration/
LOCATION:Woodruff Art Center’s Sifly Piazza\, 1280 Peachtree St. NE\, Atlanta
ATTACH;FMTTYPE=image/jpeg:https://www.atlantaparent.com/wp-content/uploads/2020/03/Murmuration-High-scaled-e1595447819597.jpeg
GEO:33.79008;-84.385671
X-APPLE-STRUCTURED-LOCATION;VALUE=URI;X-ADDRESS=Woodruff Art Center’s Sifly Piazza 1280 Peachtree St. NE Atlanta;X-APPLE-RADIUS=500;X-TITLE=1280 Peachtree St. NE:geo:-84.385671,33.79008
END:VEVENT
BEGIN:VEVENT
DTSTART;VALUE=DATE:20201107
DTEND;VALUE=DATE:20210315
DTSTAMP:20260425T063025
CREATED:20201208T165927Z
LAST-MODIFIED:20201208T165927Z
UID:10005565-1604707200-1615766399@www.atlantaparent.com
SUMMARY:Dawoud Bey: An American Project
DESCRIPTION:This photography collection explores communities and stories that have been underrepresented or unseen with African American subjects and history. Reservation required. $14.50; ages 5 and younger\, free.
URL:https://www.atlantaparent.com/event/dawoud-bey-an-american-project/
LOCATION:High Museum of Art\, 1280 Peachtree Street\, Atlanta
GEO:33.7891582;-84.3849351
X-APPLE-STRUCTURED-LOCATION;VALUE=URI;X-ADDRESS=High Museum of Art 1280 Peachtree Street Atlanta;X-APPLE-RADIUS=500;X-TITLE=1280 Peachtree Street:geo:-84.3849351,33.7891582
END:VEVENT
BEGIN:VEVENT
DTSTART;VALUE=DATE:20201107
DTEND;VALUE=DATE:20211025
DTSTAMP:20260425T063025
CREATED:20201208T170203Z
LAST-MODIFIED:20201208T170203Z
UID:10005615-1604707200-1635119999@www.atlantaparent.com
SUMMARY:Out Of This World! Jewelry In The Space Age
DESCRIPTION:Explore more than 200 pieces of vintage and contemporary jewelry with celestial and Space Age designs. Reservation required. $15.95; ages 3-17\, $11.95; ages 2 and younger\, free.
URL:https://www.atlantaparent.com/event/out-of-this-world-jewelry-in-the-space-age/
LOCATION:Tellus Science Museum\, 100 Tellus Drive\, Cartersville
GEO:34.2418518;-84.7706004
X-APPLE-STRUCTURED-LOCATION;VALUE=URI;X-ADDRESS=Tellus Science Museum 100 Tellus Drive Cartersville;X-APPLE-RADIUS=500;X-TITLE=100 Tellus Drive:geo:-84.7706004,34.2418518
END:VEVENT
BEGIN:VEVENT
DTSTART;VALUE=DATE:20201212
DTEND;VALUE=DATE:20210419
DTSTAMP:20260425T063025
CREATED:20201208T165344Z
LAST-MODIFIED:20201208T165344Z
UID:10005566-1607731200-1618790399@www.atlantaparent.com
SUMMARY:Bestowing Beauty: Masterpieces from Persian Lands
DESCRIPTION:Celebrate the artistic traditions of Persian civilization with carpets\, textiles\, manuscripts\, paintings\, ceramics\, jeweled objects and more. Reservation required. $14.50; ages 5 and younger\, free.
URL:https://www.atlantaparent.com/event/bestowing-beauty-masterpieces-from-persian-lands/
LOCATION:High Museum of Art\, 1280 Peachtree Street\, Atlanta
GEO:33.7891582;-84.3849351
X-APPLE-STRUCTURED-LOCATION;VALUE=URI;X-ADDRESS=High Museum of Art 1280 Peachtree Street Atlanta;X-APPLE-RADIUS=500;X-TITLE=1280 Peachtree Street:geo:-84.3849351,33.7891582
END:VEVENT
BEGIN:VEVENT
DTSTART;VALUE=DATE:20210116
DTEND;VALUE=DATE:20210510
DTSTAMP:20260425T063025
CREATED:20201208T170439Z
LAST-MODIFIED:20210510T124329Z
UID:10005572-1610755200-1620604799@www.atlantaparent.com
SUMMARY:The Pigeon Comes to Atlanta! A Mo Willems Exhibit
DESCRIPTION:Celebrate your favorite stories by having conversations as Elephant Gerald and Piggie\, dressing up Naked Mole Rat\, uncovering Knuffle Bunny\, launching foam hot dogs at The Pigeon and more. Reservation required. $12.95-$18.95; ages 11 months and younger\, free.
URL:https://www.atlantaparent.com/event/the-pigeon-comes-to-atlanta-a-mo-willems-exhibit/
LOCATION:Children’s Museum of Atlanta\, 275 Centennial Olympic Park Dr. NW\, Atlanta\, GA
ATTACH;FMTTYPE=image/jpeg:https://www.atlantaparent.com/wp-content/uploads/2020/12/180425_ChildrensMuseum_Pigeon_087-scaled-e1607447174212.jpg
END:VEVENT
BEGIN:VEVENT
DTSTART;VALUE=DATE:20210120
DTEND;VALUE=DATE:20210121
DTSTAMP:20260425T063025
CREATED:20210111T142736Z
LAST-MODIFIED:20210111T142736Z
UID:10005581-1611100800-1611187199@www.atlantaparent.com
SUMMARY:Virtual: Pearls and Pins Inauguration Read Aloud
DESCRIPTION:Join author Kesha Muhammad-Garrett for her read aloud of “If Kamala Can\,” so readers can get excited about the upcoming inauguration. Jan. 20\, 9 a.m.; 4 p.m. and 7:30 p.m. $5; signed copy of the book\, $22.99.
URL:https://www.atlantaparent.com/event/virtual-pearls-and-pins-inauguration-read-aloud/
END:VEVENT
BEGIN:VEVENT
DTSTART;VALUE=DATE:20210123
DTEND;VALUE=DATE:20210907
DTSTAMP:20260425T063025
CREATED:20210105T144821Z
LAST-MODIFIED:20210105T144821Z
UID:10005625-1611360000-1630972799@www.atlantaparent.com
SUMMARY:Zoo in You
DESCRIPTION:View the world of inner microorganisms and the microbiome to learn more about personal health with engaging\, interactive and bilingual exhibits. Reservation required. $15.95; ages 3-17\, $11.95; ages 2 and younger\, free.
URL:https://www.atlantaparent.com/event/zoo-in-you/
LOCATION:Tellus Science Museum\, 100 Tellus Drive\, Cartersville
GEO:34.2418518;-84.7706004
X-APPLE-STRUCTURED-LOCATION;VALUE=URI;X-ADDRESS=Tellus Science Museum 100 Tellus Drive Cartersville;X-APPLE-RADIUS=500;X-TITLE=100 Tellus Drive:geo:-84.7706004,34.2418518
END:VEVENT
END:VCALENDAR