BEGIN:VCALENDAR
VERSION:2.0
PRODID:-//NEW Atlanta Parent - ECPv6.15.11//NONSGML v1.0//EN
CALSCALE:GREGORIAN
METHOD:PUBLISH
X-ORIGINAL-URL:https://www.atlantaparent.com
X-WR-CALDESC:Events for NEW Atlanta Parent
REFRESH-INTERVAL;VALUE=DURATION:PT1H
X-Robots-Tag:noindex
X-PUBLISHED-TTL:PT1H
BEGIN:VTIMEZONE
TZID:America/New_York
BEGIN:DAYLIGHT
TZOFFSETFROM:-0500
TZOFFSETTO:-0400
TZNAME:EDT
DTSTART:20250309T070000
END:DAYLIGHT
BEGIN:STANDARD
TZOFFSETFROM:-0400
TZOFFSETTO:-0500
TZNAME:EST
DTSTART:20251102T060000
END:STANDARD
BEGIN:DAYLIGHT
TZOFFSETFROM:-0500
TZOFFSETTO:-0400
TZNAME:EDT
DTSTART:20260308T070000
END:DAYLIGHT
BEGIN:STANDARD
TZOFFSETFROM:-0400
TZOFFSETTO:-0500
TZNAME:EST
DTSTART:20261101T060000
END:STANDARD
BEGIN:DAYLIGHT
TZOFFSETFROM:-0500
TZOFFSETTO:-0400
TZNAME:EDT
DTSTART:20270314T070000
END:DAYLIGHT
BEGIN:STANDARD
TZOFFSETFROM:-0400
TZOFFSETTO:-0500
TZNAME:EST
DTSTART:20271107T060000
END:STANDARD
END:VTIMEZONE
BEGIN:VTIMEZONE
TZID:UTC
BEGIN:STANDARD
TZOFFSETFROM:+0000
TZOFFSETTO:+0000
TZNAME:UTC
DTSTART:20250101T000000
END:STANDARD
END:VTIMEZONE
BEGIN:VEVENT
DTSTART;TZID=America/New_York:20260516T100000
DTEND;TZID=America/New_York:20260516T160000
DTSTAMP:20260422T121519
CREATED:20250119T155733Z
LAST-MODIFIED:20260115T210542Z
UID:10010305-1778925600-1778947200@www.atlantaparent.com
SUMMARY:Pop-In for Family Fun
DESCRIPTION:Enjoy different themed activities for families every month on the third Saturday.
URL:https://www.atlantaparent.com/event/pop-family-fun-aviation-2/2026-05-16/
LOCATION:Marietta Museum of History\, 1 Depot St.\, Marietta
GEO:33.227377;-84.5696531
X-APPLE-STRUCTURED-LOCATION;VALUE=URI;X-ADDRESS=Marietta Museum of History 1 Depot St. Marietta;X-APPLE-RADIUS=500;X-TITLE=1 Depot St.:geo:-84.5696531,33.227377
END:VEVENT
BEGIN:VEVENT
DTSTART;TZID=America/New_York:20260516T110000
DTEND;TZID=America/New_York:20260516T110000
DTSTAMP:20260422T121519
CREATED:20260420T175048Z
LAST-MODIFIED:20260421T131154Z
UID:10009328-1778929200-1778929200@www.atlantaparent.com
SUMMARY:National Kids to Parks Day
DESCRIPTION:Enjoy food trucks\, games\, prizes\, inflatables and more to learn to use local parks and recreation sites to develop more active\, healthy lifestyles. Free admission.
URL:https://www.atlantaparent.com/event/national-kids-to-parks-day/
LOCATION:Hammond Park\, 705 Hammond Drive\, Sandy Springs
END:VEVENT
BEGIN:VEVENT
DTSTART;TZID=America/New_York:20260516T110000
DTEND;TZID=America/New_York:20260516T170000
DTSTAMP:20260422T121519
CREATED:20260219T155958Z
LAST-MODIFIED:20260220T191436Z
UID:10008415-1778929200-1778950800@www.atlantaparent.com
SUMMARY:Taste of Douglasville
DESCRIPTION:Enjoy a showcase of the area’s restaurants and business\, arts and crafts items\, local performers and a Kids Korner children’s entertainment area. Free admission; tasting tickets\, $1.
URL:https://www.atlantaparent.com/event/taste-of-douglasville/
LOCATION:Douglasville Town Green\, 6801 Church St.\, Douglasville
END:VEVENT
BEGIN:VEVENT
DTSTART;TZID=UTC:20260516T120000
DTEND;TZID=UTC:20260516T200000
DTSTAMP:20260422T121519
CREATED:20250129T050038Z
LAST-MODIFIED:20260421T135620Z
UID:10001530-1778932800-1778961600@www.atlantaparent.com
SUMMARY:Kirkwood Spring Fling
DESCRIPTION:Enjoy a 5K run\, tour of homes\, artist market\, live music\, food and more. May 16\, noon-8 p.m. Free\nadmission; Kids Area wristband\, $23.48.
URL:https://www.atlantaparent.com/event/kirkwood-spring-fling/
LOCATION:Bessie Branham Park\, 2051 Delano Dr. NE\, Atlanta\, 30317
GEO:33.7549382;-84.3206225
X-APPLE-STRUCTURED-LOCATION;VALUE=URI;X-ADDRESS=Bessie Branham Park 2051 Delano Dr. NE Atlanta 30317;X-APPLE-RADIUS=500;X-TITLE=2051 Delano Dr. NE:geo:-84.3206225,33.7549382
END:VEVENT
BEGIN:VEVENT
DTSTART;TZID=America/New_York:20260516T173000
DTEND;TZID=America/New_York:20260516T193000
DTSTAMP:20260422T121519
CREATED:20260422T154524Z
LAST-MODIFIED:20260422T154524Z
UID:10010517-1778952600-1778959800@www.atlantaparent.com
SUMMARY:Lil’Palooza
DESCRIPTION:Party with Huntrix’s Rumi from “K-Pop Demon Hunters\,” jam out with a singing puppet band\, dance to tunes and more at this music festival for kids. Reservation required. $25; ages 11 months and younger\, free.
URL:https://www.atlantaparent.com/event/lilpalooza/
LOCATION:Children’s Museum of Atlanta\, 275 Centennial Olympic Park Dr. NW\, Atlanta\, GA
END:VEVENT
BEGIN:VEVENT
DTSTART;TZID=America/New_York:20260516T180000
DTEND;TZID=America/New_York:20260516T180000
DTSTAMP:20260422T121519
CREATED:20260420T103456Z
LAST-MODIFIED:20260422T154713Z
UID:10004440-1778954400-1778954400@www.atlantaparent.com
SUMMARY:Star Wars & More with the ASO
DESCRIPTION:This family-friendly concert features iconic film scores from John Williams\, Danny Elfman and more from “Star Wars\,” “The Avengers” and more. $37-$143+.
URL:https://www.atlantaparent.com/event/star-wars-and-more-the-music-of-john-williams-with-the-atlanta-symphony-orchestra/
LOCATION:Ameris Bank Amphitheatre\, 2200 Encore Pkwy.\, Alpharetta
ATTACH;FMTTYPE=image/png:https://www.atlantaparent.com/wp-content/uploads/2019/08/Screen-Shot-2022-11-11-at-11.27.32-AM-e1681997566490.png
END:VEVENT
BEGIN:VEVENT
DTSTART;TZID=America/New_York:20260516T180000
DTEND;TZID=America/New_York:20260517T093000
DTSTAMP:20260422T121519
CREATED:20260128T232807Z
LAST-MODIFIED:20260202T153225Z
UID:10010360-1778954400-1779010200@www.atlantaparent.com
SUMMARY:Zoo Atlanta's Family NightCrawler
DESCRIPTION:Spend the night at the Zoo to explore by the light of the moon and flashlights\, enjoy interactive activities\, participate in challenges\, go on tours and more. For ages 6 and older. $110. Feb. 28\, March 21 and May 16\, 6 p.m. to 9:30 a.m. the next morning.
URL:https://www.atlantaparent.com/event/zoo-atlantas-family-nightcrawler-boo-zoo/2026-05-16/
LOCATION:Zoo Atlanta\,  800 Cherokee Avenue SE\, Atlanta
ATTACH;FMTTYPE=image/jpeg:https://www.atlantaparent.com/wp-content/uploads/2017/09/education_nightcrawlers_outsidesss_ZA_8814.jpg
GEO:33.7321624;-84.3713351
X-APPLE-STRUCTURED-LOCATION;VALUE=URI;X-ADDRESS=Zoo Atlanta  800 Cherokee Avenue SE Atlanta;X-APPLE-RADIUS=500;X-TITLE=800 Cherokee Avenue SE:geo:-84.3713351,33.7321624
END:VEVENT
BEGIN:VEVENT
DTSTART;TZID=America/New_York:20260521T170000
DTEND;TZID=America/New_York:20260521T210000
DTSTAMP:20260422T121519
CREATED:20260220T055039Z
LAST-MODIFIED:20260220T182044Z
UID:10010429-1779382800-1779397200@www.atlantaparent.com
SUMMARY:Alive in Roswell Festival
DESCRIPTION:This family-friendly festival is held every third Thursday from April to October. Free admission.
URL:https://www.atlantaparent.com/event/alive-in-roswell-festival-2/2026-05-21/
LOCATION:Historic Downtown Roswell
ATTACH;FMTTYPE=image/jpeg:https://www.atlantaparent.com/wp-content/uploads/2024/04/RAPP-23-of-112-scaled-e1742929812680.jpg
END:VEVENT
BEGIN:VEVENT
DTSTART;VALUE=DATE:20260522
DTEND;VALUE=DATE:20260526
DTSTAMP:20260422T121519
CREATED:20250410T125850Z
LAST-MODIFIED:20260416T152611Z
UID:10005834-1779408000-1779753599@www.atlantaparent.com
SUMMARY:Memorial Day Weekend
DESCRIPTION:Stone Mountain Park \nHonor troops and their families with family-friendly attractions\, the new 250th Celebration Drone & Light Show and a special salute to the troops with an extended fireworks finale. $39.99; ages 3-11\, $36.99; ages 2 and younger\, free.
URL:https://www.atlantaparent.com/event/memorial-day-weekend/
LOCATION:Stone Mountain Park\, 1000 Robert E. Lee Blvd.\, Stone Mountain
ATTACH;FMTTYPE=image/jpeg:https://www.atlantaparent.com/wp-content/uploads/2021/04/Lasershow-Spectacular-scaled-e1619182695598.jpg
END:VEVENT
BEGIN:VEVENT
DTSTART;VALUE=DATE:20260523
DTEND;VALUE=DATE:20260525
DTSTAMP:20260422T121519
CREATED:20250129T050047Z
LAST-MODIFIED:20260210T141842Z
UID:10001588-1779494400-1779667199@www.atlantaparent.com
SUMMARY:Alpharetta Arts Streetfest
DESCRIPTION:Shop artisans\, vendors and exhibitors. May 23-24\, 10 a.m.-5 p.m. Free admission.
URL:https://www.atlantaparent.com/event/alpharetta-arts-streetfest/
LOCATION:Wills Park Grand Pavilion\, 11925 Wills Rd.\, Alpharetta
ATTACH;FMTTYPE=image/jpeg:https://www.atlantaparent.com/wp-content/uploads/2025/01/Alpharetta-Arts-Streetfest2-scaled-e1739815468292.jpg
GEO:34.0711927;-84.3086116
X-APPLE-STRUCTURED-LOCATION;VALUE=URI;X-ADDRESS=Wills Park Grand Pavilion 11925 Wills Rd. Alpharetta;X-APPLE-RADIUS=500;X-TITLE=11925 Wills Rd.:geo:-84.3086116,34.0711927
END:VEVENT
BEGIN:VEVENT
DTSTART;TZID=America/New_York:20260523T100000
DTEND;TZID=America/New_York:20260523T110000
DTSTAMP:20260422T121519
CREATED:20260413T130303Z
LAST-MODIFIED:20260416T152711Z
UID:10005839-1779530400-1779534000@www.atlantaparent.com
SUMMARY:Memorial Day Ceremony
DESCRIPTION:Honor those who have given their lives in service to the country with veterans and current servicemen. Free admission.
URL:https://www.atlantaparent.com/event/memorial-day-ceremony/
LOCATION:Cauble Park\, 4425 Beach Street\, Acworth
GEO:34.0614724;-84.6836676
X-APPLE-STRUCTURED-LOCATION;VALUE=URI;X-ADDRESS=Cauble Park 4425 Beach Street Acworth;X-APPLE-RADIUS=500;X-TITLE=4425 Beach Street:geo:-84.6836676,34.0614724
END:VEVENT
BEGIN:VEVENT
DTSTART;TZID=America/New_York:20260524T110000
DTEND;TZID=America/New_York:20260524T123000
DTSTAMP:20260422T121519
CREATED:20260416T153402Z
LAST-MODIFIED:20260416T153402Z
UID:10010513-1779620400-1779625800@www.atlantaparent.com
SUMMARY:Veterans Tour
DESCRIPTION:Discover the stories of military veterans who reside at Oakland\, from the Mexican-American War to the Korean War. Reservation recommended. $12; ages 5-17\, $6; ages 4 and younger\, free.
URL:https://www.atlantaparent.com/event/veterans-tour/
LOCATION:Historic Oakland Cemetery\, 248 Oakland Avenue\, Atlanta
GEO:33.748727;-84.3731212
X-APPLE-STRUCTURED-LOCATION;VALUE=URI;X-ADDRESS=Historic Oakland Cemetery 248 Oakland Avenue Atlanta;X-APPLE-RADIUS=500;X-TITLE=248 Oakland Avenue:geo:-84.3731212,33.748727
END:VEVENT
BEGIN:VEVENT
DTSTART;TZID=America/New_York:20260525T090000
DTEND;TZID=America/New_York:20260525T103000
DTSTAMP:20260422T121519
CREATED:20260412T190226Z
LAST-MODIFIED:20260416T152925Z
UID:10004103-1779699600-1779705000@www.atlantaparent.com
SUMMARY:Alpharetta Memorial Day Tribute
DESCRIPTION:The City of Alpharetta and the Rotary Club of Alpharetta will host this event. Free admission.
URL:https://www.atlantaparent.com/event/alpharetta-memorial-day-tribute/
LOCATION:Alpharetta City Hall\, 2 Park Plaza\, Alpharetta
END:VEVENT
BEGIN:VEVENT
DTSTART;TZID=America/New_York:20260525T100000
DTEND;TZID=America/New_York:20260525T100000
DTSTAMP:20260422T121519
CREATED:20260410T135954Z
LAST-MODIFIED:20260416T152854Z
UID:10005000-1779703200-1779703200@www.atlantaparent.com
SUMMARY:Memorial Day Tribute
DESCRIPTION:The Veteran Events Planning Committee honors veterans\, active military and other leading community organizations at this event. Free admission.
URL:https://www.atlantaparent.com/event/virtual-memorial-day-ceremony/
LOCATION:Brook Run Park\, 4770 N. Peachtree Rd.\, Dunwoody
GEO:33.9320923;-84.3008638
X-APPLE-STRUCTURED-LOCATION;VALUE=URI;X-ADDRESS=Brook Run Park 4770 N. Peachtree Rd. Dunwoody;X-APPLE-RADIUS=500;X-TITLE=4770 N. Peachtree Rd.:geo:-84.3008638,33.9320923
END:VEVENT
BEGIN:VEVENT
DTSTART;TZID=America/New_York:20260525T100000
DTEND;TZID=America/New_York:20260525T100000
DTSTAMP:20260422T121519
CREATED:20260413T130702Z
LAST-MODIFIED:20260416T153021Z
UID:10005765-1779703200-1779703200@www.atlantaparent.com
SUMMARY:Memorial Day Ceremony
DESCRIPTION:The City of Woodstock\, American Legion Post 316\, Marine Corps League Detachment 1311 and other local groups honor those who’ve fought at this ceremony. Free admission.
URL:https://www.atlantaparent.com/event/memorial-day-ceremony-2/
LOCATION:The Park at City Center\, 101 Arnold Mill Rd.\, Woodstock
END:VEVENT
BEGIN:VEVENT
DTSTART;TZID=America/New_York:20260525T100000
DTEND;TZID=America/New_York:20260525T100000
DTSTAMP:20260422T121519
CREATED:20260414T184757Z
LAST-MODIFIED:20260416T153105Z
UID:10004105-1779703200-1779703200@www.atlantaparent.com
SUMMARY:Norcross Memorial Day Remembrance
DESCRIPTION:Gather at Thrasher Park to pay tribute to the troops and their families. Free admission.
URL:https://www.atlantaparent.com/event/norcross-memorial-day-remembrance/
LOCATION:Thrasher Park\, 93 Park Dr.\, Norcross
ATTACH;FMTTYPE=image/jpeg:https://www.atlantaparent.com/wp-content/uploads/2021/05/A64A1154-scaled-e1682004009145.jpg
END:VEVENT
BEGIN:VEVENT
DTSTART;TZID=America/New_York:20260525T120000
DTEND;TZID=America/New_York:20260525T120000
DTSTAMP:20260422T121519
CREATED:20260415T160238Z
LAST-MODIFIED:20260416T153159Z
UID:10008293-1779710400-1779710400@www.atlantaparent.com
SUMMARY:Memorial Day Ceremony
DESCRIPTION:Remember the men and women who have given the ultimate sacrifice\, held in partnership with American Legion Post 294. Free admission.
URL:https://www.atlantaparent.com/event/memorial-day-ceremony-4/
LOCATION:Veteran’s Memorial at Ford Center Campus\, 4181 Atlanta St.\, Powder Springs
END:VEVENT
BEGIN:VEVENT
DTSTART;VALUE=DATE:20260526
DTEND;VALUE=DATE:20260601
DTSTAMP:20260422T121519
CREATED:20260422T041245Z
LAST-MODIFIED:20260422T153550Z
UID:10002135-1779753600-1780271999@www.atlantaparent.com
SUMMARY:Beauty and the Beast
DESCRIPTION:Matthew Murphy \nCelebrate the 30th anniversary of Disney’s production at this musical with spectacular new sets and dazzling costumes. May 26-31. See website for showtimes. $39-$189.
URL:https://www.atlantaparent.com/event/beauty-beast-sing-long/
LOCATION:Fox Theatre\, 660 Peachtree Street NE\, Atlanta
ATTACH;FMTTYPE=image/jpeg:https://www.atlantaparent.com/wp-content/uploads/2017/08/S8-Enchanted-Objects-in-Disney_s-Beauty-and-the-Beast.-Photo-by-Matthew-Murphy.-c-Disney-scaled.jpg
GEO:33.7726196;-84.3855612
X-APPLE-STRUCTURED-LOCATION;VALUE=URI;X-ADDRESS=Fox Theatre 660 Peachtree Street NE Atlanta;X-APPLE-RADIUS=500;X-TITLE=660 Peachtree Street NE:geo:-84.3855612,33.7726196
END:VEVENT
BEGIN:VEVENT
DTSTART;VALUE=DATE:20260528
DTEND;VALUE=DATE:20260622
DTSTAMP:20260422T121519
CREATED:20260416T143752Z
LAST-MODIFIED:20260416T143752Z
UID:10010512-1779926400-1782086399@www.atlantaparent.com
SUMMARY:In the Heights
DESCRIPTION:This musical blends hip hop\, salsa\, merengue and soul to celebrate family\, resilience and the pursuit of the American Dream. May 28-June 21. See website for showtimes. $29.76-$85.94.
URL:https://www.atlantaparent.com/event/in-the-heights/
LOCATION: Aurora Theatre\, 128 East Pike St.\, Lawrenceville
END:VEVENT
BEGIN:VEVENT
DTSTART;TZID=America/New_York:20260529T180000
DTEND;TZID=America/New_York:20260529T213000
DTSTAMP:20260422T121519
CREATED:20260420T153503Z
LAST-MODIFIED:20260422T154324Z
UID:10009323-1780077600-1780090200@www.atlantaparent.com
SUMMARY:Lantern Parade
DESCRIPTION:Light up the night at this community celebration. Free admission.
URL:https://www.atlantaparent.com/event/lantern-parade/
LOCATION:Duluth Town Green\, 3142 Hill St.\, Duluth
END:VEVENT
BEGIN:VEVENT
DTSTART;VALUE=DATE:20260530
DTEND;VALUE=DATE:20260531
DTSTAMP:20260422T121519
CREATED:20260219T143126Z
LAST-MODIFIED:20260220T192428Z
UID:10006392-1780099200-1780185599@www.atlantaparent.com
SUMMARY:Honeybee Festival
DESCRIPTION:This annual event celebrates honeybees and their conservation with live music\, vendors and food. Visit the Kids Zone\, sample BBQ\, and see an array of antique tractors at the Cruise-In.
URL:https://www.atlantaparent.com/event/honeybee-festival-2/
LOCATION:LaFayette\, 207 S. Duke St.\, LaFayette
GEO:34.7031072;-85.2807752
X-APPLE-STRUCTURED-LOCATION;VALUE=URI;X-ADDRESS=LaFayette 207 S. Duke St. LaFayette;X-APPLE-RADIUS=500;X-TITLE=207 S. Duke St.:geo:-85.2807752,34.7031072
END:VEVENT
BEGIN:VEVENT
DTSTART;VALUE=DATE:20260530
DTEND;VALUE=DATE:20260601
DTSTAMP:20260422T121519
CREATED:20260402T152256Z
LAST-MODIFIED:20260422T154056Z
UID:10003005-1780099200-1780271999@www.atlantaparent.com
SUMMARY:Toddler Takeover
DESCRIPTION:This one-of-a-kind arts experience for ages 5 and younger features live performances\, art-making\, special activities and more. $25-$50.
URL:https://www.atlantaparent.com/event/toddler-takeover/
LOCATION:Black Box Theatre\, Woodruff Arts Center\, 1280 Peachtree Street\, Atlanta
ATTACH;FMTTYPE=image/jpeg:https://www.atlantaparent.com/wp-content/uploads/2021/04/TTO-1--scaled-e1647882468241.jpg
GEO:33.7891582;-84.3849351
X-APPLE-STRUCTURED-LOCATION;VALUE=URI;X-ADDRESS=Black Box Theatre Woodruff Arts Center 1280 Peachtree Street Atlanta;X-APPLE-RADIUS=500;X-TITLE=1280 Peachtree Street:geo:-84.3849351,33.7891582
END:VEVENT
BEGIN:VEVENT
DTSTART;VALUE=DATE:20260530
DTEND;VALUE=DATE:20260713
DTSTAMP:20260422T121519
CREATED:20260422T154932Z
LAST-MODIFIED:20260422T154932Z
UID:10010518-1780099200-1783900799@www.atlantaparent.com
SUMMARY:Basura
DESCRIPTION:This musical is inspired by the true story of Paraguay’s Recycled Orchestra\, where young artists turn scrap material into instruments and music. May 30-July 12. See website for showtimes. $25-$50+.
URL:https://www.atlantaparent.com/event/basura/
LOCATION:Alliance Theatre\, 1280 Peachtree Street\, Atlanta
END:VEVENT
BEGIN:VEVENT
DTSTART;TZID=America/New_York:20260531T083000
DTEND;TZID=America/New_York:20260531T093000
DTSTAMP:20260422T121519
CREATED:20260316T135105Z
LAST-MODIFIED:20260422T155211Z
UID:10010473-1780216200-1780219800@www.atlantaparent.com
SUMMARY:Mornings at the Zoo
DESCRIPTION:Beat the crowds and start your day with a wild hello! Before the Zoo officially opens\, enjoy exclusive access with a knowledgeable Interpretive Guide to select public viewing areas and the opportunity to observe your favorite animals as they begin their day. Join the Zoo each month for this crowd-free adventure you can’t get any other time! May 31\, 8:30-9:30 a.m. Member cost: $20; Non-Member cost: $55 (includes Zoo daytime admission).
URL:https://www.atlantaparent.com/event/mornings-at-the-zoo/
LOCATION:Zoo Atlanta\,  800 Cherokee Avenue SE\, Atlanta
ATTACH;FMTTYPE=image/jpeg:https://www.atlantaparent.com/wp-content/uploads/2026/03/mornings-at-the-zoo_reptiles-scaled.jpg
GEO:33.7321624;-84.3713351
X-APPLE-STRUCTURED-LOCATION;VALUE=URI;X-ADDRESS=Zoo Atlanta  800 Cherokee Avenue SE Atlanta;X-APPLE-RADIUS=500;X-TITLE=800 Cherokee Avenue SE:geo:-84.3713351,33.7321624
END:VEVENT
BEGIN:VEVENT
DTSTART;TZID=UTC:20260531T140000
DTEND;TZID=UTC:20260531T180000
DTSTAMP:20260422T121519
CREATED:20260216T133945Z
LAST-MODIFIED:20260220T145950Z
UID:10010410-1780236000-1780250400@www.atlantaparent.com
SUMMARY:Atlanta Streets Alive
DESCRIPTION:This event turns the city into an open street to encourage community members to bike\, walk\, skate\, dance and play. Free admission. \n\nMarch 22: MLK: Beltline to Vine City\nApril 19: Peachtree St.\nMay 31: West End to Grant Park\nJune 14: MLK: Beltline to Vine City\nSept. 27: Peachtree St.\nOct. 18: West End to Grant Park\nNov. 8: Howell Mill Rd.
URL:https://www.atlantaparent.com/event/atlanta-streets-alive-2/2026-05-31/
ATTACH;FMTTYPE=image/jpeg:https://www.atlantaparent.com/wp-content/uploads/2017/03/Atlanta-streets-alive.jpg
END:VEVENT
BEGIN:VEVENT
DTSTART;VALUE=DATE:20260605
DTEND;VALUE=DATE:20260608
DTSTAMP:20260422T121519
CREATED:20260219T161121Z
LAST-MODIFIED:20260220T192002Z
UID:10002711-1780617600-1780876799@www.atlantaparent.com
SUMMARY:VaHi Summerfest
DESCRIPTION:Celebrate the start of the summer with live music\, art\, food\, a 5K run\, games and more at this neighborhood festival. June 5\, 6-9 p.m.; June 6\, 10 a.m.-11 p.m. and June 7\, 11 a.m.-7:30 p.m. Free admission.
URL:https://www.atlantaparent.com/event/summerfest/
LOCATION:Virginia Highland\, Virginia Avenue between North Highland Avenue and Park Drive
ATTACH;FMTTYPE=image/jpeg:https://www.atlantaparent.com/wp-content/uploads/2019/04/SUMMERFEST.jpg
END:VEVENT
BEGIN:VEVENT
DTSTART;VALUE=DATE:20260606
DTEND;VALUE=DATE:20260608
DTSTAMP:20260422T121519
CREATED:20260218T143610Z
LAST-MODIFIED:20260220T192308Z
UID:10006390-1780704000-1780876799@www.atlantaparent.com
SUMMARY:Georgia Mountain Scottish Festival
DESCRIPTION:Celebrate all things Scottish with bagpipes\, dancers\, athletic competitions\, sheep herding and birds of prey. Activities just for kids include a bouncy castle\, mini golf\, train rides\, face painting and more. $10-$25; ages 7-12\, $5; ages 6 and younger\, free.
URL:https://www.atlantaparent.com/event/blairsville-scottish-festival-and-highland-games/
LOCATION:Georgia Mountain Fairgrounds\, 1311 Music Hall Road\, Hiawassee
GEO:34.9679896;-83.7739687
X-APPLE-STRUCTURED-LOCATION;VALUE=URI;X-ADDRESS=Georgia Mountain Fairgrounds 1311 Music Hall Road Hiawassee;X-APPLE-RADIUS=500;X-TITLE=1311 Music Hall Road:geo:-83.7739687,34.9679896
END:VEVENT
BEGIN:VEVENT
DTSTART;VALUE=DATE:20260606
DTEND;VALUE=DATE:20260608
DTSTAMP:20260422T121519
CREATED:20260219T191510Z
LAST-MODIFIED:20260220T192615Z
UID:10001289-1780704000-1780876799@www.atlantaparent.com
SUMMARY:Flying Colors Butterfly Festival at the Chattahoochee Nature Center
DESCRIPTION:Visit with butterflies at the Butterfly Encounter\, meet with pollinator experts\, celebrate butterflies with the migration game and more. June 6\, 9 a.m.-3 p.m. and June 7\, 10 a.m.-5 p.m. $25; ages 2 and younger\, free.
URL:https://www.atlantaparent.com/event/18th-annual-flying-colors-butterfly-festival/
LOCATION:Chattahoochee Nature Center\, 9135 Willeo Road\, Roswell
ATTACH;FMTTYPE=image/jpeg:https://www.atlantaparent.com/wp-content/uploads/2025/02/IMG_8207-scaled-e1747762501141.jpg
GEO:34.0038514;-84.38312
X-APPLE-STRUCTURED-LOCATION;VALUE=URI;X-ADDRESS=Chattahoochee Nature Center 9135 Willeo Road Roswell;X-APPLE-RADIUS=500;X-TITLE=9135 Willeo Road:geo:-84.38312,34.0038514
END:VEVENT
BEGIN:VEVENT
DTSTART;TZID=America/New_York:20260606T170000
DTEND;TZID=America/New_York:20260606T210000
DTSTAMP:20260422T121519
CREATED:20260114T133333Z
LAST-MODIFIED:20260406T155208Z
UID:10010504-1780765200-1780779600@www.atlantaparent.com
SUMMARY:Kids Night Out
DESCRIPTION:Parents\, enjoy a well-deserved night off! Send your kids to the Zoo for a wildly fun and educational evening with trained Educators! Children ages 5-11 will enjoy a guided after-hours tour of the Zoo\, games and activities\, crafts\, story time and a pizza dinner. June 6 and 27\, July 25 and Aug. 8 and 22\, 5-9 p.m. Zoo Atlanta Members: $35 per child; Non-Members: $42 per child.
URL:https://www.atlantaparent.com/event/kids-night-out-3/2026-06-06/
LOCATION:Zoo Atlanta\, 800 Cherokee Avenue\, Atlanta
ATTACH;FMTTYPE=image/jpeg:https://www.atlantaparent.com/wp-content/uploads/2025/04/education_camp_ZA_2T0A8308-scaled-e1748631734255.jpg
GEO:33.7321624;-84.3713351
X-APPLE-STRUCTURED-LOCATION;VALUE=URI;X-ADDRESS=Zoo Atlanta 800 Cherokee Avenue Atlanta;X-APPLE-RADIUS=500;X-TITLE=800 Cherokee Avenue:geo:-84.3713351,33.7321624
END:VEVENT
BEGIN:VEVENT
DTSTART;VALUE=DATE:20260626
DTEND;VALUE=DATE:20260629
DTSTAMP:20260422T121519
CREATED:20260220T151132Z
LAST-MODIFIED:20260220T183459Z
UID:10009359-1782432000-1782691199@www.atlantaparent.com
SUMMARY:AthFest Music & Arts Festival
DESCRIPTION:Porter McLeod \nThis festival includes three outdoor stages with live music performances\, an Artist Market and a block-long KidsFest area. Free admission.
URL:https://www.atlantaparent.com/event/athfest-music-arts-festival/
LOCATION:Downtown Athens\, 297 W Hancock Ave\, Athens\, 30601
ATTACH;FMTTYPE=image/jpeg:https://www.atlantaparent.com/wp-content/uploads/2025/05/Credit-Porter-McLeod-scaled-e1747750109477.jpg
END:VEVENT
END:VCALENDAR