BEGIN:VCALENDAR
VERSION:2.0
PRODID:-//NEW Atlanta Parent - ECPv6.15.11//NONSGML v1.0//EN
CALSCALE:GREGORIAN
METHOD:PUBLISH
X-ORIGINAL-URL:https://www.atlantaparent.com
X-WR-CALDESC:Events for NEW Atlanta Parent
REFRESH-INTERVAL;VALUE=DURATION:PT1H
X-Robots-Tag:noindex
X-PUBLISHED-TTL:PT1H
BEGIN:VTIMEZONE
TZID:America/New_York
BEGIN:DAYLIGHT
TZOFFSETFROM:-0500
TZOFFSETTO:-0400
TZNAME:EDT
DTSTART:20250309T070000
END:DAYLIGHT
BEGIN:STANDARD
TZOFFSETFROM:-0400
TZOFFSETTO:-0500
TZNAME:EST
DTSTART:20251102T060000
END:STANDARD
BEGIN:DAYLIGHT
TZOFFSETFROM:-0500
TZOFFSETTO:-0400
TZNAME:EDT
DTSTART:20260308T070000
END:DAYLIGHT
BEGIN:STANDARD
TZOFFSETFROM:-0400
TZOFFSETTO:-0500
TZNAME:EST
DTSTART:20261101T060000
END:STANDARD
BEGIN:DAYLIGHT
TZOFFSETFROM:-0500
TZOFFSETTO:-0400
TZNAME:EDT
DTSTART:20270314T070000
END:DAYLIGHT
BEGIN:STANDARD
TZOFFSETFROM:-0400
TZOFFSETTO:-0500
TZNAME:EST
DTSTART:20271107T060000
END:STANDARD
END:VTIMEZONE
BEGIN:VTIMEZONE
TZID:UTC
BEGIN:STANDARD
TZOFFSETFROM:+0000
TZOFFSETTO:+0000
TZNAME:UTC
DTSTART:20250101T000000
END:STANDARD
END:VTIMEZONE
BEGIN:VEVENT
DTSTART;TZID=America/New_York:20260414T100000
DTEND;TZID=America/New_York:20260414T113000
DTSTAMP:20260419T221201
CREATED:20260317T170807Z
LAST-MODIFIED:20260413T123046Z
UID:10010486-1776160800-1776166200@www.atlantaparent.com
SUMMARY:Music for the Very Young: The Tin Man’s Oz
DESCRIPTION:Members of the Atlanta Symphony Orchestra bring the Emerald City to life with music. April 12 and 18\, 12:30 and 2 p.m.; April 14\, 17 and 24\, 10 and 11:15 a.m.; and April 19\, 2:30 and 4 p.m. $15; ages 7 and younger\, free.
URL:https://www.atlantaparent.com/event/music-for-the-very-young/2026-04-14/
LOCATION:Goizueta Stage for Youth & Families\, Woodruff Arts Center\, 1280 Peachtree St. NE\, Atlanta
ATTACH;FMTTYPE=image/webp:https://www.atlantaparent.com/wp-content/uploads/2026/03/tin-man.webp
END:VEVENT
BEGIN:VEVENT
DTSTART;TZID=America/New_York:20260412T120000
DTEND;TZID=America/New_York:20260412T170000
DTSTAMP:20260419T221201
CREATED:20241213T142759Z
LAST-MODIFIED:20260121T165553Z
UID:10010316-1775995200-1776013200@www.atlantaparent.com
SUMMARY:UPS Second Sunday at the High Museum of Art
DESCRIPTION:Enjoy free admission to see the art in the galleries\, music by a local DJ and drop-in art making. Due to high volume on UPS Second Sundays\, access to special exhibitions is not guaranteed.
URL:https://www.atlantaparent.com/event/second-sundays-8-2/2026-04-12/
LOCATION:High Museum of Art\, 1280 Peachtree Street\, Atlanta
ATTACH;FMTTYPE=image/jpeg:https://www.atlantaparent.com/wp-content/uploads/2022/10/JanuarySecondSunday.jpg
GEO:33.7891582;-84.3849351
X-APPLE-STRUCTURED-LOCATION;VALUE=URI;X-ADDRESS=High Museum of Art 1280 Peachtree Street Atlanta;X-APPLE-RADIUS=500;X-TITLE=1280 Peachtree Street:geo:-84.3849351,33.7891582
END:VEVENT
BEGIN:VEVENT
DTSTART;TZID=America/New_York:20260411T200000
DTEND;TZID=America/New_York:20260411T200000
DTSTAMP:20260419T221201
CREATED:20260330T124902Z
LAST-MODIFIED:20260330T124902Z
UID:10010494-1775937600-1775937600@www.atlantaparent.com
SUMMARY:History That Doesn't Suck
DESCRIPTION:Adapted from the history podcast\, Professor Greg Jackson will tell the epic tale of “The Unlikely Union” for a night of history\, live music and multimedia. Recommended for ages 10 and older. $20-$58.80.
URL:https://www.atlantaparent.com/event/history-that-doesnt-suck/
LOCATION:Sandy Springs Performing Arts Center at City Springs\, 237 Johnson Ferry Rd.\, Sandy Springs
END:VEVENT
BEGIN:VEVENT
DTSTART;TZID=America/New_York:20260411T151500
DTEND;TZID=America/New_York:20260411T151500
DTSTAMP:20260419T221201
CREATED:20240401T143616Z
LAST-MODIFIED:20240412T144746Z
UID:10008124-1775920500-1775920500@www.atlantaparent.com
SUMMARY:Wild Encounter: Petting Zoo Painters
DESCRIPTION:See how the talented “VanGoat” and “Baaahlo” create unforgettable paintings. Reservation required. Saturdays\, 3:15 p.m. $75 per group of up to four people; Zoo admission not included.
URL:https://www.atlantaparent.com/event/wild-encounter-goat-painting-experience-3/2026-04-11/
LOCATION:Zoo Atlanta\,  800 Cherokee Avenue SE\, Atlanta
ATTACH;FMTTYPE=image/jpeg:https://www.atlantaparent.com/wp-content/uploads/2023/06/GoatPaintingEncounter2-scaled-e1687439045923.jpg
GEO:33.7321624;-84.3713351
X-APPLE-STRUCTURED-LOCATION;VALUE=URI;X-ADDRESS=Zoo Atlanta  800 Cherokee Avenue SE Atlanta;X-APPLE-RADIUS=500;X-TITLE=800 Cherokee Avenue SE:geo:-84.3713351,33.7321624
END:VEVENT
BEGIN:VEVENT
DTSTART;TZID=America/New_York:20260411T150000
DTEND;TZID=America/New_York:20260411T150000
DTSTAMP:20260419T221201
CREATED:20260224T172803Z
LAST-MODIFIED:20260224T172803Z
UID:10010446-1775919600-1775919600@www.atlantaparent.com
SUMMARY:The Primrose Friends Live
DESCRIPTION:Enjoy beautiful songs\, silly jokes and stories inspired by character-building traits for ages 2-5\, and visit the lobby at 2 p.m. to help design part of the show’s set. March 14\, 21 and 28 and April 4\, 11 and 18\, 3 p.m. $17.
URL:https://www.atlantaparent.com/event/the-primrose-friends-live/2026-04-11/
LOCATION:Dad’s Garage\, 569 Ezzard St. SE\, Atlanta\, GA\, 30312
GEO:33.7530278;-84.3686184
X-APPLE-STRUCTURED-LOCATION;VALUE=URI;X-ADDRESS=Dad’s Garage 569 Ezzard St. SE Atlanta GA 30312;X-APPLE-RADIUS=500;X-TITLE=569 Ezzard St. SE:geo:-84.3686184,33.7530278
END:VEVENT
BEGIN:VEVENT
DTSTART;TZID=America/New_York:20260411T110000
DTEND;TZID=America/New_York:20260411T140000
DTSTAMP:20260419T221201
CREATED:20260210T153413Z
LAST-MODIFIED:20260219T142306Z
UID:10005741-1775905200-1775916000@www.atlantaparent.com
SUMMARY:Dino Egg Hunt for Kids with Disabilities
DESCRIPTION:This dinosaur-themed egg hunt is designed to be an inclusive experience for families with children with special needs. Registration required. Free admission.
URL:https://www.atlantaparent.com/event/dino-egg-hunt/
LOCATION:Morgan Falls Overlook Park\, 200 Morgan Falls Rd.\, Sandy Springs
GEO:33.9713359;-84.3797292
X-APPLE-STRUCTURED-LOCATION;VALUE=URI;X-ADDRESS=Morgan Falls Overlook Park 200 Morgan Falls Rd. Sandy Springs;X-APPLE-RADIUS=500;X-TITLE=200 Morgan Falls Rd.:geo:-84.3797292,33.9713359
END:VEVENT
BEGIN:VEVENT
DTSTART;TZID=America/New_York:20260411T100000
DTEND;TZID=America/New_York:20260411T120000
DTSTAMP:20260419T221201
CREATED:20260123T143456Z
LAST-MODIFIED:20260220T144238Z
UID:10010396-1775901600-1775908800@www.atlantaparent.com
SUMMARY:DIY Days
DESCRIPTION:Enjoy a day full of innovation\, creativity\, discovery\, craftsmanship\, exploration and more. For ages 3 and older. Registration required. \n\nCarter’s Buckhead Landing: 3330 Piedmont Rd.\, Atlanta\nCarter’s North Point: 7300 N. Point Pkwy.\, Alpharetta
URL:https://www.atlantaparent.com/event/diy-days-2/2026-04-11/
END:VEVENT
BEGIN:VEVENT
DTSTART;TZID=America/New_York:20260411T090000
DTEND;TZID=America/New_York:20260411T170000
DTSTAMP:20260419T221201
CREATED:20260227T183102Z
LAST-MODIFIED:20260306T164447Z
UID:10010462-1775898000-1775926800@www.atlantaparent.com
SUMMARY:Super Spring Saturdays
DESCRIPTION:Enjoy tons of farm fun\, including a cow train\, zip lines\, the petting zoo\, paintball and more. April 4-May 23. Sat. 9 a.m.-5 p.m. $14.95; ages 1 and younger\, free; strawberries\, extra.
URL:https://www.atlantaparent.com/event/super-spring-saturdays/2026-04-11/
LOCATION:Washington Farms\, 5691 Hog Mountain Rd.\, Bogart
ATTACH;FMTTYPE=image/jpeg:https://www.atlantaparent.com/wp-content/uploads/2022/03/Picking-38-scaled-e1675352074311.jpg
GEO:33.8790019;-83.5510718
X-APPLE-STRUCTURED-LOCATION;VALUE=URI;X-ADDRESS=Washington Farms 5691 Hog Mountain Rd. Bogart;X-APPLE-RADIUS=500;X-TITLE=5691 Hog Mountain Rd.:geo:-83.5510718,33.8790019
END:VEVENT
BEGIN:VEVENT
DTSTART;TZID=America/New_York:20260411T090000
DTEND;TZID=America/New_York:20260411T160000
DTSTAMP:20260419T221201
CREATED:20260201T144004Z
LAST-MODIFIED:20260216T162921Z
UID:10007959-1775898000-1775923200@www.atlantaparent.com
SUMMARY:North Fulton Master Gardeners Garden Faire
DESCRIPTION:This annual gardening event features a plant sale\, vendors with garden accessories and tools\, a Children’s Gardening Corner for hands-on activities and more. Free admission.
URL:https://www.atlantaparent.com/event/garden-faire/
LOCATION:The Grove at Wills Park\, 175 Roswell St.\, Alpharetta\, 30009
END:VEVENT
BEGIN:VEVENT
DTSTART;VALUE=DATE:20260411
DTEND;VALUE=DATE:20260413
DTSTAMP:20260419T221201
CREATED:20260310T040023Z
LAST-MODIFIED:20260316T133446Z
UID:10001524-1775865600-1776038399@www.atlantaparent.com
SUMMARY:Repticon
DESCRIPTION:See tons of exotic reptiles and animals from all around the world. April 11\, 9 a.m.-4 p.m. and April 12\, 10 a.m.-4 p.m. $10-$20; ages 5-12\, $6-$7; ages 4 and younger\, free.
URL:https://www.atlantaparent.com/event/repticon/
LOCATION:Gwinnett County Fairgrounds\, 2405 Sugarloaf Parkway\, Lawrenceville
ATTACH;FMTTYPE=image/jpeg:https://www.atlantaparent.com/wp-content/uploads/2017/06/Repticon-4-b.jpg
GEO:33.9191538;-83.9884978
X-APPLE-STRUCTURED-LOCATION;VALUE=URI;X-ADDRESS=Gwinnett County Fairgrounds 2405 Sugarloaf Parkway Lawrenceville;X-APPLE-RADIUS=500;X-TITLE=2405 Sugarloaf Parkway:geo:-83.9884978,33.9191538
END:VEVENT
BEGIN:VEVENT
DTSTART;VALUE=DATE:20260411
DTEND;VALUE=DATE:20260413
DTSTAMP:20260419T221201
CREATED:20260309T040057Z
LAST-MODIFIED:20260413T123035Z
UID:10002105-1775865600-1776038399@www.atlantaparent.com
SUMMARY:Monster Jam
DESCRIPTION:Watch athletes compete in enormous monster trucks. The Pit Party before the event includes viewing trucks up close\, meeting your favorite drivers and taking fun photos. April 11\, 5 p.m. and April 12\, 3 p.m. $40-$162+.
URL:https://www.atlantaparent.com/event/monster-jam/
LOCATION:EchoPark Speedway\, 1500 Tara Place\, Hampton
ATTACH;FMTTYPE=image/jpeg:https://www.atlantaparent.com/wp-content/uploads/2020/01/Monster-Jam-scaled-e1612884861911.jpeg
GEO:33.384517;-84.313377
X-APPLE-STRUCTURED-LOCATION;VALUE=URI;X-ADDRESS=EchoPark Speedway 1500 Tara Place Hampton;X-APPLE-RADIUS=500;X-TITLE=1500 Tara Place:geo:-84.313377,33.384517
END:VEVENT
BEGIN:VEVENT
DTSTART;VALUE=DATE:20260411
DTEND;VALUE=DATE:20260413
DTSTAMP:20260419T221201
CREATED:20250129T050053Z
LAST-MODIFIED:20260210T141110Z
UID:10001266-1775865600-1776038399@www.atlantaparent.com
SUMMARY:Festival on Ponce
DESCRIPTION:Enjoy more than 125 displays of fine arts and crafts\, a children’s area and local food and beverages. April 11\, 10 a.m.-5 p.m. and April 12\, 11 a.m.-5 p.m. Free admission.
URL:https://www.atlantaparent.com/event/festival-on-ponce/
LOCATION:Olmsted Linear Park\, 1451 Ponce de Leon Avenue\, Atlanta
ATTACH;FMTTYPE=image/jpeg:https://www.atlantaparent.com/wp-content/uploads/2017/03/FOP-12931020_1124757854243383_1842490156142867598_n-2.jpg
GEO:33.7748595;-84.3408627
X-APPLE-STRUCTURED-LOCATION;VALUE=URI;X-ADDRESS=Olmsted Linear Park 1451 Ponce de Leon Avenue Atlanta;X-APPLE-RADIUS=500;X-TITLE=1451 Ponce de Leon Avenue:geo:-84.3408627,33.7748595
END:VEVENT
BEGIN:VEVENT
DTSTART;VALUE=DATE:20260411
DTEND;VALUE=DATE:20260413
DTSTAMP:20260419T221201
CREATED:20250129T050028Z
LAST-MODIFIED:20260216T162645Z
UID:10010371-1775865600-1776038399@www.atlantaparent.com
SUMMARY:Georgia Renaissance Festival
DESCRIPTION:Enjoy Renaissance-themed entertainment with jousting\, an artisan marketplace\, delicious food\, jugglers\, jesters and more. Tickets are date specific. April 11-May 31. Sat.-Sun. 10:30 a.m.-6 p.m. $26.86-$35.09; ages 6-12\, $13.40-$19.56; ages 5 and younger\, free.
URL:https://www.atlantaparent.com/event/georgia-renaissance-festival/2026-04-11/
LOCATION:Fairburn\, 6732 Virlyn B. Smith Rd.\, Fairburn
ATTACH;FMTTYPE=image/jpeg:https://www.atlantaparent.com/wp-content/uploads/2017/03/garenfestcom_-b.jpg
GEO:33.5645601;-84.6026285
X-APPLE-STRUCTURED-LOCATION;VALUE=URI;X-ADDRESS=Fairburn 6732 Virlyn B. Smith Rd. Fairburn;X-APPLE-RADIUS=500;X-TITLE=6732 Virlyn B. Smith Rd.:geo:-84.6026285,33.5645601
END:VEVENT
BEGIN:VEVENT
DTSTART;VALUE=DATE:20260411
DTEND;VALUE=DATE:20260413
DTSTAMP:20260419T221201
CREATED:20250129T050012Z
LAST-MODIFIED:20260210T141206Z
UID:10001269-1775865600-1776038399@www.atlantaparent.com
SUMMARY:Acworth Art Fest
DESCRIPTION:This two-day festival features tons of art. April 11\, 10 a.m.-6 p.m. and April 12\, 10 a.m.-5 p.m. Free admission.
URL:https://www.atlantaparent.com/event/acworth-art-fest/
LOCATION:Downtown Acworth\, 4415 Senator Russell Blvd.\, Acworth
GEO:34.0659329;-84.6768796
X-APPLE-STRUCTURED-LOCATION;VALUE=URI;X-ADDRESS=Downtown Acworth 4415 Senator Russell Blvd. Acworth;X-APPLE-RADIUS=500;X-TITLE=4415 Senator Russell Blvd.:geo:-84.6768796,34.0659329
END:VEVENT
BEGIN:VEVENT
DTSTART;VALUE=DATE:20260411
DTEND;VALUE=DATE:20260413
DTSTAMP:20260419T221201
CREATED:20260215T194732Z
LAST-MODIFIED:20260220T184159Z
UID:10004332-1775865600-1776038399@www.atlantaparent.com
SUMMARY:Suwanee Arts Festival
DESCRIPTION:See talented artists exhibiting and selling a variety of art\, entertainment on the stage and more. April 11\, 10 a.m.-6 p.m. and April 12\, noon-5 p.m.
URL:https://www.atlantaparent.com/event/concert-wing-festival/
LOCATION:Suwanee Town Center Park\, 330 Town Center Ave.\, Suwanee
END:VEVENT
BEGIN:VEVENT
DTSTART;TZID=America/New_York:20260410T110000
DTEND;TZID=America/New_York:20260410T120000
DTSTAMP:20260419T221201
CREATED:20260220T195751Z
LAST-MODIFIED:20260220T195751Z
UID:10010437-1775818800-1775822400@www.atlantaparent.com
SUMMARY:Fairytale Friday
DESCRIPTION:Come dressed as a favorite fairytale character for a parade filled with music and bubbles. $14.95; ages 3-12\, $12.95; ages 2 and younger\, free.
URL:https://www.atlantaparent.com/event/fairytale-friday/2026-04-10/
LOCATION:Atlanta Botanical Garden\, Gainesville\, 1911 Sweetbay Drive\, Gainesville
GEO:34.3353324;-83.8178337
X-APPLE-STRUCTURED-LOCATION;VALUE=URI;X-ADDRESS=Atlanta Botanical Garden Gainesville 1911 Sweetbay Drive Gainesville;X-APPLE-RADIUS=500;X-TITLE=1911 Sweetbay Drive:geo:-83.8178337,34.3353324
END:VEVENT
BEGIN:VEVENT
DTSTART;VALUE=DATE:20260410
DTEND;VALUE=DATE:20260413
DTSTAMP:20260419T221201
CREATED:20240201T050056Z
LAST-MODIFIED:20260413T123031Z
UID:10001267-1775779200-1776038399@www.atlantaparent.com
SUMMARY:Dogwood Festival
DESCRIPTION:The Atlanta Dogwood Festival is April 10-12 in Piedmont Park! Don’t miss this family favorite\, with a Kids Village presented by Dollywood in Pigeon Forge\, Tennessee\, live entertainment\, an artists’ market\, giant inflatables and amusement rides in the meadow and much more. The Kids Village is at Oak Hill\, inside the 12th Street entrance. On Saturday and Sunday\, enjoy pop-up fun with Atlanta Parent! Stop by to spin the prize wheel and pick up a copy of our April issue. $5-$10. \nPlay at the Kids Village\nThere’s plenty of fun at the Kids Village! Play\, see a puppet show\, try the spider jump\, help color the mural and more! Friday-Sunday. \nCircus Fun!\nThe pros from Circus Camp will present interactive performances on aerial rig\, a hula hopping area\, balloon animals\, interactive juggling\, and giveaways! Saturday and Sunday. \nTake Care of a Teddy Bear\nBe a doctor and treat a furry friend at the Teddy Bear Hospital with play stethoscopes\, bandages and thermometers. Saturday and Sunday. \nCrafting Fun\nGet creative at the make-and-take art area! Make a glitter mask\, rainbow paper plate and more. Saturday and Sunday. \nPrincess-Pretty Nails\nHave a seat at the “spa” table and have a princess glam manicure! Saturday and Sunday.
URL:https://www.atlantaparent.com/event/dogwood-festival/
LOCATION:Piedmont Park\, 929 Charles Allen Dr.\, Atlanta\, GA\, United States
ATTACH;FMTTYPE=image/jpeg:https://www.atlantaparent.com/wp-content/uploads/2021/04/ADF14_048-scaled-e1680795241679.jpg
GEO:33.780743;-84.37076
X-APPLE-STRUCTURED-LOCATION;VALUE=URI;X-ADDRESS=Piedmont Park 929 Charles Allen Dr. Atlanta GA United States;X-APPLE-RADIUS=500;X-TITLE=929 Charles Allen Dr.:geo:-84.37076,33.780743
END:VEVENT
BEGIN:VEVENT
DTSTART;VALUE=DATE:20260409
DTEND;VALUE=DATE:20260410
DTSTAMP:20260419T221201
CREATED:20260312T145311Z
LAST-MODIFIED:20260317T165746Z
UID:10010470-1775692800-1775779199@www.atlantaparent.com
SUMMARY:Peppa Pig: My First Concert
DESCRIPTION:Enjoy a fun\, interactive introduction to a live orchestra with Peppa Pig\, Mummy Pig\, Daddy Pig\, George and Evie. \n\nByers Theatre: April 9\, 4 and 7 p.m. 1  Galambos Way\, Sandy Springs. 770-206-2022. $39.55-$81.25.\nThe Fred Amphitheater: April 18\, 3:30 p.m. 201 McIntosh Trail\, Peachtree City. 770-631-0630. $35-$60.
URL:https://www.atlantaparent.com/event/peppa-pig-concert/2026-04-09/
END:VEVENT
BEGIN:VEVENT
DTSTART;TZID=America/New_York:20260408T113000
DTEND;TZID=America/New_York:20260408T113000
DTSTAMP:20260419T221201
CREATED:20260301T191724Z
LAST-MODIFIED:20260305T145315Z
UID:10004985-1775647800-1775647800@www.atlantaparent.com
SUMMARY:Spring Break Magic Show
DESCRIPTION:This magic show features captivating sleight of hand tricks\, audience interaction and comedy. April 8\, 11:30 a.m. $7.
URL:https://www.atlantaparent.com/event/april-fools-magic-show/
LOCATION: Aurora Theatre\, 128 East Pike St.\, Lawrenceville
ATTACH;FMTTYPE=image/jpeg:https://www.atlantaparent.com/wp-content/uploads/2020/03/April-Fools-Magic-Show-aurora-b-cropped.jpg
END:VEVENT
BEGIN:VEVENT
DTSTART;TZID=UTC:20260407T190000
DTEND;TZID=UTC:20260407T190000
DTSTAMP:20260419T221201
CREATED:20260316T014508Z
LAST-MODIFIED:20260317T165619Z
UID:10000994-1775588400-1775588400@www.atlantaparent.com
SUMMARY:Swan Lake with Live Orchestra
DESCRIPTION:From World Ballet Company\, watch as fate and magic entwine in a timeless battle between good and evil. $69-$138.
URL:https://www.atlantaparent.com/event/swan-lake/
LOCATION:Byers Theatre\, 1 Galambos Way\, Sandy Springs
END:VEVENT
BEGIN:VEVENT
DTSTART;VALUE=DATE:20260407
DTEND;VALUE=DATE:20260413
DTSTAMP:20260419T221201
CREATED:20260314T204026Z
LAST-MODIFIED:20260317T165643Z
UID:10003841-1775520000-1776038399@www.atlantaparent.com
SUMMARY:The Sound of Music
DESCRIPTION:Watch the vibrant tale of Maria and the von Trapp family in this incredible musical. April 7-12. See website for showtimes. $49-$198.
URL:https://www.atlantaparent.com/event/the-sound-of-music-2/
LOCATION:Fox Theatre\, 660 Peachtree St. NE\, Atlanta
ATTACH;FMTTYPE=image/jpeg:https://www.atlantaparent.com/wp-content/uploads/2023/06/01.-TSOM-Oct-2025-scaled.jpg
GEO:33.772731;-84.385022
X-APPLE-STRUCTURED-LOCATION;VALUE=URI;X-ADDRESS=Fox Theatre 660 Peachtree St. NE Atlanta;X-APPLE-RADIUS=500;X-TITLE=660 Peachtree St. NE:geo:-84.385022,33.772731
END:VEVENT
BEGIN:VEVENT
DTSTART;TZID=America/New_York:20260406T100000
DTEND;TZID=America/New_York:20260410T120000
DTSTAMP:20260419T221201
CREATED:20260305T150619Z
LAST-MODIFIED:20260305T150619Z
UID:10010460-1775469600-1775822400@www.atlantaparent.com
SUMMARY:Spring Break Family Fun
DESCRIPTION:Explore the wonders of springtime with seasonal activities. April 6-10\, 10 a.m.-noon. $27.95-$29.95; ages 3-12\, $24.95-$26.95; ages 2 and younger\, free.
URL:https://www.atlantaparent.com/event/spring-break-family-fun/
LOCATION:Atlanta Botanical Garden\, 1345 Piedmont Ave.\, Atlanta
GEO:33.7900091;-84.3738585
X-APPLE-STRUCTURED-LOCATION;VALUE=URI;X-ADDRESS=Atlanta Botanical Garden 1345 Piedmont Ave. Atlanta;X-APPLE-RADIUS=500;X-TITLE=1345 Piedmont Ave.:geo:-84.3738585,33.7900091
END:VEVENT
BEGIN:VEVENT
DTSTART;TZID=America/New_York:20260405T120000
DTEND;TZID=America/New_York:20260405T160000
DTSTAMP:20260419T221201
CREATED:20251002T040017Z
LAST-MODIFIED:20260123T142747Z
UID:10010336-1775390400-1775404800@www.atlantaparent.com
SUMMARY:Sunday FUNday
DESCRIPTION:Enjoy a hands-on arts craft\, exploring exhibits and learning. Free admission.
URL:https://www.atlantaparent.com/event/sunday-funday/2026-04-05/
LOCATION:Michael C. Carlos Museum\, 571 South Kilgo Cir. NE\, Atlanta
END:VEVENT
BEGIN:VEVENT
DTSTART;TZID=America/New_York:20260405T110000
DTEND;TZID=America/New_York:20260405T160000
DTSTAMP:20260419T221201
CREATED:20260225T170018Z
LAST-MODIFIED:20260226T140512Z
UID:10005699-1775386800-1775404800@www.atlantaparent.com
SUMMARY:Easter Brunch
DESCRIPTION:Head to Park Tavern for a brunch buffet with stunning views\, and kids ages 12 and younger will enjoy a visit with the Easter Bunny and exciting egg hunts. Reservation required. $59.95; ages 7-12\, $37.95; ages 4-6\, $25; ages 3 and younger\, free.
URL:https://www.atlantaparent.com/event/easter-brunch/
LOCATION:Park Tavern\, 500 10th St. NE\, Atlanta
GEO:33.7821919;-84.3691666
X-APPLE-STRUCTURED-LOCATION;VALUE=URI;X-ADDRESS=Park Tavern 500 10th St. NE Atlanta;X-APPLE-RADIUS=500;X-TITLE=500 10th St. NE:geo:-84.3691666,33.7821919
END:VEVENT
BEGIN:VEVENT
DTSTART;TZID=America/New_York:20260405T110000
DTEND;TZID=America/New_York:20260405T160000
DTSTAMP:20260419T221202
CREATED:20250921T142027Z
LAST-MODIFIED:20260123T142356Z
UID:10010332-1775386800-1775404800@www.atlantaparent.com
SUMMARY:Free Sunday
DESCRIPTION:View exhibits for free\, and create an art piece you can take home. Free admission.
URL:https://www.atlantaparent.com/event/free-sunday-2/2026-04-05/
LOCATION:Marietta Cobb Museum of Art\, 30 Atlanta St. SE\, Marietta
END:VEVENT
BEGIN:VEVENT
DTSTART;TZID=America/New_York:20260405T070000
DTEND;TZID=America/New_York:20260405T070000
DTSTAMP:20260419T221202
CREATED:20260213T050054Z
LAST-MODIFIED:20260220T173725Z
UID:10003415-1775372400-1775372400@www.atlantaparent.com
SUMMARY:Easter Sunrise Service
DESCRIPTION:Experience serenity and peace at two interdenominational Easter services. Park gates open at 3 a.m. Parking\, $20.
URL:https://www.atlantaparent.com/event/easter-sunrise-service/
LOCATION:Stone Mountain Park\, 1000 Robert E Lee Boulevard\, Stone Mountain
GEO:33.8056107;-84.1491795
X-APPLE-STRUCTURED-LOCATION;VALUE=URI;X-ADDRESS=Stone Mountain Park 1000 Robert E Lee Boulevard Stone Mountain;X-APPLE-RADIUS=500;X-TITLE=1000 Robert E Lee Boulevard:geo:-84.1491795,33.8056107
END:VEVENT
BEGIN:VEVENT
DTSTART;TZID=America/New_York:20260404T130000
DTEND;TZID=America/New_York:20260405T150000
DTSTAMP:20260419T221202
CREATED:20260219T170844Z
LAST-MODIFIED:20260220T175022Z
UID:10007914-1775307600-1775401200@www.atlantaparent.com
SUMMARY:Bunnypalooza!
DESCRIPTION:This springtime event features Easter-themed tiny critters\, including bunnies and chicks\, for cute photos. $12; park admission\, extra.
URL:https://www.atlantaparent.com/event/bunnypalooza/
LOCATION:North Georgia Wildlife Park\, 2912 Paradise Valley Road\, Cleveland
GEO:34.6223675;-83.8656005
X-APPLE-STRUCTURED-LOCATION;VALUE=URI;X-ADDRESS=North Georgia Wildlife Park 2912 Paradise Valley Road Cleveland;X-APPLE-RADIUS=500;X-TITLE=2912 Paradise Valley Road:geo:-83.8656005,34.6223675
END:VEVENT
BEGIN:VEVENT
DTSTART;TZID=America/New_York:20260404T130000
DTEND;TZID=America/New_York:20260404T160000
DTSTAMP:20260419T221202
CREATED:20260204T153727Z
LAST-MODIFIED:20260220T174737Z
UID:10009273-1775307600-1775318400@www.atlantaparent.com
SUMMARY:Best Easter Party Ever!
DESCRIPTION:This springtime celebration features an Easter egg hunt\, games\, seasonal treats\, animals and more. Reservation required. $30; ages 2-12\, $15; ages 1 and younger\, free.
URL:https://www.atlantaparent.com/event/satolah-creek-farms-easter-eggstravaganza/
LOCATION:Satolah Creek Farms\, 2220 Hwy. 28\, Clayton\, 30525
END:VEVENT
BEGIN:VEVENT
DTSTART;TZID=America/New_York:20260404T130000
DTEND;TZID=America/New_York:20260404T150000
DTSTAMP:20260419T221202
CREATED:20260213T050028Z
LAST-MODIFIED:20260220T174914Z
UID:10010427-1775307600-1775314800@www.atlantaparent.com
SUMMARY:Spring Wagon Rides with the Easter Bunny
DESCRIPTION:Go on a guided wagon ride around the campground with the Easter Bunny. Reservation required. March 28-29 and April 4\, 1-3 p.m. $5; ages 2 and younger\, free; parking\, $10.
URL:https://www.atlantaparent.com/event/hard-labor-creek-state-park-easter-egg-hunt/2026-04-04/
LOCATION:Hard Labor Creek State Park\, 5 Hard Labor Creek Rd.\,\, Rutledge
GEO:33.6638553;-83.6061542
X-APPLE-STRUCTURED-LOCATION;VALUE=URI;X-ADDRESS=Hard Labor Creek State Park 5 Hard Labor Creek Rd. Rutledge;X-APPLE-RADIUS=500;X-TITLE=5 Hard Labor Creek Rd.\,:geo:-83.6061542,33.6638553
END:VEVENT
BEGIN:VEVENT
DTSTART;TZID=America/New_York:20260404T130000
DTEND;TZID=America/New_York:20260404T150000
DTSTAMP:20260419T221202
CREATED:20260210T162112Z
LAST-MODIFIED:20260219T140200Z
UID:10006324-1775307600-1775314800@www.atlantaparent.com
SUMMARY:Annual Easter Egg Hunt
DESCRIPTION:Visit with the Easter Bunny\, play games and hunt for eggs. Free admission.
URL:https://www.atlantaparent.com/event/annual-easter-egg-hunt-2/
LOCATION:Midland Greenway\, 682 Grove St.\, Gainesville
GEO:34.2928607;-83.8253379
X-APPLE-STRUCTURED-LOCATION;VALUE=URI;X-ADDRESS=Midland Greenway 682 Grove St. Gainesville;X-APPLE-RADIUS=500;X-TITLE=682 Grove St.:geo:-83.8253379,34.2928607
END:VEVENT
END:VCALENDAR