BEGIN:VCALENDAR
VERSION:2.0
PRODID:-//NEW Atlanta Parent - ECPv6.15.11//NONSGML v1.0//EN
CALSCALE:GREGORIAN
METHOD:PUBLISH
X-WR-CALNAME:NEW Atlanta Parent
X-ORIGINAL-URL:https://www.atlantaparent.com
X-WR-CALDESC:Events for NEW Atlanta Parent
REFRESH-INTERVAL;VALUE=DURATION:PT1H
X-Robots-Tag:noindex
X-PUBLISHED-TTL:PT1H
BEGIN:VTIMEZONE
TZID:America/New_York
BEGIN:DAYLIGHT
TZOFFSETFROM:-0500
TZOFFSETTO:-0400
TZNAME:EDT
DTSTART:20250309T070000
END:DAYLIGHT
BEGIN:STANDARD
TZOFFSETFROM:-0400
TZOFFSETTO:-0500
TZNAME:EST
DTSTART:20251102T060000
END:STANDARD
BEGIN:DAYLIGHT
TZOFFSETFROM:-0500
TZOFFSETTO:-0400
TZNAME:EDT
DTSTART:20260308T070000
END:DAYLIGHT
BEGIN:STANDARD
TZOFFSETFROM:-0400
TZOFFSETTO:-0500
TZNAME:EST
DTSTART:20261101T060000
END:STANDARD
BEGIN:DAYLIGHT
TZOFFSETFROM:-0500
TZOFFSETTO:-0400
TZNAME:EDT
DTSTART:20270314T070000
END:DAYLIGHT
BEGIN:STANDARD
TZOFFSETFROM:-0400
TZOFFSETTO:-0500
TZNAME:EST
DTSTART:20271107T060000
END:STANDARD
END:VTIMEZONE
BEGIN:VTIMEZONE
TZID:UTC
BEGIN:STANDARD
TZOFFSETFROM:+0000
TZOFFSETTO:+0000
TZNAME:UTC
DTSTART:20250101T000000
END:STANDARD
END:VTIMEZONE
BEGIN:VEVENT
DTSTART;TZID=America/New_York:20260405T120000
DTEND;TZID=America/New_York:20260405T160000
DTSTAMP:20260420T004609
CREATED:20251002T040017Z
LAST-MODIFIED:20260123T142747Z
UID:10010336-1775390400-1775404800@www.atlantaparent.com
SUMMARY:Sunday FUNday
DESCRIPTION:Enjoy a hands-on arts craft\, exploring exhibits and learning. Free admission.
URL:https://www.atlantaparent.com/event/sunday-funday/2026-04-05/
LOCATION:Michael C. Carlos Museum\, 571 South Kilgo Cir. NE\, Atlanta
END:VEVENT
BEGIN:VEVENT
DTSTART;TZID=America/New_York:20260405T110000
DTEND;TZID=America/New_York:20260405T160000
DTSTAMP:20260420T004609
CREATED:20260225T170018Z
LAST-MODIFIED:20260226T140512Z
UID:10005699-1775386800-1775404800@www.atlantaparent.com
SUMMARY:Easter Brunch
DESCRIPTION:Head to Park Tavern for a brunch buffet with stunning views\, and kids ages 12 and younger will enjoy a visit with the Easter Bunny and exciting egg hunts. Reservation required. $59.95; ages 7-12\, $37.95; ages 4-6\, $25; ages 3 and younger\, free.
URL:https://www.atlantaparent.com/event/easter-brunch/
LOCATION:Park Tavern\, 500 10th St. NE\, Atlanta
GEO:33.7821919;-84.3691666
X-APPLE-STRUCTURED-LOCATION;VALUE=URI;X-ADDRESS=Park Tavern 500 10th St. NE Atlanta;X-APPLE-RADIUS=500;X-TITLE=500 10th St. NE:geo:-84.3691666,33.7821919
END:VEVENT
BEGIN:VEVENT
DTSTART;TZID=America/New_York:20260405T110000
DTEND;TZID=America/New_York:20260405T160000
DTSTAMP:20260420T004609
CREATED:20250921T142027Z
LAST-MODIFIED:20260123T142356Z
UID:10010332-1775386800-1775404800@www.atlantaparent.com
SUMMARY:Free Sunday
DESCRIPTION:View exhibits for free\, and create an art piece you can take home. Free admission.
URL:https://www.atlantaparent.com/event/free-sunday-2/2026-04-05/
LOCATION:Marietta Cobb Museum of Art\, 30 Atlanta St. SE\, Marietta
END:VEVENT
BEGIN:VEVENT
DTSTART;TZID=America/New_York:20260405T070000
DTEND;TZID=America/New_York:20260405T070000
DTSTAMP:20260420T004609
CREATED:20260213T050054Z
LAST-MODIFIED:20260220T173725Z
UID:10003415-1775372400-1775372400@www.atlantaparent.com
SUMMARY:Easter Sunrise Service
DESCRIPTION:Experience serenity and peace at two interdenominational Easter services. Park gates open at 3 a.m. Parking\, $20.
URL:https://www.atlantaparent.com/event/easter-sunrise-service/
LOCATION:Stone Mountain Park\, 1000 Robert E Lee Boulevard\, Stone Mountain
GEO:33.8056107;-84.1491795
X-APPLE-STRUCTURED-LOCATION;VALUE=URI;X-ADDRESS=Stone Mountain Park 1000 Robert E Lee Boulevard Stone Mountain;X-APPLE-RADIUS=500;X-TITLE=1000 Robert E Lee Boulevard:geo:-84.1491795,33.8056107
END:VEVENT
BEGIN:VEVENT
DTSTART;TZID=America/New_York:20260404T151500
DTEND;TZID=America/New_York:20260404T151500
DTSTAMP:20260420T004609
CREATED:20240401T143616Z
LAST-MODIFIED:20240412T144746Z
UID:10008123-1775315700-1775315700@www.atlantaparent.com
SUMMARY:Wild Encounter: Petting Zoo Painters
DESCRIPTION:See how the talented “VanGoat” and “Baaahlo” create unforgettable paintings. Reservation required. Saturdays\, 3:15 p.m. $75 per group of up to four people; Zoo admission not included.
URL:https://www.atlantaparent.com/event/wild-encounter-goat-painting-experience-3/2026-04-04/
LOCATION:Zoo Atlanta\,  800 Cherokee Avenue SE\, Atlanta
ATTACH;FMTTYPE=image/jpeg:https://www.atlantaparent.com/wp-content/uploads/2023/06/GoatPaintingEncounter2-scaled-e1687439045923.jpg
GEO:33.7321624;-84.3713351
X-APPLE-STRUCTURED-LOCATION;VALUE=URI;X-ADDRESS=Zoo Atlanta  800 Cherokee Avenue SE Atlanta;X-APPLE-RADIUS=500;X-TITLE=800 Cherokee Avenue SE:geo:-84.3713351,33.7321624
END:VEVENT
BEGIN:VEVENT
DTSTART;TZID=America/New_York:20260404T150000
DTEND;TZID=America/New_York:20260404T150000
DTSTAMP:20260420T004609
CREATED:20260224T172803Z
LAST-MODIFIED:20260224T172803Z
UID:10010445-1775314800-1775314800@www.atlantaparent.com
SUMMARY:The Primrose Friends Live
DESCRIPTION:Enjoy beautiful songs\, silly jokes and stories inspired by character-building traits for ages 2-5\, and visit the lobby at 2 p.m. to help design part of the show’s set. March 14\, 21 and 28 and April 4\, 11 and 18\, 3 p.m. $17.
URL:https://www.atlantaparent.com/event/the-primrose-friends-live/2026-04-04/
LOCATION:Dad’s Garage\, 569 Ezzard St. SE\, Atlanta\, GA\, 30312
GEO:33.7530278;-84.3686184
X-APPLE-STRUCTURED-LOCATION;VALUE=URI;X-ADDRESS=Dad’s Garage 569 Ezzard St. SE Atlanta GA 30312;X-APPLE-RADIUS=500;X-TITLE=569 Ezzard St. SE:geo:-84.3686184,33.7530278
END:VEVENT
BEGIN:VEVENT
DTSTART;TZID=America/New_York:20260404T130000
DTEND;TZID=America/New_York:20260405T150000
DTSTAMP:20260420T004609
CREATED:20260219T170844Z
LAST-MODIFIED:20260220T175022Z
UID:10007914-1775307600-1775401200@www.atlantaparent.com
SUMMARY:Bunnypalooza!
DESCRIPTION:This springtime event features Easter-themed tiny critters\, including bunnies and chicks\, for cute photos. $12; park admission\, extra.
URL:https://www.atlantaparent.com/event/bunnypalooza/
LOCATION:North Georgia Wildlife Park\, 2912 Paradise Valley Road\, Cleveland
GEO:34.6223675;-83.8656005
X-APPLE-STRUCTURED-LOCATION;VALUE=URI;X-ADDRESS=North Georgia Wildlife Park 2912 Paradise Valley Road Cleveland;X-APPLE-RADIUS=500;X-TITLE=2912 Paradise Valley Road:geo:-83.8656005,34.6223675
END:VEVENT
BEGIN:VEVENT
DTSTART;TZID=America/New_York:20260404T130000
DTEND;TZID=America/New_York:20260404T160000
DTSTAMP:20260420T004609
CREATED:20260204T153727Z
LAST-MODIFIED:20260220T174737Z
UID:10009273-1775307600-1775318400@www.atlantaparent.com
SUMMARY:Best Easter Party Ever!
DESCRIPTION:This springtime celebration features an Easter egg hunt\, games\, seasonal treats\, animals and more. Reservation required. $30; ages 2-12\, $15; ages 1 and younger\, free.
URL:https://www.atlantaparent.com/event/satolah-creek-farms-easter-eggstravaganza/
LOCATION:Satolah Creek Farms\, 2220 Hwy. 28\, Clayton\, 30525
END:VEVENT
BEGIN:VEVENT
DTSTART;TZID=America/New_York:20260404T130000
DTEND;TZID=America/New_York:20260404T150000
DTSTAMP:20260420T004609
CREATED:20260213T050028Z
LAST-MODIFIED:20260220T174914Z
UID:10010427-1775307600-1775314800@www.atlantaparent.com
SUMMARY:Spring Wagon Rides with the Easter Bunny
DESCRIPTION:Go on a guided wagon ride around the campground with the Easter Bunny. Reservation required. March 28-29 and April 4\, 1-3 p.m. $5; ages 2 and younger\, free; parking\, $10.
URL:https://www.atlantaparent.com/event/hard-labor-creek-state-park-easter-egg-hunt/2026-04-04/
LOCATION:Hard Labor Creek State Park\, 5 Hard Labor Creek Rd.\,\, Rutledge
GEO:33.6638553;-83.6061542
X-APPLE-STRUCTURED-LOCATION;VALUE=URI;X-ADDRESS=Hard Labor Creek State Park 5 Hard Labor Creek Rd. Rutledge;X-APPLE-RADIUS=500;X-TITLE=5 Hard Labor Creek Rd.\,:geo:-83.6061542,33.6638553
END:VEVENT
BEGIN:VEVENT
DTSTART;TZID=America/New_York:20260404T130000
DTEND;TZID=America/New_York:20260404T150000
DTSTAMP:20260420T004609
CREATED:20260210T162112Z
LAST-MODIFIED:20260219T140200Z
UID:10006324-1775307600-1775314800@www.atlantaparent.com
SUMMARY:Annual Easter Egg Hunt
DESCRIPTION:Visit with the Easter Bunny\, play games and hunt for eggs. Free admission.
URL:https://www.atlantaparent.com/event/annual-easter-egg-hunt-2/
LOCATION:Midland Greenway\, 682 Grove St.\, Gainesville
GEO:34.2928607;-83.8253379
X-APPLE-STRUCTURED-LOCATION;VALUE=URI;X-ADDRESS=Midland Greenway 682 Grove St. Gainesville;X-APPLE-RADIUS=500;X-TITLE=682 Grove St.:geo:-83.8253379,34.2928607
END:VEVENT
BEGIN:VEVENT
DTSTART;TZID=America/New_York:20260404T110000
DTEND;TZID=America/New_York:20260404T160000
DTSTAMP:20260420T004609
CREATED:20260102T050027Z
LAST-MODIFIED:20260406T123842Z
UID:10003444-1775300400-1775318400@www.atlantaparent.com
SUMMARY:Atlanta Parent Magazine’s Camp Expo
DESCRIPTION:Head to Atlanta Parent’s Camp Expo to make plans for your kids this summer. More than 40 different day and overnight camps will be at this year’s show. Bring the kids to browse the camp booths\, collect giveaways and materials\, talk to camp representatives and more.
URL:https://www.atlantaparent.com/event/atlanta-parents-camp-expo/
LOCATION: City Springs\, 1 Galambos Way\, Sandy Springs
ATTACH;FMTTYPE=image/jpeg:https://www.atlantaparent.com/wp-content/uploads/2018/02/IMG_6538-north-point-ce-b-1024x742.jpg
GEO:33.9249799;-84.3805709
X-APPLE-STRUCTURED-LOCATION;VALUE=URI;X-ADDRESS= City Springs 1 Galambos Way Sandy Springs;X-APPLE-RADIUS=500;X-TITLE=1 Galambos Way:geo:-84.3805709,33.9249799
END:VEVENT
BEGIN:VEVENT
DTSTART;TZID=America/New_York:20260404T110000
DTEND;TZID=America/New_York:20260404T150000
DTSTAMP:20260420T004609
CREATED:20260216T140717Z
LAST-MODIFIED:20260220T171943Z
UID:10005677-1775300400-1775314800@www.atlantaparent.com
SUMMARY:Hoppin' into Halcyon
DESCRIPTION:This fun-filled day will include petting and grooming animals\, photos with the Easter Bunny\, face painting and more. Reservation required. April 19\, 11 a.m. and 1 p.m. $20\, proceeds donated to Jesse’s House; adults do not need to purchase a ticket.
URL:https://www.atlantaparent.com/event/hoppin-into-halcyon/
LOCATION:Halcyon\, 6365 Halcyon Way\, Alpharetta\, GA\, 30005
GEO:34.1106637;-84.2242307
X-APPLE-STRUCTURED-LOCATION;VALUE=URI;X-ADDRESS=Halcyon 6365 Halcyon Way Alpharetta GA 30005;X-APPLE-RADIUS=500;X-TITLE=6365 Halcyon Way:geo:-84.2242307,34.1106637
END:VEVENT
BEGIN:VEVENT
DTSTART;TZID=America/New_York:20260404T110000
DTEND;TZID=America/New_York:20260404T140000
DTSTAMP:20260420T004609
CREATED:20260210T184718Z
LAST-MODIFIED:20260219T140032Z
UID:10007885-1775300400-1775311200@www.atlantaparent.com
SUMMARY:Easter Eggstravaganza
DESCRIPTION:Children ages 12 and younger can receive gift bags of eggs\, toys and candy from the Easter Bunny. Free admission.
URL:https://www.atlantaparent.com/event/easter-eggstravaganza-5/
LOCATION:Riverdale Town Center\, 7210 Church St.\, Riverdale\, GA\, 30274
GEO:33.5585842;-84.4176682
X-APPLE-STRUCTURED-LOCATION;VALUE=URI;X-ADDRESS=Riverdale Town Center 7210 Church St. Riverdale GA 30274;X-APPLE-RADIUS=500;X-TITLE=7210 Church St.:geo:-84.4176682,33.5585842
END:VEVENT
BEGIN:VEVENT
DTSTART;TZID=America/New_York:20260404T100000
DTEND;TZID=America/New_York:20260404T160000
DTSTAMP:20260420T004609
CREATED:20260210T212812Z
LAST-MODIFIED:20260219T135937Z
UID:10003462-1775296800-1775318400@www.atlantaparent.com
SUMMARY:Northeast Cobb Community Egg Drop
DESCRIPTION:Food\, games\, activities and egg hunts as a helicopter drops thousands of eggs onto the field. Free admission.
URL:https://www.atlantaparent.com/event/north-east-cobb-community-egg-drop/
LOCATION:Sprayberry High School\, 2525 Sandy Plains Rd.\, Marietta\, GA\, United States
ATTACH;FMTTYPE=image/jpeg:https://www.atlantaparent.com/wp-content/uploads/2019/02/1-Helicopter-Drop-Northeast-Cobb-scaled-e1581602293495.jpg
GEO:34.0117653;-84.4972556
X-APPLE-STRUCTURED-LOCATION;VALUE=URI;X-ADDRESS=Sprayberry High School 2525 Sandy Plains Rd. Marietta GA United States;X-APPLE-RADIUS=500;X-TITLE=2525 Sandy Plains Rd.:geo:-84.4972556,34.0117653
END:VEVENT
BEGIN:VEVENT
DTSTART;TZID=America/New_York:20260404T100000
DTEND;TZID=America/New_York:20260404T140000
DTSTAMP:20260420T004609
CREATED:20260323T130150Z
LAST-MODIFIED:20260323T130150Z
UID:10010492-1775296800-1775311200@www.atlantaparent.com
SUMMARY:Sandy Springs Community Egg Hunt
DESCRIPTION:Celebrate Easter with eggs\, inflatables\, face painting\, food trucks and more in partnership with the Sandy Springs Police Department and Elevate City Church. Registration required.
URL:https://www.atlantaparent.com/event/sandy-springs-community-egg-hunt/
LOCATION:Morgan Falls Athletic Fields\, 450 Morgan Falls Pl. NE\, Atlanta
END:VEVENT
BEGIN:VEVENT
DTSTART;TZID=America/New_York:20260404T100000
DTEND;TZID=America/New_York:20260404T113000
DTSTAMP:20260420T004609
CREATED:20260219T154127Z
LAST-MODIFIED:20260220T171644Z
UID:10006838-1775296800-1775302200@www.atlantaparent.com
SUMMARY:Children’s Easter Egg Hunt
DESCRIPTION:Bring an Easter basket for a morning of fun\, faith and fellowship for ages 3-5th grade.
URL:https://www.atlantaparent.com/event/annual-easter-egg-hunt-3/
LOCATION:Shallowford Presbyterian Church\, 2375 Shallowford Rd. NE\, Atlanta\, GA
GEO:33.8576843;-84.2812881
X-APPLE-STRUCTURED-LOCATION;VALUE=URI;X-ADDRESS=Shallowford Presbyterian Church 2375 Shallowford Rd. NE Atlanta GA;X-APPLE-RADIUS=500;X-TITLE=2375 Shallowford Rd. NE:geo:-84.2812881,33.8576843
END:VEVENT
BEGIN:VEVENT
DTSTART;TZID=America/New_York:20260404T093000
DTEND;TZID=America/New_York:20260404T163000
DTSTAMP:20260420T004609
CREATED:20260316T133812Z
LAST-MODIFIED:20260316T133812Z
UID:10010472-1775295000-1775320200@www.atlantaparent.com
SUMMARY:404 Day
DESCRIPTION:This kid-friendly event will celebrate all things ATL. $19.95-$21.95; ages 11 months and younger\, free.
URL:https://www.atlantaparent.com/event/404-day/
LOCATION:Children’s Museum of Atlanta\, 275 Centennial Olympic Park Dr. NW\, Atlanta\, GA
END:VEVENT
BEGIN:VEVENT
DTSTART;TZID=America/New_York:20260404T093000
DTEND;TZID=America/New_York:20260404T103000
DTSTAMP:20260420T004609
CREATED:20260103T133902Z
LAST-MODIFIED:20260406T154925Z
UID:10010454-1775295000-1775298600@www.atlantaparent.com
SUMMARY:Adventure Cubs at Zoo Atlanta
DESCRIPTION:Each month\, a new adventure awaits with new animals to observe. Adventure Cubs will explore a new region of the world to investigate the animals and environments there! The purpose of each program is to expose young children to the diversity of animals around the world and to draw connections to the ways we are similar and different. For each adventure they go on\, Adventure Cubs will engage in an activity\, read a story\, and create a take-away memory. April 16\, May 2 and 21\, June 6 and 18\, July 11 and 16\, and Aug. 1 and 20\, 9:30-10:30 a.m. $21 for a parent/guardian and child; Non-Member\, $26 for a parent/guardian and child; each additional child\, $5 each.
URL:https://www.atlantaparent.com/event/adventure-cubs-2-2018-04-25-2-4/2026-04-04/
LOCATION:Zoo Atlanta\,  800 Cherokee Avenue SE\, Atlanta
ATTACH;FMTTYPE=image/jpeg:https://www.atlantaparent.com/wp-content/uploads/2026/01/guest_family_reticulatedpython_ZA_3807-scaled-e1772050106629.jpg
GEO:33.7321624;-84.3713351
X-APPLE-STRUCTURED-LOCATION;VALUE=URI;X-ADDRESS=Zoo Atlanta  800 Cherokee Avenue SE Atlanta;X-APPLE-RADIUS=500;X-TITLE=800 Cherokee Avenue SE:geo:-84.3713351,33.7321624
END:VEVENT
BEGIN:VEVENT
DTSTART;TZID=America/New_York:20260404T090000
DTEND;TZID=America/New_York:20260405T160000
DTSTAMP:20260420T004609
CREATED:20260219T142155Z
LAST-MODIFIED:20260219T142155Z
UID:10010393-1775293200-1775404800@www.atlantaparent.com
SUMMARY:Egg-citing Scavenger Hunt
DESCRIPTION:Use clues to find hidden eggs and fun nature facts. Crack the secret code phrase and come back to the front desk to win a prize. Free admission; parking\, $10.
URL:https://www.atlantaparent.com/event/egg-citing-scavenger-hunt/
LOCATION:Panola Mountain State Park\, 2620 Highway 155\, Stockbridge\, GA\, United States
GEO:33.6240889;-84.1747918
X-APPLE-STRUCTURED-LOCATION;VALUE=URI;X-ADDRESS=Panola Mountain State Park 2620 Highway 155 Stockbridge GA United States;X-APPLE-RADIUS=500;X-TITLE=2620 Highway 155:geo:-84.1747918,33.6240889
END:VEVENT
BEGIN:VEVENT
DTSTART;TZID=America/New_York:20260404T090000
DTEND;TZID=America/New_York:20260404T170000
DTSTAMP:20260420T004609
CREATED:20260227T183102Z
LAST-MODIFIED:20260306T164447Z
UID:10010461-1775293200-1775322000@www.atlantaparent.com
SUMMARY:Super Spring Saturdays
DESCRIPTION:Enjoy tons of farm fun\, including a cow train\, zip lines\, the petting zoo\, paintball and more. April 4-May 23. Sat. 9 a.m.-5 p.m. $14.95; ages 1 and younger\, free; strawberries\, extra.
URL:https://www.atlantaparent.com/event/super-spring-saturdays/2026-04-04/
LOCATION:Washington Farms\, 5691 Hog Mountain Rd.\, Bogart
ATTACH;FMTTYPE=image/jpeg:https://www.atlantaparent.com/wp-content/uploads/2022/03/Picking-38-scaled-e1675352074311.jpg
GEO:33.8790019;-83.5510718
X-APPLE-STRUCTURED-LOCATION;VALUE=URI;X-ADDRESS=Washington Farms 5691 Hog Mountain Rd. Bogart;X-APPLE-RADIUS=500;X-TITLE=5691 Hog Mountain Rd.:geo:-83.5510718,33.8790019
END:VEVENT
BEGIN:VEVENT
DTSTART;TZID=America/New_York:20260404T090000
DTEND;TZID=America/New_York:20260404T120000
DTSTAMP:20260420T004609
CREATED:20260310T134229Z
LAST-MODIFIED:20260317T134427Z
UID:10010484-1775293200-1775304000@www.atlantaparent.com
SUMMARY:Bunny Hop
DESCRIPTION:Enjoy egg hunts for two different age groups and pictures with the Easter Bunny. $5.
URL:https://www.atlantaparent.com/event/bunny-hop/
LOCATION:The Forum Peachtree Corners\, 5155 Peachtree Pkwy.\, Peachtree Corners
GEO:33.9811887;-84.2179168
X-APPLE-STRUCTURED-LOCATION;VALUE=URI;X-ADDRESS=The Forum Peachtree Corners 5155 Peachtree Pkwy. Peachtree Corners;X-APPLE-RADIUS=500;X-TITLE=5155 Peachtree Pkwy.:geo:-84.2179168,33.9811887
END:VEVENT
BEGIN:VEVENT
DTSTART;TZID=UTC:20260404T090000
DTEND;TZID=UTC:20260404T090000
DTSTAMP:20260420T004609
CREATED:20241222T220740Z
LAST-MODIFIED:20250108T193218Z
UID:10007797-1775293200-1775293200@www.atlantaparent.com
SUMMARY:Home Depot Kids Workshop
DESCRIPTION:Visit Home Depot at 9 a.m. on the first Saturday of every month for a free project. Registration encouraged.
URL:https://www.atlantaparent.com/event/home-depot-kids-workshop/2026-04-04/
LOCATION:Home Depot – All Locations
END:VEVENT
BEGIN:VEVENT
DTSTART;TZID=America/New_York:20260404T083000
DTEND;TZID=America/New_York:20260404T100000
DTSTAMP:20260420T004609
CREATED:20260301T050014Z
LAST-MODIFIED:20260302T181630Z
UID:10004054-1775291400-1775296800@www.atlantaparent.com
SUMMARY:Hop-A-Long Easter Egg Hunt
DESCRIPTION:Avalon \nChildren will collect five eggs and bring them to the trade-in tent to receive a bag of treats. The 8:30 a.m. hunt is for ages 4 and younger\, and the 9:30 a.m. hunt is for ages 5-8.
URL:https://www.atlantaparent.com/event/hop-a-long-easter-egg-hunt/
LOCATION:Avalon\, 400 Avalon Blvd.\, Alpharetta
ATTACH;FMTTYPE=image/jpeg:https://www.atlantaparent.com/wp-content/uploads/2022/03/AvalonEaster_EEE1077-scaled-e1648655158531.jpg
END:VEVENT
BEGIN:VEVENT
DTSTART;VALUE=DATE:20260404
DTEND;VALUE=DATE:20260406
DTSTAMP:20260420T004609
CREATED:20260219T192836Z
LAST-MODIFIED:20260220T172612Z
UID:10009241-1775260800-1775433599@www.atlantaparent.com
SUMMARY:Easter Afternoon Tea
DESCRIPTION:Celebrate with pastries\, savory bites and loose-leaf teas for an afternoon of cherished memories. Reservation required. April 4-5\, 12:30-3:30 p.m. $95; ages 3-10\, $75; ages 2 and younger\, free.
URL:https://www.atlantaparent.com/event/easter-afternoon-tea/
LOCATION:St. Regis Atlanta\, 88 West Paces Ferry Road\, Atlanta
GEO:33.8398059;-84.3826416
X-APPLE-STRUCTURED-LOCATION;VALUE=URI;X-ADDRESS=St. Regis Atlanta 88 West Paces Ferry Road Atlanta;X-APPLE-RADIUS=500;X-TITLE=88 West Paces Ferry Road:geo:-84.3826416,33.8398059
END:VEVENT
BEGIN:VEVENT
DTSTART;VALUE=DATE:20260404
DTEND;VALUE=DATE:20260406
DTSTAMP:20260420T004609
CREATED:20260216T183405Z
LAST-MODIFIED:20260220T173426Z
UID:10010425-1775260800-1775433599@www.atlantaparent.com
SUMMARY:Easter Bunny + Spring Family Photos
DESCRIPTION:Take memorable spring photos with the Easter Bunny. Reservation recommended. March 21-22\, 10 a.m.-4 p.m.; March 28-29\, 10 a.m.-6 p.m.; April 3\, noon-6 p.m. and April 4\, 9 a.m.-6 p.m. $20.
URL:https://www.atlantaparent.com/event/cotton-tail-corner-easter-bunny-photos/2026-04-04/
LOCATION:Ashley Park\, 354 Newnan Crossing Bypass\, Newnan
END:VEVENT
BEGIN:VEVENT
DTSTART;VALUE=DATE:20260404
DTEND;VALUE=DATE:20260406
DTSTAMP:20260420T004609
CREATED:20250606T173227Z
LAST-MODIFIED:20260406T123839Z
UID:10002414-1775260800-1775433599@www.atlantaparent.com
SUMMARY:Sandy Springs Artsapalooza Arts Festival
DESCRIPTION:Sher Pruitt \nThis two-day festival includes a children’s play area\, local musicians\, interactive art stations and arts and crafts vendors. April 4\, 10 a.m.-5 p.m. and April 5\, 11 a.m.-5 p.m. Free admission.
URL:https://www.atlantaparent.com/event/sandy-springs-artsapalooza-arts-festival/
LOCATION:Sandy Springs\, 6100 Lake Forrest Drive\, Sandy Springs
ATTACH;FMTTYPE=image/jpeg:https://www.atlantaparent.com/wp-content/uploads/2025/06/IMG_1152-scaled.jpeg
GEO:33.920372;-84.3879134
X-APPLE-STRUCTURED-LOCATION;VALUE=URI;X-ADDRESS=Sandy Springs 6100 Lake Forrest Drive Sandy Springs;X-APPLE-RADIUS=500;X-TITLE=6100 Lake Forrest Drive:geo:-84.3879134,33.920372
END:VEVENT
BEGIN:VEVENT
DTSTART;VALUE=DATE:20260404
DTEND;VALUE=DATE:20260405
DTSTAMP:20260420T004609
CREATED:20260210T050026Z
LAST-MODIFIED:20260219T135821Z
UID:10004062-1775260800-1775347199@www.atlantaparent.com
SUMMARY:Easter Egg Hunt at Rossie Brundage Park
DESCRIPTION:Visit with the Easter Bunny and hunt for eggs starting at 10 a.m. At 1 p.m.\, join in an egg hunt designed for children with special needs in an inclusive and safe environment.
URL:https://www.atlantaparent.com/event/easter-egg-hunt-at-rossie-brundage-park/
LOCATION:Rossie Brundage Park\, 350 Autry St. NW\, Norcross
ATTACH;FMTTYPE=image/jpeg:https://www.atlantaparent.com/wp-content/uploads/2020/02/norcross-18-scaled-e1581603088663.jpg
END:VEVENT
BEGIN:VEVENT
DTSTART;TZID=America/New_York:20260403T190000
DTEND;TZID=America/New_York:20260403T190000
DTSTAMP:20260420T004609
CREATED:20260312T170917Z
LAST-MODIFIED:20260317T165551Z
UID:10007924-1775242800-1775242800@www.atlantaparent.com
SUMMARY:Shrek The Musical Jr.
DESCRIPTION:The Roswell Players presents this magical performance following Shrek’s adventures. $17-$23.50. \n 
URL:https://www.atlantaparent.com/event/shrek/
LOCATION:Roswell Cultural Arts Center\, 950 Forrest St.\, Roswell
GEO:34.0234904;-84.3578365
X-APPLE-STRUCTURED-LOCATION;VALUE=URI;X-ADDRESS=Roswell Cultural Arts Center 950 Forrest St. Roswell;X-APPLE-RADIUS=500;X-TITLE=950 Forrest St.:geo:-84.3578365,34.0234904
END:VEVENT
BEGIN:VEVENT
DTSTART;TZID=America/New_York:20260403T183000
DTEND;TZID=America/New_York:20260403T203000
DTSTAMP:20260420T004609
CREATED:20260210T164403Z
LAST-MODIFIED:20260219T135706Z
UID:10006269-1775241000-1775248200@www.atlantaparent.com
SUMMARY:Eggstravaganza Community Egg Hunt
DESCRIPTION:Eggs will rain down from a fire truck for hunts by age group\, meet the Easter Bunny\, play on inflatables and more. Free admission.
URL:https://www.atlantaparent.com/event/extravaganza-community-egg-hunt/
LOCATION:Tom E. Morris Sports Complex\, 3415 Claire Dr.\, Hapeville
GEO:33.6611816;-84.4047705
X-APPLE-STRUCTURED-LOCATION;VALUE=URI;X-ADDRESS=Tom E. Morris Sports Complex 3415 Claire Dr. Hapeville;X-APPLE-RADIUS=500;X-TITLE=3415 Claire Dr.:geo:-84.4047705,33.6611816
END:VEVENT
BEGIN:VEVENT
DTSTART;TZID=America/New_York:20260403T180000
DTEND;TZID=America/New_York:20260403T193000
DTSTAMP:20260420T004609
CREATED:20260219T143219Z
LAST-MODIFIED:20260220T174304Z
UID:10006777-1775239200-1775244600@www.atlantaparent.com
SUMMARY:Sunset Easter Egg Hunt
DESCRIPTION:Celebrate Easter with fun activities and an egg hunt at sunset. Parking\, $10.
URL:https://www.atlantaparent.com/event/sunset-easter-egg-hunt/
LOCATION:Tallulah Gorge State Park\, 338 Jane Hurt Yarn Rd.\, Tallulah Falls
GEO:34.7335338;-83.3715276
X-APPLE-STRUCTURED-LOCATION;VALUE=URI;X-ADDRESS=Tallulah Gorge State Park 338 Jane Hurt Yarn Rd. Tallulah Falls;X-APPLE-RADIUS=500;X-TITLE=338 Jane Hurt Yarn Rd.:geo:-83.3715276,34.7335338
END:VEVENT
END:VCALENDAR