BEGIN:VCALENDAR
VERSION:2.0
PRODID:-//NEW Atlanta Parent - ECPv6.15.11//NONSGML v1.0//EN
CALSCALE:GREGORIAN
METHOD:PUBLISH
X-ORIGINAL-URL:https://www.atlantaparent.com
X-WR-CALDESC:Events for NEW Atlanta Parent
REFRESH-INTERVAL;VALUE=DURATION:PT1H
X-Robots-Tag:noindex
X-PUBLISHED-TTL:PT1H
BEGIN:VTIMEZONE
TZID:America/New_York
BEGIN:DAYLIGHT
TZOFFSETFROM:-0500
TZOFFSETTO:-0400
TZNAME:EDT
DTSTART:20250309T070000
END:DAYLIGHT
BEGIN:STANDARD
TZOFFSETFROM:-0400
TZOFFSETTO:-0500
TZNAME:EST
DTSTART:20251102T060000
END:STANDARD
BEGIN:DAYLIGHT
TZOFFSETFROM:-0500
TZOFFSETTO:-0400
TZNAME:EDT
DTSTART:20260308T070000
END:DAYLIGHT
BEGIN:STANDARD
TZOFFSETFROM:-0400
TZOFFSETTO:-0500
TZNAME:EST
DTSTART:20261101T060000
END:STANDARD
BEGIN:DAYLIGHT
TZOFFSETFROM:-0500
TZOFFSETTO:-0400
TZNAME:EDT
DTSTART:20270314T070000
END:DAYLIGHT
BEGIN:STANDARD
TZOFFSETFROM:-0400
TZOFFSETTO:-0500
TZNAME:EST
DTSTART:20271107T060000
END:STANDARD
END:VTIMEZONE
BEGIN:VTIMEZONE
TZID:UTC
BEGIN:STANDARD
TZOFFSETFROM:+0000
TZOFFSETTO:+0000
TZNAME:UTC
DTSTART:20250101T000000
END:STANDARD
END:VTIMEZONE
BEGIN:VEVENT
DTSTART;VALUE=DATE:20260317
DTEND;VALUE=DATE:20260405
DTSTAMP:20260419T090126
CREATED:20260217T144228Z
LAST-MODIFIED:20260217T144228Z
UID:10010385-1773705600-1775347199@www.atlantaparent.com
SUMMARY:The Tales of Edgar Allan Poe
DESCRIPTION:Featuring Edgar Allan Poe’s works\, “The Raven\,” “The Cask of Amontillado” and more\, dive into Poe’s literary universe. For ages 13 and older. March 17-April 4. See website for showtimes. $25-$32.
URL:https://www.atlantaparent.com/event/the-tales-of-edgar-allan-poe/
LOCATION:Center for Puppetry Arts\, 1404 Spring Street NW\, Atlanta
GEO:33.7928692;-84.3895974
X-APPLE-STRUCTURED-LOCATION;VALUE=URI;X-ADDRESS=Center for Puppetry Arts 1404 Spring Street NW Atlanta;X-APPLE-RADIUS=500;X-TITLE=1404 Spring Street NW:geo:-84.3895974,33.7928692
END:VEVENT
BEGIN:VEVENT
DTSTART;VALUE=DATE:20260320
DTEND;VALUE=DATE:20260330
DTSTAMP:20260419T090126
CREATED:20250129T050056Z
LAST-MODIFIED:20260210T140916Z
UID:10002278-1773964800-1774828799@www.atlantaparent.com
SUMMARY:Macon's International Cherry Blossom Festival
DESCRIPTION:Experience the beauty of Macon’s cherry blossoms while listening to live music\, enjoy free donuts\, taste ice cream\, ride midway amusement rides\, and more. March 20-29. See website for schedule\, locations and prices.
URL:https://www.atlantaparent.com/event/macon-cherry-blossom-festival/
LOCATION:Macon
ATTACH;FMTTYPE=image/jpeg:https://www.atlantaparent.com/wp-content/uploads/2021/02/macon-cbf-third-st-park-0-b-e1645558119122.jpg
END:VEVENT
BEGIN:VEVENT
DTSTART;TZID=America/New_York:20260321T100000
DTEND;TZID=America/New_York:20260411T120000
DTSTAMP:20260419T090126
CREATED:20260301T161959Z
LAST-MODIFIED:20260302T182050Z
UID:10005734-1774087200-1775908800@www.atlantaparent.com
SUMMARY:Bunny Brunch
DESCRIPTION:This Easter celebration features Cinnabon\, yogurt parfaits\, cookie decorating\, treat bags and more.
URL:https://www.atlantaparent.com/event/easter-bunny-at-town-center-at-cobb/
LOCATION:Town Center at Cobb\, 400 Ernest W. Barrett Pkwy. NW\, Kennesaw
GEO:34.018009;-84.5642655
X-APPLE-STRUCTURED-LOCATION;VALUE=URI;X-ADDRESS=Town Center at Cobb 400 Ernest W. Barrett Pkwy. NW Kennesaw;X-APPLE-RADIUS=500;X-TITLE=400 Ernest W. Barrett Pkwy. NW:geo:-84.5642655,34.018009
END:VEVENT
BEGIN:VEVENT
DTSTART;VALUE=DATE:20260326
DTEND;VALUE=DATE:20260405
DTSTAMP:20260419T090126
CREATED:20260301T164410Z
LAST-MODIFIED:20260302T181509Z
UID:10005647-1774483200-1775347199@www.atlantaparent.com
SUMMARY:Easter Bunny
DESCRIPTION:Avalon \nTake photos and visit with the Easter Bunny. March 26-April 4. See website for schedule. $15+.
URL:https://www.atlantaparent.com/event/easter-bunny/
LOCATION:Avalon\, 2200 Avalon Blvd.\, Alpharetta
ATTACH;FMTTYPE=image/jpeg:https://www.atlantaparent.com/wp-content/uploads/2021/02/Avalon-Easter-Bunny-Credit-Avalon-scaled-e1616076334487.jpeg
END:VEVENT
BEGIN:VEVENT
DTSTART;VALUE=DATE:20260326
DTEND;VALUE=DATE:20260413
DTSTAMP:20260419T090126
CREATED:20250129T141417Z
LAST-MODIFIED:20260210T135958Z
UID:10005686-1774483200-1776038399@www.atlantaparent.com
SUMMARY:Town Center at Cobb Carnival
DESCRIPTION:Enjoy midway rides and games\, classic carnival eats\, circus thrill shows and Big Bee The Transforming Robot Car. March 26-April 12. See website for schedule. Free admission; ride tickets\, $1.50 each.
URL:https://www.atlantaparent.com/event/town-center-at-cobb-carnival/
LOCATION:Town Center at Cobb\, 400 Ernest W. Barrett Pkwy. NW\, Kennesaw
ATTACH;FMTTYPE=image/jpeg:https://www.atlantaparent.com/wp-content/uploads/2021/03/Dreamland-Largo-860x635-1.jpg
GEO:34.018009;-84.5642655
X-APPLE-STRUCTURED-LOCATION;VALUE=URI;X-ADDRESS=Town Center at Cobb 400 Ernest W. Barrett Pkwy. NW Kennesaw;X-APPLE-RADIUS=500;X-TITLE=400 Ernest W. Barrett Pkwy. NW:geo:-84.5642655,34.018009
END:VEVENT
BEGIN:VEVENT
DTSTART;VALUE=DATE:20260327
DTEND;VALUE=DATE:20260330
DTSTAMP:20260419T090126
CREATED:20260220T050632Z
LAST-MODIFIED:20260330T123322Z
UID:10001770-1774569600-1774828799@www.atlantaparent.com
SUMMARY:Atlanta Braves Home Opener
DESCRIPTION:Photo by Kevin D. Liles/Atlanta Braves \nThe Atlanta Braves will take the field for their home opener against the Kansas City Royals with giveaways\, Friday Night Fireworks\, the first Kids Club Day of the year and more. $19-$243+.
URL:https://www.atlantaparent.com/event/atlanta-braves-kids-week/
LOCATION:Truist Park\, 755 Battery Ave. SE\, Atlanta
ATTACH;FMTTYPE=image/jpeg:https://www.atlantaparent.com/wp-content/uploads/2018/05/190518_BR_brewers-kl_1229-scaled-e1617290357645.jpg
GEO:33.889928;-84.4686388
X-APPLE-STRUCTURED-LOCATION;VALUE=URI;X-ADDRESS=Truist Park 755 Battery Ave. SE Atlanta;X-APPLE-RADIUS=500;X-TITLE=755 Battery Ave. SE:geo:-84.4686388,33.889928
END:VEVENT
BEGIN:VEVENT
DTSTART;VALUE=DATE:20260327
DTEND;VALUE=DATE:20260427
DTSTAMP:20260419T090126
CREATED:20260220T153436Z
LAST-MODIFIED:20260220T153436Z
UID:10010414-1774569600-1777247999@www.atlantaparent.com
SUMMARY:Space Explorers: THE INFINITE
DESCRIPTION:Experience life as an astronaut onboard the International Space Station with immersive 360-degree footage. $34+; ages 8-15\, $24+.
URL:https://www.atlantaparent.com/event/space-explorers-the-infinite/
LOCATION:Pullman Yards\, Rogers St. NE\, Atlanta
GEO:33.7567288;-84.3291736
X-APPLE-STRUCTURED-LOCATION;VALUE=URI;X-ADDRESS=Pullman Yards Rogers St. NE Atlanta;X-APPLE-RADIUS=500;X-TITLE=Rogers St. NE:geo:-84.3291736,33.7567288
END:VEVENT
BEGIN:VEVENT
DTSTART;TZID=America/New_York:20260327T180000
DTEND;TZID=America/New_York:20260327T203000
DTSTAMP:20260419T090126
CREATED:20260210T050033Z
LAST-MODIFIED:20260219T134957Z
UID:10003420-1774634400-1774643400@www.atlantaparent.com
SUMMARY:Acworth Easter Egg Hunt
DESCRIPTION:Participate in this community egg hunt with separate times for specific age groups.
URL:https://www.atlantaparent.com/event/acworth-easter-egg-night-hunt/
LOCATION:Acworth Sports Complex\, 4000 South Main St.\, Acworth\, GA\, United States
ATTACH;FMTTYPE=image/jpeg:https://www.atlantaparent.com/wp-content/uploads/2020/02/Acworth-2-e1648655353338.jpg
GEO:34.0507056;-84.6603581
X-APPLE-STRUCTURED-LOCATION;VALUE=URI;X-ADDRESS=Acworth Sports Complex 4000 South Main St. Acworth GA United States;X-APPLE-RADIUS=500;X-TITLE=4000 South Main St.:geo:-84.6603581,34.0507056
END:VEVENT
BEGIN:VEVENT
DTSTART;TZID=America/New_York:20260327T180000
DTEND;TZID=America/New_York:20260327T210000
DTSTAMP:20260419T090126
CREATED:20260210T190554Z
LAST-MODIFIED:20260219T143015Z
UID:10004974-1774634400-1774645200@www.atlantaparent.com
SUMMARY:Flashlight Egg Hunt
DESCRIPTION:Meet the Easter Bunny\, explore the kid’s zone\, make and take crafts and more before going on an egg hunt using a flashlight. $15\, cash only.
URL:https://www.atlantaparent.com/event/flashlight-egg-hunt/
LOCATION:Cherokee Veterans Park\, 7345 Cumming Hwy.\, Canton
GEO:34.2508079;-84.3712265
X-APPLE-STRUCTURED-LOCATION;VALUE=URI;X-ADDRESS=Cherokee Veterans Park 7345 Cumming Hwy. Canton;X-APPLE-RADIUS=500;X-TITLE=7345 Cumming Hwy.:geo:-84.3712265,34.2508079
END:VEVENT
BEGIN:VEVENT
DTSTART;VALUE=DATE:20260328
DTEND;VALUE=DATE:20260329
DTSTAMP:20260419T090126
CREATED:20260217T145026Z
LAST-MODIFIED:20260217T145026Z
UID:10010389-1774656000-1774742399@www.atlantaparent.com
SUMMARY:Music of Magic and Myth
DESCRIPTION:Go on a musical journey through enchanted forests\, daring adventures and legendary lands at this spellbinding concert from Georgia Symphony Orchestra. A sensory-friendly performance will be held at 2 p.m. March 28\, 4 p.m. $10.
URL:https://www.atlantaparent.com/event/music-of-magic-and-myth/
LOCATION:Jennie T. Anderson Theatre\, 548 South Marietta Pkwy.\, Marietta
END:VEVENT
BEGIN:VEVENT
DTSTART;VALUE=DATE:20260328
DTEND;VALUE=DATE:20260329
DTSTAMP:20260419T090126
CREATED:20260309T155028Z
LAST-MODIFIED:20260309T155028Z
UID:10010469-1774656000-1774742399@www.atlantaparent.com
SUMMARY:Cinderella & Other Stories
DESCRIPTION:Rise City Dance presents this storybook tale with beautiful choreography\, costumes and storytelling. March 28\, 1 and 5 p.m. $27-$43.
URL:https://www.atlantaparent.com/event/cinderella-other-stories/
LOCATION:Ferst Center for the Arts\, 349 Ferst Drive NW\, Atlanta\, GA\, 30332\, United States
GEO:33.7736172;-84.4002238
X-APPLE-STRUCTURED-LOCATION;VALUE=URI;X-ADDRESS=Ferst Center for the Arts 349 Ferst Drive NW Atlanta GA 30332 United States;X-APPLE-RADIUS=500;X-TITLE=349 Ferst Drive NW:geo:-84.4002238,33.7736172
END:VEVENT
BEGIN:VEVENT
DTSTART;VALUE=DATE:20260328
DTEND;VALUE=DATE:20260330
DTSTAMP:20260419T090126
CREATED:20250124T223242Z
LAST-MODIFIED:20260220T193343Z
UID:10002269-1774656000-1774828799@www.atlantaparent.com
SUMMARY:Brookhaven Cherry Blossom Festival
DESCRIPTION:Enjoy two days of music\, shop more than 100 local and regional artists’ works\, play in the Kidz Zone\, see classic cars\, and more. March 28-29\, 10 a.m.-6 p.m. Free admission.
URL:https://www.atlantaparent.com/event/brookhaven-cherry-blossom-festival/
LOCATION:Blackburn Park\, 3493 Ashford Dunwoody Rd.\, Brookhaven
ATTACH;FMTTYPE=image/jpeg:https://www.atlantaparent.com/wp-content/uploads/2018/02/Kids-at-brookhaven-CBF-b.jpg
GEO:33.89189;-84.3259804
X-APPLE-STRUCTURED-LOCATION;VALUE=URI;X-ADDRESS=Blackburn Park 3493 Ashford Dunwoody Rd. Brookhaven;X-APPLE-RADIUS=500;X-TITLE=3493 Ashford Dunwoody Rd.:geo:-84.3259804,33.89189
END:VEVENT
BEGIN:VEVENT
DTSTART;VALUE=DATE:20260328
DTEND;VALUE=DATE:20260330
DTSTAMP:20260419T090126
CREATED:20260216T183405Z
LAST-MODIFIED:20260220T173426Z
UID:10010424-1774656000-1774828799@www.atlantaparent.com
SUMMARY:Easter Bunny + Spring Family Photos
DESCRIPTION:Take memorable spring photos with the Easter Bunny. Reservation recommended. March 21-22\, 10 a.m.-4 p.m.; March 28-29\, 10 a.m.-6 p.m.; April 3\, noon-6 p.m. and April 4\, 9 a.m.-6 p.m. $20.
URL:https://www.atlantaparent.com/event/cotton-tail-corner-easter-bunny-photos/2026-03-28/
LOCATION:Ashley Park\, 354 Newnan Crossing Bypass\, Newnan
END:VEVENT
BEGIN:VEVENT
DTSTART;TZID=America/New_York:20260328T090000
DTEND;TZID=America/New_York:20260328T120000
DTSTAMP:20260419T090126
CREATED:20260210T184318Z
LAST-MODIFIED:20260219T142849Z
UID:10007884-1774688400-1774699200@www.atlantaparent.com
SUMMARY:Underwater Egg Hunt
DESCRIPTION:Hunt for eggs under the water\, make a craft\, have a snack and enjoy Easter fun. The sensory-friendly event will be March 27\, 6:30-8:30 p.m. Reservation required. $15; non-Gwinnett resident\, $20-$26.
URL:https://www.atlantaparent.com/event/egg-hunt-extravaganza/
LOCATION:Bogan Park Community Recreation Center\, 2723 N. Bogan Rd.\, Buford
END:VEVENT
BEGIN:VEVENT
DTSTART;TZID=America/New_York:20260328T093000
DTEND;TZID=America/New_York:20260328T093000
DTSTAMP:20260419T090126
CREATED:20260210T165250Z
LAST-MODIFIED:20260219T143356Z
UID:10009271-1774690200-1774690200@www.atlantaparent.com
SUMMARY:Project Chimps Easter Egg Hunt
DESCRIPTION:Race to find the eggs with three different fields set up by age group. Reservation required.
URL:https://www.atlantaparent.com/event/project-chimps-easter-egg-hunt/
LOCATION:Project Chimps\, 2031 Lowery Rd.\, Morganton\, 30560
END:VEVENT
BEGIN:VEVENT
DTSTART;TZID=America/New_York:20260328T100000
DTEND;TZID=America/New_York:20260328T110000
DTSTAMP:20260419T090126
CREATED:20260301T153257Z
LAST-MODIFIED:20260302T181227Z
UID:10009231-1774692000-1774695600@www.atlantaparent.com
SUMMARY:Easter Egg Hunt
DESCRIPTION:Enjoy Easter egg hunts. Free admission.
URL:https://www.atlantaparent.com/event/community-easter-egg-hunt/
LOCATION:Haygood Memorial United Methodist Church\, 1015 E. Rock Springs Rd. NE\, Atlanta
END:VEVENT
BEGIN:VEVENT
DTSTART;TZID=America/New_York:20260328T100000
DTEND;TZID=America/New_York:20260328T113000
DTSTAMP:20260419T090126
CREATED:20260217T144855Z
LAST-MODIFIED:20260217T144855Z
UID:10010388-1774692000-1774697400@www.atlantaparent.com
SUMMARY:8 Legged Scales Live!
DESCRIPTION:Get up close and personal with exotic creatures from all over the globe. March 28\, 10 and 11:30 a.m. $7.
URL:https://www.atlantaparent.com/event/8-legged-scales-live/
LOCATION: Aurora Theatre\, 128 East Pike St.\, Lawrenceville
END:VEVENT
BEGIN:VEVENT
DTSTART;TZID=America/New_York:20260328T100000
DTEND;TZID=America/New_York:20260328T120000
DTSTAMP:20260419T090126
CREATED:20260201T050009Z
LAST-MODIFIED:20260220T171120Z
UID:10010421-1774692000-1774699200@www.atlantaparent.com
SUMMARY:Drop-In Family Program: Natural Egg Dyeing
DESCRIPTION:Learn more about plants that can create powerful dyes and decorate eggs. $6 plus admission: $27.95-$34.95; ages 3-12\, $24.95-$31.95; 2 and younger\, free.
URL:https://www.atlantaparent.com/event/natural-egg-dyeing/2026-03-28/
LOCATION:Atlanta Botanical Garden\, 1345 Piedmont Ave.\, Atlanta
GEO:33.7900091;-84.3738585
X-APPLE-STRUCTURED-LOCATION;VALUE=URI;X-ADDRESS=Atlanta Botanical Garden 1345 Piedmont Ave. Atlanta;X-APPLE-RADIUS=500;X-TITLE=1345 Piedmont Ave.:geo:-84.3738585,33.7900091
END:VEVENT
BEGIN:VEVENT
DTSTART;TZID=America/New_York:20260328T100000
DTEND;TZID=America/New_York:20260328T123000
DTSTAMP:20260419T090126
CREATED:20260218T024322Z
LAST-MODIFIED:20260220T195134Z
UID:10010436-1774692000-1774701000@www.atlantaparent.com
SUMMARY:Once Upon a Time Breakfast
DESCRIPTION:Enjoy a magical breakfast with your favorite princess\, make tiaras and wands\, sing-a-long to movies and more. Reservation required. $10-$25. \n\nStarlite Family Fun Center Of McDonough: March 21\, 10 a.m.-12:30 p.m.\nStarlite Family Fun Center Of Newnan: March 28\, 10 a.m.-12:30 p.m.
URL:https://www.atlantaparent.com/event/royal-princess-tea-party/2026-03-28/
END:VEVENT
BEGIN:VEVENT
DTSTART;TZID=America/New_York:20260328T100000
DTEND;TZID=America/New_York:20260328T130000
DTSTAMP:20260419T090126
CREATED:20260210T165414Z
LAST-MODIFIED:20260219T135203Z
UID:10009121-1774692000-1774702800@www.atlantaparent.com
SUMMARY:Spring Garden Egg-Stravaganza
DESCRIPTION:Join community and county partners for crafts\, cooking demos\, games\, face painting\, a grand egg hunt and more. Free admission.
URL:https://www.atlantaparent.com/event/spring-garden-egg-stravaganza/
LOCATION:JB Williams Park\, 4935 Five Forks-Trickum Rd.\, Lilburn
END:VEVENT
BEGIN:VEVENT
DTSTART;TZID=America/New_York:20260328T100000
DTEND;TZID=America/New_York:20260328T130000
DTSTAMP:20260419T090126
CREATED:20260301T194146Z
LAST-MODIFIED:20260302T180111Z
UID:10005695-1774692000-1774702800@www.atlantaparent.com
SUMMARY:Hoppy Easter
DESCRIPTION:Enjoy an Easter egg hunt\, photo opportunities\, a petting zoo and kid-friendly activities. $13.62+.
URL:https://www.atlantaparent.com/event/hoppy-easter/
LOCATION:The Works\, 1235 Chattahoochee Ave. NW\, Atlanta
ATTACH;FMTTYPE=image/jpeg:https://www.atlantaparent.com/wp-content/uploads/2025/03/Hoppy-Easter.jpg
GEO:33.8022496;-84.4285908
X-APPLE-STRUCTURED-LOCATION;VALUE=URI;X-ADDRESS=The Works 1235 Chattahoochee Ave. NW Atlanta;X-APPLE-RADIUS=500;X-TITLE=1235 Chattahoochee Ave. NW:geo:-84.4285908,33.8022496
END:VEVENT
BEGIN:VEVENT
DTSTART;TZID=America/New_York:20260328T100000
DTEND;TZID=America/New_York:20260328T130000
DTSTAMP:20260419T090127
CREATED:20260317T134103Z
LAST-MODIFIED:20260317T134103Z
UID:10010483-1774692000-1774702800@www.atlantaparent.com
SUMMARY:Bunny Bash
DESCRIPTION:Celebrate with the Easter Bunny\, balloon twisters\, a petting zoo and more. Easter Bunny photos will be ticketed from 10 a.m.-noon. $15.
URL:https://www.atlantaparent.com/event/bunny-bash-2/
LOCATION:Avenue East Cobb\, 4475 Roswell Rd.\, Marietta\, GA\, 30062
GEO:33.9880126;-84.4224366
X-APPLE-STRUCTURED-LOCATION;VALUE=URI;X-ADDRESS=Avenue East Cobb 4475 Roswell Rd. Marietta GA 30062;X-APPLE-RADIUS=500;X-TITLE=4475 Roswell Rd.:geo:-84.4224366,33.9880126
END:VEVENT
BEGIN:VEVENT
DTSTART;TZID=America/New_York:20260328T100000
DTEND;TZID=America/New_York:20260328T180000
DTSTAMP:20260419T090127
CREATED:20250217T171832Z
LAST-MODIFIED:20260216T162544Z
UID:10009099-1774692000-1774720800@www.atlantaparent.com
SUMMARY:Daffodil Days
DESCRIPTION:This exciting event features fun games\, thrilling youth rides\, tasty treats and crafts. Free admission.
URL:https://www.atlantaparent.com/event/daffodil-days/
LOCATION:Atlanta Athletic Club\, 1930 Bobby Jones Dr.\, Johns Creek
GEO:34.0039271;-84.1919771
X-APPLE-STRUCTURED-LOCATION;VALUE=URI;X-ADDRESS=Atlanta Athletic Club 1930 Bobby Jones Dr. Johns Creek;X-APPLE-RADIUS=500;X-TITLE=1930 Bobby Jones Dr.:geo:-84.1919771,34.0039271
END:VEVENT
BEGIN:VEVENT
DTSTART;TZID=America/New_York:20260328T110000
DTEND;TZID=America/New_York:20260328T130000
DTSTAMP:20260419T090127
CREATED:20260315T165846Z
LAST-MODIFIED:20260317T133540Z
UID:10005681-1774695600-1774702800@www.atlantaparent.com
SUMMARY:Spring Fest
DESCRIPTION:Meet the Easter Bunny\, listen to live music\, visit the petting zoo\, play in the balloon bubble dome experience and more. Free admission.
URL:https://www.atlantaparent.com/event/spring-festival/
LOCATION:The Avenue West Cobb\, 3625 Dallas Hwy.\, Marietta
GEO:33.9523107;-84.6599349
X-APPLE-STRUCTURED-LOCATION;VALUE=URI;X-ADDRESS=The Avenue West Cobb 3625 Dallas Hwy. Marietta;X-APPLE-RADIUS=500;X-TITLE=3625 Dallas Hwy.:geo:-84.6599349,33.9523107
END:VEVENT
BEGIN:VEVENT
DTSTART;TZID=America/New_York:20260328T110000
DTEND;TZID=America/New_York:20260329T170000
DTSTAMP:20260419T090127
CREATED:20260220T054401Z
LAST-MODIFIED:20260220T184759Z
UID:10009258-1774695600-1774803600@www.atlantaparent.com
SUMMARY:Spring Artists Market
DESCRIPTION:Shop more than 50 talented local artisans with jewelry\, pottery\, home decor and more.
URL:https://www.atlantaparent.com/event/spring-artists-market/
LOCATION:Halcyon\, 6365 Halcyon Way\, Alpharetta\, GA\, 30005
GEO:34.1106637;-84.2242307
X-APPLE-STRUCTURED-LOCATION;VALUE=URI;X-ADDRESS=Halcyon 6365 Halcyon Way Alpharetta GA 30005;X-APPLE-RADIUS=500;X-TITLE=6365 Halcyon Way:geo:-84.2242307,34.1106637
END:VEVENT
BEGIN:VEVENT
DTSTART;TZID=America/New_York:20260328T113000
DTEND;TZID=America/New_York:20260328T160000
DTSTAMP:20260419T090127
CREATED:20260210T165218Z
LAST-MODIFIED:20260219T142726Z
UID:10005654-1774697400-1774713600@www.atlantaparent.com
SUMMARY:Eggs-traordinary Extravaganza
DESCRIPTION:Go on outdoor and underwater egg hunts for different age groups. Reservation required. $12.
URL:https://www.atlantaparent.com/event/eggs-traordinary-extravaganza/
LOCATION:Cherokee County Aquatic Center\, 1200 Wellstar Way\, Canton\, GA\, 30114
GEO:34.140918;-84.5244296
X-APPLE-STRUCTURED-LOCATION;VALUE=URI;X-ADDRESS=Cherokee County Aquatic Center 1200 Wellstar Way Canton GA 30114;X-APPLE-RADIUS=500;X-TITLE=1200 Wellstar Way:geo:-84.5244296,34.140918
END:VEVENT
BEGIN:VEVENT
DTSTART;TZID=America/New_York:20260328T120000
DTEND;TZID=America/New_York:20260328T160000
DTSTAMP:20260419T090127
CREATED:20260210T200552Z
LAST-MODIFIED:20260219T135348Z
UID:10006317-1774699200-1774713600@www.atlantaparent.com
SUMMARY:Easter Eggstravaganza
DESCRIPTION:Easter festivities include arts and crafts tents for make-and-take keepsakes\, bouncy houses\, egg hunts and more. $10.
URL:https://www.atlantaparent.com/event/easter-eggstravaganza-4/
LOCATION:Town at Trilith\, 305 Trilith Pkwy.\, Fayetteville
GEO:33.4691729;-84.5065085
X-APPLE-STRUCTURED-LOCATION;VALUE=URI;X-ADDRESS=Town at Trilith 305 Trilith Pkwy. Fayetteville;X-APPLE-RADIUS=500;X-TITLE=305 Trilith Pkwy.:geo:-84.5065085,33.4691729
END:VEVENT
BEGIN:VEVENT
DTSTART;TZID=America/New_York:20260328T130000
DTEND;TZID=America/New_York:20260328T130000
DTSTAMP:20260419T090127
CREATED:20260323T125817Z
LAST-MODIFIED:20260323T125817Z
UID:10010491-1774702800-1774702800@www.atlantaparent.com
SUMMARY:Easter Egg Hunt
DESCRIPTION:For ages 5 and younger\, enjoy an egg hunt on The Village Green.
URL:https://www.atlantaparent.com/event/easter-egg-hunt-11/
LOCATION:Mall of Georgia\, 3333 Buford Dr.\, Buford
GEO:34.0651493;-83.9847659
X-APPLE-STRUCTURED-LOCATION;VALUE=URI;X-ADDRESS=Mall of Georgia 3333 Buford Dr. Buford;X-APPLE-RADIUS=500;X-TITLE=3333 Buford Dr.:geo:-83.9847659,34.0651493
END:VEVENT
BEGIN:VEVENT
DTSTART;TZID=America/New_York:20260328T130000
DTEND;TZID=America/New_York:20260328T163000
DTSTAMP:20260419T090127
CREATED:20260207T152557Z
LAST-MODIFIED:20260224T202047Z
UID:10010449-1774702800-1774715400@www.atlantaparent.com
SUMMARY:North Georgia Live Steamers
DESCRIPTION:Enjoy a miniature train ride on a smaller version of a real steam train. The trains are scaled to one-eighth the size of a full-size railroad. Riders must be ages 18 mo. or older. $2 per person; cash only.
URL:https://www.atlantaparent.com/event/north-georgia-live-steamers/2026-03-28/
LOCATION:Georgia International Horse Park\, 1632 Centennial Olympic Pkwy.\, Conyers
ATTACH;FMTTYPE=image/jpeg:https://www.atlantaparent.com/wp-content/uploads/2018/03/IMG_1621-steamaers-b.jpg
END:VEVENT
BEGIN:VEVENT
DTSTART;TZID=America/New_York:20260328T130000
DTEND;TZID=America/New_York:20260329T150000
DTSTAMP:20260419T090127
CREATED:20260213T050028Z
LAST-MODIFIED:20260220T174914Z
UID:10010426-1774702800-1774796400@www.atlantaparent.com
SUMMARY:Spring Wagon Rides with the Easter Bunny
DESCRIPTION:Go on a guided wagon ride around the campground with the Easter Bunny. Reservation required. March 28-29 and April 4\, 1-3 p.m. $5; ages 2 and younger\, free; parking\, $10.
URL:https://www.atlantaparent.com/event/hard-labor-creek-state-park-easter-egg-hunt/2026-03-28/
LOCATION:Hard Labor Creek State Park\, 5 Hard Labor Creek Rd.\,\, Rutledge
GEO:33.6638553;-83.6061542
X-APPLE-STRUCTURED-LOCATION;VALUE=URI;X-ADDRESS=Hard Labor Creek State Park 5 Hard Labor Creek Rd. Rutledge;X-APPLE-RADIUS=500;X-TITLE=5 Hard Labor Creek Rd.\,:geo:-83.6061542,33.6638553
END:VEVENT
END:VCALENDAR