BEGIN:VCALENDAR
VERSION:2.0
PRODID:-//NEW Atlanta Parent - ECPv6.15.11//NONSGML v1.0//EN
CALSCALE:GREGORIAN
METHOD:PUBLISH
X-ORIGINAL-URL:https://www.atlantaparent.com
X-WR-CALDESC:Events for NEW Atlanta Parent
REFRESH-INTERVAL;VALUE=DURATION:PT1H
X-Robots-Tag:noindex
X-PUBLISHED-TTL:PT1H
BEGIN:VTIMEZONE
TZID:America/New_York
BEGIN:DAYLIGHT
TZOFFSETFROM:-0500
TZOFFSETTO:-0400
TZNAME:EDT
DTSTART:20210314T070000
END:DAYLIGHT
BEGIN:STANDARD
TZOFFSETFROM:-0400
TZOFFSETTO:-0500
TZNAME:EST
DTSTART:20211107T060000
END:STANDARD
BEGIN:DAYLIGHT
TZOFFSETFROM:-0500
TZOFFSETTO:-0400
TZNAME:EDT
DTSTART:20220313T070000
END:DAYLIGHT
BEGIN:STANDARD
TZOFFSETFROM:-0400
TZOFFSETTO:-0500
TZNAME:EST
DTSTART:20221106T060000
END:STANDARD
BEGIN:DAYLIGHT
TZOFFSETFROM:-0500
TZOFFSETTO:-0400
TZNAME:EDT
DTSTART:20230312T070000
END:DAYLIGHT
BEGIN:STANDARD
TZOFFSETFROM:-0400
TZOFFSETTO:-0500
TZNAME:EST
DTSTART:20231105T060000
END:STANDARD
BEGIN:DAYLIGHT
TZOFFSETFROM:-0500
TZOFFSETTO:-0400
TZNAME:EDT
DTSTART:20240310T070000
END:DAYLIGHT
BEGIN:STANDARD
TZOFFSETFROM:-0400
TZOFFSETTO:-0500
TZNAME:EST
DTSTART:20241103T060000
END:STANDARD
END:VTIMEZONE
BEGIN:VTIMEZONE
TZID:UTC
BEGIN:STANDARD
TZOFFSETFROM:+0000
TZOFFSETTO:+0000
TZNAME:UTC
DTSTART:20210101T000000
END:STANDARD
END:VTIMEZONE
BEGIN:VEVENT
DTSTART;TZID=America/New_York:20221203T120000
DTEND;TZID=America/New_York:20221203T150000
DTSTAMP:20260421T045053
CREATED:20221031T160040Z
LAST-MODIFIED:20221031T160040Z
UID:10006658-1670068800-1670079600@www.atlantaparent.com
SUMMARY:Gingerbread House Holiday Event
DESCRIPTION:Decorate your own gingerbread house while enjoying festive holiday music\, hot chocolate and photos with The Grinch. 100% of the net proceeds from this event will benefit Wellspring Living. Registration closes on Dec. 1. $15 or two for $25.
URL:https://www.atlantaparent.com/event/gingerbread-house-holiday-event/
LOCATION:Covington Woman’s Club\, 1122 College Ave.\, Covington
GEO:33.5958165;-83.8586922
X-APPLE-STRUCTURED-LOCATION;VALUE=URI;X-ADDRESS=Covington Woman’s Club 1122 College Ave. Covington;X-APPLE-RADIUS=500;X-TITLE=1122 College Ave.:geo:-83.8586922,33.5958165
END:VEVENT
BEGIN:VEVENT
DTSTART;TZID=America/New_York:20221203T173000
DTEND;TZID=America/New_York:20230108T210000
DTSTAMP:20260421T045053
CREATED:20191017T173958Z
LAST-MODIFIED:20221208T155154Z
UID:10003316-1670088600-1673211600@www.atlantaparent.com
SUMMARY:Due West UMC Light the Night
DESCRIPTION:This self-guided walking light tour includes more than 50\,000 lights\, ornaments\, characters\, a gingerbread house and more. A portion of donations will benefit Children’s Healthcare of Atlanta.
URL:https://www.atlantaparent.com/event/holiday-market/
LOCATION:Due West United Methodist Church\, 3956 Due West Road\, Marietta
GEO:33.9682083;-84.6682439
X-APPLE-STRUCTURED-LOCATION;VALUE=URI;X-ADDRESS=Due West United Methodist Church 3956 Due West Road Marietta;X-APPLE-RADIUS=500;X-TITLE=3956 Due West Road:geo:-84.6682439,33.9682083
END:VEVENT
BEGIN:VEVENT
DTSTART;VALUE=DATE:20221204
DTEND;VALUE=DATE:20221205
DTSTAMP:20260421T045053
CREATED:20201111T142106Z
LAST-MODIFIED:20221128T172122Z
UID:10002513-1670112000-1670198399@www.atlantaparent.com
SUMMARY:Children’s Holiday Party
DESCRIPTION:Enjoy an array of children’s festivities\, a large buffet\, a holiday cookie decorating station and visits with Santa. Reservation required. Dec. 4\, 11 a.m.-12:30 p.m. and 1-2:30 p.m. $70; ages 3-11\, $40; ages 2 and younger\, free.
URL:https://www.atlantaparent.com/event/childrens-holiday-party/
LOCATION:InterContinental Buckhead Atlanta\, 3315 Peachtree Rd. NE\, Atlanta
GEO:33.8457313;-84.3684404
X-APPLE-STRUCTURED-LOCATION;VALUE=URI;X-ADDRESS=InterContinental Buckhead Atlanta 3315 Peachtree Rd. NE Atlanta;X-APPLE-RADIUS=500;X-TITLE=3315 Peachtree Rd. NE:geo:-84.3684404,33.8457313
END:VEVENT
BEGIN:VEVENT
DTSTART;TZID=America/New_York:20221204T150000
DTEND;TZID=America/New_York:20221204T150000
DTSTAMP:20260421T045053
CREATED:20221027T135253Z
LAST-MODIFIED:20221027T135253Z
UID:10006651-1670166000-1670166000@www.atlantaparent.com
SUMMARY:One Christmas Night in Memphis
DESCRIPTION:This tribute to Carl Perkins\, Johnny Cash\, Jerry Lee Lewis and Elvis Presley includes rockabilly\, country\, gospel and rock and roll music. $15-$20.
URL:https://www.atlantaparent.com/event/one-christmas-night-in-memphis-2/
LOCATION:The Nixon Centre for the Arts\, 1523 Lower Fayetteville Rd.\, Newnan
END:VEVENT
BEGIN:VEVENT
DTSTART;TZID=America/New_York:20221205T180000
DTEND;TZID=America/New_York:20221226T220000
DTSTAMP:20260421T045053
CREATED:20211119T181841Z
LAST-MODIFIED:20221209T135052Z
UID:10006139-1670263200-1672092000@www.atlantaparent.com
SUMMARY:Christmas at North Point
DESCRIPTION:Watch the 40-foot Christmas tree come alive with 20\,000 animated lights\, and tune in to 90.5 FM to enjoy the accompanying music. Dec. 5-26\, 6-10 p.m.
URL:https://www.atlantaparent.com/event/christmas-at-north-point/
LOCATION:North Point Community Church\, 4350 North Point Pkwy.\, Alpharetta\, GA
ATTACH;FMTTYPE=image/jpeg:https://www.atlantaparent.com/wp-content/uploads/2021/11/North-point-1-e1666810849141.jpg
END:VEVENT
BEGIN:VEVENT
DTSTART;VALUE=DATE:20221206
DTEND;VALUE=DATE:20221212
DTSTAMP:20260421T045053
CREATED:20221028T160136Z
LAST-MODIFIED:20221109T172655Z
UID:10006653-1670284800-1670803199@www.atlantaparent.com
SUMMARY:Anastasia
DESCRIPTION:A brave young woman sets out to discover the mystery of her past to find home\, love and family.  Dec. 6-11. See website for showtimes. $31+.
URL:https://www.atlantaparent.com/event/anastasia/
LOCATION:Fox Theatre\, 660 Peachtree St. NE\, Atlanta
ATTACH;FMTTYPE=image/jpeg:https://www.atlantaparent.com/wp-content/uploads/2022/10/WILLEM1-scaled-e1668014783461.jpg
GEO:33.772731;-84.385022
X-APPLE-STRUCTURED-LOCATION;VALUE=URI;X-ADDRESS=Fox Theatre 660 Peachtree St. NE Atlanta;X-APPLE-RADIUS=500;X-TITLE=660 Peachtree St. NE:geo:-84.385022,33.772731
END:VEVENT
BEGIN:VEVENT
DTSTART;TZID=America/New_York:20221206T190000
DTEND;TZID=America/New_York:20221209T190000
DTSTAMP:20260421T045053
CREATED:20221128T142022Z
LAST-MODIFIED:20221128T142022Z
UID:10006698-1670353200-1670612400@www.atlantaparent.com
SUMMARY:Elma and the Top: The Musical
DESCRIPTION:Watch the tiniest elf in the North Pole this Christmas with award-winning musicians\, actors and dancers. Dec. 6-8\, 7 p.m. and Dec. 9\, 7:30 p.m. $30; ages 14 and younger\, $15; family of 5\, $90.
URL:https://www.atlantaparent.com/event/elma-and-the-top-the-musical/
LOCATION:7 Stages Theatre\, 1105 Euclid Avenue\, Atlanta
GEO:33.7637829;-84.3508289
X-APPLE-STRUCTURED-LOCATION;VALUE=URI;X-ADDRESS=7 Stages Theatre 1105 Euclid Avenue Atlanta;X-APPLE-RADIUS=500;X-TITLE=1105 Euclid Avenue:geo:-84.3508289,33.7637829
END:VEVENT
BEGIN:VEVENT
DTSTART;VALUE=DATE:20221207
DTEND;VALUE=DATE:20221224
DTSTAMP:20260421T045053
CREATED:20221103T124623Z
LAST-MODIFIED:20221103T124623Z
UID:10006664-1670371200-1671839999@www.atlantaparent.com
SUMMARY:Mother of God
DESCRIPTION:View the story of Mary\, an ordinary woman facing extraordinary circumstances in this musical. Dec. 7-10\, 15-17 and 21-23\, 8 p.m.; Dec. 10-11\, 17-18\, 2:30 p.m. $30-$40.
URL:https://www.atlantaparent.com/event/mother-of-god/
LOCATION:Southwest Arts Center Performance Theater\, 915 New Hope Rd.\, Atlanta
GEO:33.7296843;-84.5415544
X-APPLE-STRUCTURED-LOCATION;VALUE=URI;X-ADDRESS=Southwest Arts Center Performance Theater 915 New Hope Rd. Atlanta;X-APPLE-RADIUS=500;X-TITLE=915 New Hope Rd.:geo:-84.5415544,33.7296843
END:VEVENT
BEGIN:VEVENT
DTSTART;VALUE=DATE:20221209
DTEND;VALUE=DATE:20221211
DTSTAMP:20260421T045053
CREATED:20201120T133142Z
LAST-MODIFIED:20221012T160313Z
UID:10005534-1670544000-1670716799@www.atlantaparent.com
SUMMARY:Marley Was Dead\, To Begin With
DESCRIPTION:This festive holiday ballet from Terminus Modern Ballet Theatre is inspired by Charles Dickens’ “A Christmas Carol\,” featuring an original score and amazing choreography. Dec. 9-10\, 8 p.m. and Dec. 10\, 2 p.m. $15-$60.
URL:https://www.atlantaparent.com/event/digital-dance-a-christmas-carol/
LOCATION:Kennesaw State University Dance Theater\, 1100 South Marietta Pkwy SE\, Marietta\, GA
ATTACH;FMTTYPE=image/jpeg:https://www.atlantaparent.com/wp-content/uploads/2020/11/Marley_TMBT_1.jpg
GEO:33.939042;-84.5190965
X-APPLE-STRUCTURED-LOCATION;VALUE=URI;X-ADDRESS=Kennesaw State University Dance Theater 1100 South Marietta Pkwy SE Marietta GA;X-APPLE-RADIUS=500;X-TITLE=1100 South Marietta Pkwy SE:geo:-84.5190965,33.939042
END:VEVENT
BEGIN:VEVENT
DTSTART;VALUE=DATE:20221209
DTEND;VALUE=DATE:20221223
DTSTAMP:20260421T045053
CREATED:20251002T040012Z
LAST-MODIFIED:20251215T134021Z
UID:10000898-1670544000-1671753599@www.atlantaparent.com
SUMMARY:A Christmas Tradition
DESCRIPTION:Share in the holiday spirit with sparkling song and dance featuring traditional and funky Christmas favorites. Arrive 30 minutes before showtime for a live holiday organ concert. Dec. 12-21. See website for showtimes. $41.20-$54.64.
URL:https://www.atlantaparent.com/event/a-christmas-tradition/
LOCATION:The Earl Smith Strand Theatre\, 117 N. Park Sq.\, Marietta
ATTACH;FMTTYPE=image/jpeg:https://www.atlantaparent.com/wp-content/uploads/2018/11/strand-xmas-tradition2-e1571405817206.jpg
GEO:33.9535704;-84.5491677
X-APPLE-STRUCTURED-LOCATION;VALUE=URI;X-ADDRESS=The Earl Smith Strand Theatre 117 N. Park Sq. Marietta;X-APPLE-RADIUS=500;X-TITLE=117 N. Park Sq.:geo:-84.5491677,33.9535704
END:VEVENT
BEGIN:VEVENT
DTSTART;VALUE=DATE:20221209
DTEND;VALUE=DATE:20221225
DTSTAMP:20260421T045053
CREATED:20230815T044424Z
LAST-MODIFIED:20230918T123154Z
UID:10003388-1670544000-1671926399@www.atlantaparent.com
SUMMARY:The Miraculous Journey of Edward Tulane
DESCRIPTION:Jerry Siegel \nChina rabbit Edward Tulane goes on an unexpected magical journey to discover the transformative powers of love. Sept. 13-17. See website for showtimes. $15-$45.
URL:https://www.atlantaparent.com/event/miraculous-journey-edward-tulane/
LOCATION:Synchronicity Theatre\, 1545 Peachtree Street\, Atlanta
ATTACH;FMTTYPE=image/jpeg:https://www.atlantaparent.com/wp-content/uploads/2018/01/8X8A5084-scaled-e1669052712209.jpg
GEO:33.7972669;-84.3882065
X-APPLE-STRUCTURED-LOCATION;VALUE=URI;X-ADDRESS=Synchronicity Theatre 1545 Peachtree Street Atlanta;X-APPLE-RADIUS=500;X-TITLE=1545 Peachtree Street:geo:-84.3882065,33.7972669
END:VEVENT
BEGIN:VEVENT
DTSTART;TZID=America/New_York:20221210T090000
DTEND;TZID=America/New_York:20221210T110000
DTSTAMP:20260421T045053
CREATED:20181126T204055Z
LAST-MODIFIED:20221020T170819Z
UID:10003912-1670662800-1670670000@www.atlantaparent.com
SUMMARY:Breakfast with the Grinch
DESCRIPTION:Enjoy breakfast with the Grinch\, themed ornaments and crafts. Reservation required. $20-$160; non-resident\, $30-$240.
URL:https://www.atlantaparent.com/event/grits-with-the-grinch/
LOCATION:Acworth Community Center\, 4361 Cherokee St.\, Acworth
GEO:34.0698846;-84.6762702
X-APPLE-STRUCTURED-LOCATION;VALUE=URI;X-ADDRESS=Acworth Community Center 4361 Cherokee St. Acworth;X-APPLE-RADIUS=500;X-TITLE=4361 Cherokee St.:geo:-84.6762702,34.0698846
END:VEVENT
BEGIN:VEVENT
DTSTART;TZID=America/New_York:20221210T120000
DTEND;TZID=America/New_York:20221210T180000
DTSTAMP:20260421T045053
CREATED:20201023T152424Z
LAST-MODIFIED:20221012T154356Z
UID:10005506-1670673600-1670695200@www.atlantaparent.com
SUMMARY:Merry Little Christmas Experience
DESCRIPTION:Celebrate the Christmas season with a holiday market\, Santa\, ice sculptures and more. Free admission.
URL:https://www.atlantaparent.com/event/merry-little-christmas-experience-fireworks-show/
LOCATION:Downtown Lawrenceville\, 185 E Crogan St.\, Lawrenceville\, GA\, United States
GEO:33.9583353;-83.9745458
X-APPLE-STRUCTURED-LOCATION;VALUE=URI;X-ADDRESS=Downtown Lawrenceville 185 E Crogan St. Lawrenceville GA United States;X-APPLE-RADIUS=500;X-TITLE=185 E Crogan St.:geo:-83.9745458,33.9583353
END:VEVENT
BEGIN:VEVENT
DTSTART;TZID=America/New_York:20221210T190000
DTEND;TZID=America/New_York:20221210T190000
DTSTAMP:20260421T045053
CREATED:20181118T203320Z
LAST-MODIFIED:20221020T171205Z
UID:10003936-1670698800-1670698800@www.atlantaparent.com
SUMMARY:Marietta Pops Holiday Concert
DESCRIPTION:Hear traditional holiday classics from a full symphonic orchestra. $20; ages 9 and younger\, free.
URL:https://www.atlantaparent.com/event/holiday-concert-2/
LOCATION:First Baptist Church Marietta\, 148 Church St.\, Marietta
END:VEVENT
BEGIN:VEVENT
DTSTART;TZID=UTC:20221211T100000
DTEND;TZID=UTC:20221211T110000
DTSTAMP:20260421T045053
CREATED:20191107T050020Z
LAST-MODIFIED:20221121T151844Z
UID:10000819-1670752800-1670756400@www.atlantaparent.com
SUMMARY:RUMC Kids Christmas Celebration
DESCRIPTION:  \nA Christmas party for kids and their families and features a live nativity. Dec. 11\, 10-11 a.m. Free admission with new\, unwrapped toy donation.
URL:https://www.atlantaparent.com/event/evening-in-bethlehem/
LOCATION:Roswell United Methodist Church\, 814 Mimosa Blvd.\, Roswell
END:VEVENT
BEGIN:VEVENT
DTSTART;TZID=America/New_York:20221211T100000
DTEND;TZID=America/New_York:20221211T160000
DTSTAMP:20260421T045053
CREATED:20221109T174254Z
LAST-MODIFIED:20221109T174254Z
UID:10006721-1670752800-1670774400@www.atlantaparent.com
SUMMARY:Princess Day
DESCRIPTION:Visit with your favorite princesses\, enjoy a vocal performance\, play games\, make crafts\, watch a princess parade and more. Reservation required. Use promo code THANKYOU for 15% off. $20-$30.
URL:https://www.atlantaparent.com/event/princess-day/
LOCATION:Crowne Plaza Atlanta\, 201 Aberdeen Pkwy.\, Peachtree City
GEO:33.406072;-84.5941961
X-APPLE-STRUCTURED-LOCATION;VALUE=URI;X-ADDRESS=Crowne Plaza Atlanta 201 Aberdeen Pkwy. Peachtree City;X-APPLE-RADIUS=500;X-TITLE=201 Aberdeen Pkwy.:geo:-84.5941961,33.406072
END:VEVENT
BEGIN:VEVENT
DTSTART;TZID=America/New_York:20221211T130000
DTEND;TZID=America/New_York:20221211T160000
DTSTAMP:20260421T045053
CREATED:20181203T211039Z
LAST-MODIFIED:20221027T143230Z
UID:10003930-1670763600-1670774400@www.atlantaparent.com
SUMMARY:Live Nativity at Lutheran Church of the Redeemer
DESCRIPTION:See the story of Jesus’ birth and visit with artisans and citizens of first-century Bethlehem. Free admission.
URL:https://www.atlantaparent.com/event/nativity-at-lutheran-church-of-the-redeemer/
LOCATION:Lutheran Church of the Redeemer\, 731 Peachtree St.\,\, Atlanta
END:VEVENT
BEGIN:VEVENT
DTSTART;TZID=America/New_York:20221212T193000
DTEND;TZID=America/New_York:20221213T193000
DTSTAMP:20260421T045053
CREATED:20221027T125651Z
LAST-MODIFIED:20221027T125651Z
UID:10006638-1670873400-1670959800@www.atlantaparent.com
SUMMARY:Winter Concert
DESCRIPTION:A musical evening featuring the talented Performing Arts Academy students. Dec. 12-13\, 7:30 p.m. $10-$15.
URL:https://www.atlantaparent.com/event/winter-concert/
LOCATION:Stage Door Theatre\, 5339 Chamblee Dunwoody Rd.\, Dunwoody
GEO:33.9446855;-84.3319777
X-APPLE-STRUCTURED-LOCATION;VALUE=URI;X-ADDRESS=Stage Door Theatre 5339 Chamblee Dunwoody Rd. Dunwoody;X-APPLE-RADIUS=500;X-TITLE=5339 Chamblee Dunwoody Rd.:geo:-84.3319777,33.9446855
END:VEVENT
BEGIN:VEVENT
DTSTART;TZID=America/New_York:20221213T190000
DTEND;TZID=America/New_York:20221213T190000
DTSTAMP:20260421T045053
CREATED:20191006T021257Z
LAST-MODIFIED:20221122T155906Z
UID:10004565-1670958000-1670958000@www.atlantaparent.com
SUMMARY:Cirque Musica: Holiday Wonderland
DESCRIPTION:This all-new musical journey transports audiences to a magical land with acrobats\, aerialists\, hijinks and holiday cheer for a holiday-themed show experience. $29-$139+.
URL:https://www.atlantaparent.com/event/a-magical-cirque-christmas/
LOCATION:State Farm Arena\, 1 State Farm Dr.\, Atlanta
END:VEVENT
BEGIN:VEVENT
DTSTART;TZID=America/New_York:20221213T190000
DTEND;TZID=America/New_York:20221213T190000
DTSTAMP:20260421T045053
CREATED:20221026T202924Z
LAST-MODIFIED:20221115T135952Z
UID:10006643-1670958000-1670958000@www.atlantaparent.com
SUMMARY:Blitzen's Reindeer Games
DESCRIPTION:Cheery carols and holiday-themed improv from the talent AppCo and AppCo alumni. $10. \n 
URL:https://www.atlantaparent.com/event/blitzens-reindeer-games/
LOCATION: Aurora Theatre\, 128 East Pike St.\, Lawrenceville
END:VEVENT
BEGIN:VEVENT
DTSTART;TZID=America/New_York:20221215T170000
DTEND;TZID=America/New_York:20221215T183000
DTSTAMP:20260421T045053
CREATED:20221206T195612Z
LAST-MODIFIED:20221206T195612Z
UID:10006702-1671123600-1671129000@www.atlantaparent.com
SUMMARY:SCAD Honeybees at Woodruff Park
DESCRIPTION:Experience a spirited holiday performance by the SCAD Honeybees\, the university’s elite alumni vocal ensemble featuring “American Idol” winner Candice Glover and under the direction of Broadway veteran Mike Evariste. The performance will take place at the new Light + Sound Station in Woodruff Park\, an interactive light display. Free admission.
URL:https://www.atlantaparent.com/event/scad-honeybees-at-woodruff-park/
LOCATION:Woodruff Park\, 91 Peachtree St. NW\, Atlanta
ATTACH;FMTTYPE=image/png:https://www.atlantaparent.com/wp-content/uploads/2022/12/SCAD-Honeybees-e1670356540303.png
GEO:33.7561477;-84.3881545
X-APPLE-STRUCTURED-LOCATION;VALUE=URI;X-ADDRESS=Woodruff Park 91 Peachtree St. NW Atlanta;X-APPLE-RADIUS=500;X-TITLE=91 Peachtree St. NW:geo:-84.3881545,33.7561477
END:VEVENT
BEGIN:VEVENT
DTSTART;TZID=America/New_York:20221215T190000
DTEND;TZID=America/New_York:20221215T190000
DTSTAMP:20260421T045053
CREATED:20221202T154002Z
LAST-MODIFIED:20221202T154002Z
UID:10006703-1671130800-1671130800@www.atlantaparent.com
SUMMARY:Mac Powell Christmas Concert
DESCRIPTION:Mac Powell\, former lead vocalist of Third Day\, will be performing in a concert with classic songs and new favorites to benefit GRACEPOINT School. $25-$150.
URL:https://www.atlantaparent.com/event/mac-powell-christmas-concert/
LOCATION:The Church of The Apostles\, 3585 Northside Pkwy. NW\, Atlanta
GEO:33.8528516;-84.4301529
X-APPLE-STRUCTURED-LOCATION;VALUE=URI;X-ADDRESS=The Church of The Apostles 3585 Northside Pkwy. NW Atlanta;X-APPLE-RADIUS=500;X-TITLE=3585 Northside Pkwy. NW:geo:-84.4301529,33.8528516
END:VEVENT
BEGIN:VEVENT
DTSTART;TZID=America/New_York:20221216T120000
DTEND;TZID=America/New_York:20221216T140000
DTSTAMP:20260421T045053
CREATED:20171106T175005Z
LAST-MODIFIED:20221017T180920Z
UID:10003304-1671192000-1671199200@www.atlantaparent.com
SUMMARY:Cookies for Santa
DESCRIPTION:Decorate special cookies for Santa’s stop at your house\, and enjoy a story with Mrs. Claus at this event for kids ages 4 and older. $5; non-resident\, $7.
URL:https://www.atlantaparent.com/event/milk-cookies-santa/
LOCATION:George Pierce Park Community Recreation Center\, 55 Buford Hwy.\, Suwanee
GEO:34.0606638;-84.0616299
X-APPLE-STRUCTURED-LOCATION;VALUE=URI;X-ADDRESS=George Pierce Park Community Recreation Center 55 Buford Hwy. Suwanee;X-APPLE-RADIUS=500;X-TITLE=55 Buford Hwy.:geo:-84.0616299,34.0606638
END:VEVENT
BEGIN:VEVENT
DTSTART;TZID=America/New_York:20221216T180000
DTEND;TZID=America/New_York:20221216T200000
DTSTAMP:20260421T045053
CREATED:20191126T024626Z
LAST-MODIFIED:20221027T144325Z
UID:10004828-1671213600-1671220800@www.atlantaparent.com
SUMMARY:Family Snow Day
DESCRIPTION:Wear your holiday pajamas to participate in a snowball fight\, play games\, create crafts and more. $6.
URL:https://www.atlantaparent.com/event/family-snow-day/
LOCATION:Pinckneyville Park Community Recreation Center\, 4758 S. Old Peachtree Rd.\, Norcross
GEO:33.9640069;-84.1890259
X-APPLE-STRUCTURED-LOCATION;VALUE=URI;X-ADDRESS=Pinckneyville Park Community Recreation Center 4758 S. Old Peachtree Rd. Norcross;X-APPLE-RADIUS=500;X-TITLE=4758 S. Old Peachtree Rd.:geo:-84.1890259,33.9640069
END:VEVENT
BEGIN:VEVENT
DTSTART;TZID=America/New_York:20221216T190000
DTEND;TZID=America/New_York:20221216T190000
DTSTAMP:20260421T045053
CREATED:20221026T203108Z
LAST-MODIFIED:20221026T203108Z
UID:10006642-1671217200-1671217200@www.atlantaparent.com
SUMMARY:Club Babalú: Navidad
DESCRIPTION:Enjoy this one-night only celebration for de Navidad. $25.
URL:https://www.atlantaparent.com/event/club-babalu-navidad/
LOCATION: Aurora Theatre\, 128 East Pike St.\, Lawrenceville
END:VEVENT
BEGIN:VEVENT
DTSTART;VALUE=DATE:20221217
DTEND;VALUE=DATE:20221219
DTSTAMP:20260421T045053
CREATED:20221031T160441Z
LAST-MODIFIED:20221031T160441Z
UID:10006657-1671235200-1671407999@www.atlantaparent.com
SUMMARY:Holiday In
DESCRIPTION:Presented by Jazz at the Ballroom\, this musical revue is a twist on classic holiday tunes from Bing Crosby\, Frank Sinatra and other singing greats. Dec. 17\, 8 p.m. and Dec. 18\, 4 p.m. $35-$55.
URL:https://www.atlantaparent.com/event/holiday-in/
LOCATION:Rich Theatre at Woodruff Arts Center\, 1280 Peachtree St. NE\, Atlanta
GEO:33.79008;-84.385671
X-APPLE-STRUCTURED-LOCATION;VALUE=URI;X-ADDRESS=Rich Theatre at Woodruff Arts Center 1280 Peachtree St. NE Atlanta;X-APPLE-RADIUS=500;X-TITLE=1280 Peachtree St. NE:geo:-84.385671,33.79008
END:VEVENT
BEGIN:VEVENT
DTSTART;TZID=UTC:20221217T083000
DTEND;TZID=UTC:20221217T130000
DTSTAMP:20260421T045053
CREATED:20211021T040011Z
LAST-MODIFIED:20221017T152902Z
UID:10000969-1671265800-1671282000@www.atlantaparent.com
SUMMARY:Breakfast with Santa at Gwinnett Historic Courthouse
DESCRIPTION:Enjoy a delicious brunch with Santa for a holiday photo opportunity. Dec. 17\, 8:30-10 a.m. and 11 a.m.-1 p.m. $20; non-resident\, $30.
URL:https://www.atlantaparent.com/event/breakfast-with-santa-3/
LOCATION:Gwinnett Historic Courthouse\, 185 West Crogan St.\, Lawrenceville
GEO:33.9568262;-83.9890165
X-APPLE-STRUCTURED-LOCATION;VALUE=URI;X-ADDRESS=Gwinnett Historic Courthouse 185 West Crogan St. Lawrenceville;X-APPLE-RADIUS=500;X-TITLE=185 West Crogan St.:geo:-83.9890165,33.9568262
END:VEVENT
BEGIN:VEVENT
DTSTART;TZID=America/New_York:20221217T110000
DTEND;TZID=America/New_York:20221217T130000
DTSTAMP:20260421T045053
CREATED:20221121T152836Z
LAST-MODIFIED:20221121T152836Z
UID:10006691-1671274800-1671282000@www.atlantaparent.com
SUMMARY:Cocoa with Santa
DESCRIPTION:Have cocoa with Santa\, listen to a storytime\, make crafts\, and play games. $35; ages 2 and younger\, $15.
URL:https://www.atlantaparent.com/event/cocoa-with-santa/
LOCATION:Atlantic Station\, District Avenue\, Atlanta
END:VEVENT
BEGIN:VEVENT
DTSTART;TZID=America/New_York:20221217T200000
DTEND;TZID=America/New_York:20221217T200000
DTSTAMP:20260421T045053
CREATED:20221027T135525Z
LAST-MODIFIED:20221027T135525Z
UID:10006650-1671307200-1671307200@www.atlantaparent.com
SUMMARY:Christmas with The Atlanta Pops Orchestra Ensemble Featuring Chloë Agnew
DESCRIPTION:Enjoy the music of a classical orchestra with Chloe Agnew\, one of the original members of Celtic Woman. $35-$45.
URL:https://www.atlantaparent.com/event/christmas-with-the-atlanta-pops-orchestra-ensemble-featuring-chloe-agnew/
LOCATION:Sylvia Beard Theatre\, 2200 Buford Hwy NE\, Buford\, GA
GEO:34.1147117;-83.9964971
X-APPLE-STRUCTURED-LOCATION;VALUE=URI;X-ADDRESS=Sylvia Beard Theatre 2200 Buford Hwy NE Buford GA;X-APPLE-RADIUS=500;X-TITLE=2200 Buford Hwy NE:geo:-83.9964971,34.1147117
END:VEVENT
BEGIN:VEVENT
DTSTART;TZID=America/New_York:20221218T160000
DTEND;TZID=America/New_York:20221218T183000
DTSTAMP:20260421T045053
CREATED:20201027T164639Z
LAST-MODIFIED:20221020T170526Z
UID:10005492-1671379200-1671388200@www.atlantaparent.com
SUMMARY:The Annual Christmas Festival Concerts
DESCRIPTION:Experience the joy and beauty of Advent and Christmas with the Chancel Choir and Festival Orchestra. Dec. 18\, 4 and 6:30 p.m. Free admission.
URL:https://www.atlantaparent.com/event/christmas-festival-concerts/
LOCATION:Gainesville First United Methodist Church\, 2780 Thompson Bridge Rd.\, Gainesville
GEO:34.3476973;-83.8510296
X-APPLE-STRUCTURED-LOCATION;VALUE=URI;X-ADDRESS=Gainesville First United Methodist Church 2780 Thompson Bridge Rd. Gainesville;X-APPLE-RADIUS=500;X-TITLE=2780 Thompson Bridge Rd.:geo:-83.8510296,34.3476973
END:VEVENT
END:VCALENDAR