BEGIN:VCALENDAR
VERSION:2.0
PRODID:-//NEW Atlanta Parent - ECPv6.15.11//NONSGML v1.0//EN
CALSCALE:GREGORIAN
METHOD:PUBLISH
X-WR-CALNAME:NEW Atlanta Parent
X-ORIGINAL-URL:https://www.atlantaparent.com
X-WR-CALDESC:Events for NEW Atlanta Parent
REFRESH-INTERVAL;VALUE=DURATION:PT1H
X-Robots-Tag:noindex
X-PUBLISHED-TTL:PT1H
BEGIN:VTIMEZONE
TZID:America/New_York
BEGIN:DAYLIGHT
TZOFFSETFROM:-0500
TZOFFSETTO:-0400
TZNAME:EDT
DTSTART:20220313T070000
END:DAYLIGHT
BEGIN:STANDARD
TZOFFSETFROM:-0400
TZOFFSETTO:-0500
TZNAME:EST
DTSTART:20221106T060000
END:STANDARD
BEGIN:DAYLIGHT
TZOFFSETFROM:-0500
TZOFFSETTO:-0400
TZNAME:EDT
DTSTART:20230312T070000
END:DAYLIGHT
BEGIN:STANDARD
TZOFFSETFROM:-0400
TZOFFSETTO:-0500
TZNAME:EST
DTSTART:20231105T060000
END:STANDARD
BEGIN:DAYLIGHT
TZOFFSETFROM:-0500
TZOFFSETTO:-0400
TZNAME:EDT
DTSTART:20240310T070000
END:DAYLIGHT
BEGIN:STANDARD
TZOFFSETFROM:-0400
TZOFFSETTO:-0500
TZNAME:EST
DTSTART:20241103T060000
END:STANDARD
BEGIN:DAYLIGHT
TZOFFSETFROM:-0500
TZOFFSETTO:-0400
TZNAME:EDT
DTSTART:20250309T070000
END:DAYLIGHT
BEGIN:STANDARD
TZOFFSETFROM:-0400
TZOFFSETTO:-0500
TZNAME:EST
DTSTART:20251102T060000
END:STANDARD
END:VTIMEZONE
BEGIN:VTIMEZONE
TZID:UTC
BEGIN:STANDARD
TZOFFSETFROM:+0000
TZOFFSETTO:+0000
TZNAME:UTC
DTSTART:20220101T000000
END:STANDARD
END:VTIMEZONE
BEGIN:VEVENT
DTSTART;VALUE=DATE:20231106
DTEND;VALUE=DATE:20231107
DTSTAMP:20260422T121520
CREATED:20231025T174107Z
LAST-MODIFIED:20231025T174107Z
UID:10007586-1699228800-1699315199@www.atlantaparent.com
SUMMARY:ENOUGH! Plays to End Gun Violence
DESCRIPTION:The Alliance Theatre will join more than 50 other communities to perform play selections as art\, activism and teen voices address gun violence in our community. Free admission.
URL:https://www.atlantaparent.com/event/enough-plays-to-end-gun-violence/
LOCATION:Alliance Theatre\, 1280 Peachtree St.\, Atlanta
GEO:33.7891582;-84.3849351
X-APPLE-STRUCTURED-LOCATION;VALUE=URI;X-ADDRESS=Alliance Theatre 1280 Peachtree St. Atlanta;X-APPLE-RADIUS=500;X-TITLE=1280 Peachtree St.:geo:-84.3849351,33.7891582
END:VEVENT
BEGIN:VEVENT
DTSTART;VALUE=DATE:20231108
DTEND;VALUE=DATE:20240101
DTSTAMP:20260422T121520
CREATED:20251001T040011Z
LAST-MODIFIED:20260102T141220Z
UID:10001015-1699401600-1704067199@www.atlantaparent.com
SUMMARY:Rudolph the Red-Nosed Reindeer
DESCRIPTION:Clay Walker \nThis holiday season\, the Center for Puppetry Arts brings back the beloved Rudolph the Red-Nosed Reindeer™ (November 12–December 28)—a magical puppet adaptation of the classic 1964 stop-motion special. Join Rudolph and Hermey on a heartwarming journey of acceptance\, friendship\, and courage. Your ticket includes admission to the Festive Features special exhibition\, the Worlds of Puppetry Museum\, and a hands-on Create-A-Puppet™ Workshop\, where all patrons can make a Rudolph shadow puppet. Make it an annual tradition and celebrate the season with this joyful Atlanta holiday favorite! Tickets available at: puppet.org \n\nBased on the beloved 1964 stop-motion special\, see Rudolph and his misfit friends learn that it’s OK for them to be exactly who they are. Build a Santa String Puppet at the Create-A-Puppet Workshop. Nov. 12-Dec. 28. See website for showtimes. $28-$44.
URL:https://www.atlantaparent.com/event/rudolph-red-nosed-reindeer/
LOCATION:Center for Puppetry Arts\, 1404 Spring St. NW\, Atlanta
ATTACH;FMTTYPE=image/jpeg:https://www.atlantaparent.com/wp-content/uploads/2021/10/02-Young-Rudolph-with-Red-Nosed-Reindeer-PHOTO-BY-CLAY-WALKER-b-e1666270633133.jpg
GEO:33.7927782;-84.3897011
X-APPLE-STRUCTURED-LOCATION;VALUE=URI;X-ADDRESS=Center for Puppetry Arts 1404 Spring St. NW Atlanta;X-APPLE-RADIUS=500;X-TITLE=1404 Spring St. NW:geo:-84.3897011,33.7927782
END:VEVENT
BEGIN:VEVENT
DTSTART;TZID=America/New_York:20231108T190000
DTEND;TZID=America/New_York:20231108T190000
DTSTAMP:20260422T121520
CREATED:20230708T150354Z
LAST-MODIFIED:20231018T173200Z
UID:10006442-1699470000-1699470000@www.atlantaparent.com
SUMMARY:Encanto: The Sing-Along Family Concert
DESCRIPTION:The award-winning film comes to life as a live concert with an on-stage band. $30+.
URL:https://www.atlantaparent.com/event/encanto-the-sing-along-film-concert/
LOCATION:Ameris Bank Amphitheatre\, 2200 Encore Pkwy.\, Alpharetta
ATTACH;FMTTYPE=image/png:https://www.atlantaparent.com/wp-content/uploads/2022/07/Band-2-e1697650307242.png
END:VEVENT
BEGIN:VEVENT
DTSTART;VALUE=DATE:20231109
DTEND;VALUE=DATE:20231112
DTSTAMP:20260422T121520
CREATED:20230930T143526Z
LAST-MODIFIED:20231012T160119Z
UID:10006578-1699488000-1699747199@www.atlantaparent.com
SUMMARY:Mistletoe Market
DESCRIPTION:Shop 50 specialty merchants for a premiere holiday shopping experience at this Junior League of Cobb-Marietta fundraiser. Nov. 9\, 6-9 p.m.; Nov. 10\, 9 a.m.-6 p.m. and Nov. 11\, 9 a.m.-4 p.m. $8-$25.
URL:https://www.atlantaparent.com/event/mistletoe-market/
LOCATION:Cobb County Civic Center\, 548 S. Marietta Pkwy.\, Marietta
GEO:33.942395;-84.537199
X-APPLE-STRUCTURED-LOCATION;VALUE=URI;X-ADDRESS=Cobb County Civic Center 548 S. Marietta Pkwy. Marietta;X-APPLE-RADIUS=500;X-TITLE=548 S. Marietta Pkwy.:geo:-84.537199,33.942395
END:VEVENT
BEGIN:VEVENT
DTSTART;VALUE=DATE:20231110
DTEND;VALUE=DATE:20231225
DTSTAMP:20260422T121520
CREATED:20251030T182724Z
LAST-MODIFIED:20251107T155051Z
UID:10004607-1699574400-1703462399@www.atlantaparent.com
SUMMARY:Santa Photo Experience
DESCRIPTION:Visit with Santa and take photos at this spot featuring whimsical décor. Pet Photos every Monday. Reservations recommended. $39+.
URL:https://www.atlantaparent.com/event/santas-arrival-2/
LOCATION:Town Center at Cobb\, 400 Ernest W. Barrett Pkwy. NW\, Kennesaw
GEO:34.018009;-84.5642655
X-APPLE-STRUCTURED-LOCATION;VALUE=URI;X-ADDRESS=Town Center at Cobb 400 Ernest W. Barrett Pkwy. NW Kennesaw;X-APPLE-RADIUS=500;X-TITLE=400 Ernest W. Barrett Pkwy. NW:geo:-84.5642655,34.018009
END:VEVENT
BEGIN:VEVENT
DTSTART;VALUE=DATE:20231110
DTEND;VALUE=DATE:20231227
DTSTAMP:20260422T121520
CREATED:20230930T124651Z
LAST-MODIFIED:20231012T170757Z
UID:10006573-1699574400-1703635199@www.atlantaparent.com
SUMMARY:Festival of Trees
DESCRIPTION:View beautifully decorated trees and support local nonprofits lining the Belk Wing. Nov. 10-Dec. 26.
URL:https://www.atlantaparent.com/event/festival-of-trees-2/
LOCATION:Town Center at Cobb\, 400 Ernest W. Barrett Pkwy. NW\, Kennesaw
GEO:34.018009;-84.5642655
X-APPLE-STRUCTURED-LOCATION;VALUE=URI;X-ADDRESS=Town Center at Cobb 400 Ernest W. Barrett Pkwy. NW Kennesaw;X-APPLE-RADIUS=500;X-TITLE=400 Ernest W. Barrett Pkwy. NW:geo:-84.5642655,34.018009
END:VEVENT
BEGIN:VEVENT
DTSTART;VALUE=DATE:20231110
DTEND;VALUE=DATE:20240102
DTSTAMP:20260422T121520
CREATED:20231008T040042Z
LAST-MODIFIED:20231020T153559Z
UID:10004612-1699574400-1704153599@www.atlantaparent.com
SUMMARY:Christmas at Gaylord Opryland
DESCRIPTION:Step inside a holiday showplace featuring larger-than-life sculptures of ICE! featuring The Polar Express\, zoom down frozen slides\, visit with Santa and more. See website for full schedule. Pricing varies by package.
URL:https://www.atlantaparent.com/event/a-country-christmas-2/
LOCATION:Gaylord Opryland Resort\, 2800 Opryland Dr.\, Nashville\, Tennessee
ATTACH;FMTTYPE=image/jpeg:https://www.atlantaparent.com/wp-content/uploads/2019/11/Gaylord-Tubing-b-e1603475074455.jpg
GEO:36.2114233;-86.6946986
X-APPLE-STRUCTURED-LOCATION;VALUE=URI;X-ADDRESS=Gaylord Opryland Resort 2800 Opryland Dr. Nashville Tennessee;X-APPLE-RADIUS=500;X-TITLE=2800 Opryland Dr.:geo:-86.6946986,36.2114233
END:VEVENT
BEGIN:VEVENT
DTSTART;TZID=America/New_York:20231111T090000
DTEND;TZID=America/New_York:20231111T150000
DTSTAMP:20260422T121520
CREATED:20231011T203855Z
LAST-MODIFIED:20231012T160319Z
UID:10006032-1699693200-1699714800@www.atlantaparent.com
SUMMARY:Holiday Festival
DESCRIPTION:This juried show features arts and crafts from artisans\, as well as a kid’s zone\, photos with Santa\, food trucks and more.
URL:https://www.atlantaparent.com/event/holiday-festival-2/
LOCATION:Dunwoody United Methodist Church\, 1548 Mt. Vernon Road\, Dunwoody
GEO:33.9455843;-84.3364917
X-APPLE-STRUCTURED-LOCATION;VALUE=URI;X-ADDRESS=Dunwoody United Methodist Church 1548 Mt. Vernon Road Dunwoody;X-APPLE-RADIUS=500;X-TITLE=1548 Mt. Vernon Road:geo:-84.3364917,33.9455843
END:VEVENT
BEGIN:VEVENT
DTSTART;TZID=America/New_York:20231111T093000
DTEND;TZID=America/New_York:20231111T103000
DTSTAMP:20260422T121520
CREATED:20231018T184257Z
LAST-MODIFIED:20231018T184257Z
UID:10007554-1699695000-1699698600@www.atlantaparent.com
SUMMARY:2023 Georgia Veterans Day Observance Ceremony
DESCRIPTION:This event will include military and veteran speakers honoring the nation’s men and women in uniform prior to the parade. Free admission.
URL:https://www.atlantaparent.com/event/2023-georgia-veterans-day-observance-ceremony/
LOCATION:Woodruff Arts Center\, 1280 Peachtree St. NE\, Atlanta
GEO:33.7891582;-84.3849351
X-APPLE-STRUCTURED-LOCATION;VALUE=URI;X-ADDRESS=Woodruff Arts Center 1280 Peachtree St. NE Atlanta;X-APPLE-RADIUS=500;X-TITLE=1280 Peachtree St. NE:geo:-84.3849351,33.7891582
END:VEVENT
BEGIN:VEVENT
DTSTART;TZID=America/New_York:20231111T100000
DTEND;TZID=America/New_York:20231111T110000
DTSTAMP:20260422T121520
CREATED:20231014T161532Z
LAST-MODIFIED:20231018T183005Z
UID:10006061-1699696800-1699700400@www.atlantaparent.com
SUMMARY:Veterans Day Ceremony
DESCRIPTION:Honor all who served with music\, a guest speaker and invocation.
URL:https://www.atlantaparent.com/event/veterans-day-ceremony-2/
LOCATION:Brook Run Park\, 4770 N. Peachtree Rd.\, Dunwoody
GEO:33.9320923;-84.3008638
X-APPLE-STRUCTURED-LOCATION;VALUE=URI;X-ADDRESS=Brook Run Park 4770 N. Peachtree Rd. Dunwoody;X-APPLE-RADIUS=500;X-TITLE=4770 N. Peachtree Rd.:geo:-84.3008638,33.9320923
END:VEVENT
BEGIN:VEVENT
DTSTART;TZID=America/New_York:20231112T180000
DTEND;TZID=America/New_York:20231112T180000
DTSTAMP:20260422T121520
CREATED:20230816T183514Z
LAST-MODIFIED:20231018T174734Z
UID:10002114-1699812000-1699812000@www.atlantaparent.com
SUMMARY:Peppa Pig Sing-Along Party
DESCRIPTION:Sing along at this interactive show with Peppa\, George\, Mummy Pig and Daddy Pig. $25+.
URL:https://www.atlantaparent.com/event/peppa-pigs-surprise/
LOCATION:Fox Theatre\, 660 Peachtree St. NE\, Atlanta
ATTACH;FMTTYPE=image/png:https://www.atlantaparent.com/wp-content/uploads/2017/08/RETOUCH_LEN0601-3-e1697651235493.png
GEO:33.772731;-84.385022
X-APPLE-STRUCTURED-LOCATION;VALUE=URI;X-ADDRESS=Fox Theatre 660 Peachtree St. NE Atlanta;X-APPLE-RADIUS=500;X-TITLE=660 Peachtree St. NE:geo:-84.385022,33.772731
END:VEVENT
BEGIN:VEVENT
DTSTART;VALUE=DATE:20231116
DTEND;VALUE=DATE:20231224
DTSTAMP:20260422T121520
CREATED:20231023T040040Z
LAST-MODIFIED:20231101T134259Z
UID:10002445-1700092800-1703375999@www.atlantaparent.com
SUMMARY:Holiday Art Fair
DESCRIPTION:Shop locally-crafted gifts and holiday décor from 100 local artists. Nov. 16-Dec. 23. Nov. hours: Tues.-Sat. 10 a.m.-5 p.m. Dec. hours: Mon.-Sat. 10 a.m.-5 p.m. and Sun. noon-5 p.m.
URL:https://www.atlantaparent.com/event/holiday-artists-market/
LOCATION:Spruill Gallery\, 4681 Ashford Dunwoody Road\, Atlanta
GEO:33.9312851;-84.3370394
X-APPLE-STRUCTURED-LOCATION;VALUE=URI;X-ADDRESS=Spruill Gallery 4681 Ashford Dunwoody Road Atlanta;X-APPLE-RADIUS=500;X-TITLE=4681 Ashford Dunwoody Road:geo:-84.3370394,33.9312851
END:VEVENT
BEGIN:VEVENT
DTSTART;VALUE=DATE:20231116
DTEND;VALUE=DATE:20240107
DTSTAMP:20260422T121520
CREATED:20231102T170849Z
LAST-MODIFIED:20240102T134251Z
UID:10006071-1700092800-1704585599@www.atlantaparent.com
SUMMARY:Winter Wonderland Spectacular
DESCRIPTION:This journey through winter includes visiting Santa’s luxurious winter palace\, glowing Northern Lights and more. $35-$50.
URL:https://www.atlantaparent.com/event/winterland/
LOCATION:Eclipso Atlanta\, 550 Somerset Terrace NE\, Atlanta
ATTACH;FMTTYPE=image/jpeg:https://www.atlantaparent.com/wp-content/uploads/2021/10/gZh6XsyQ-1024x576-1.jpg
GEO:33.7688859;-84.3615505
X-APPLE-STRUCTURED-LOCATION;VALUE=URI;X-ADDRESS=Eclipso Atlanta 550 Somerset Terrace NE Atlanta;X-APPLE-RADIUS=500;X-TITLE=550 Somerset Terrace NE:geo:-84.3615505,33.7688859
END:VEVENT
BEGIN:VEVENT
DTSTART;VALUE=DATE:20231117
DTEND;VALUE=DATE:20231119
DTSTAMP:20260422T121520
CREATED:20231002T133542Z
LAST-MODIFIED:20231020T150158Z
UID:10006656-1700179200-1700351999@www.atlantaparent.com
SUMMARY:Roswell Performing Arts
DESCRIPTION:  \nBuddy\, who’s been raised by one of Santa’s elves\, travels to New York City to find his birth father in this musical based on the movie. Nov. 17\, 7 p.m. and Nov. 18\, 2 and 7 p.m. $13.50.
URL:https://www.atlantaparent.com/event/roswell-performing-arts/
LOCATION:Roswell Cultural Arts Center\, 950 Forrest St.\, Roswell
ATTACH;FMTTYPE=image/png:https://www.atlantaparent.com/wp-content/uploads/2022/10/RPA-Live-Performance-Atlanta-Parent-e1666272636693.png
GEO:34.0234904;-84.3578365
X-APPLE-STRUCTURED-LOCATION;VALUE=URI;X-ADDRESS=Roswell Cultural Arts Center 950 Forrest St. Roswell;X-APPLE-RADIUS=500;X-TITLE=950 Forrest St.:geo:-84.3578365,34.0234904
END:VEVENT
BEGIN:VEVENT
DTSTART;VALUE=DATE:20231117
DTEND;VALUE=DATE:20240108
DTSTAMP:20260422T121520
CREATED:20231023T152738Z
LAST-MODIFIED:20231023T152738Z
UID:10007579-1700179200-1704671999@www.atlantaparent.com
SUMMARY:Shadrack’s Christmas Wonderland
DESCRIPTION:Chad Branton \nInfuse your holiday season with Christmas cheer at this drive-thru light show featuring cutting-edge technology\, custom-built light displays and more in partnership with Cobb County PARKS. $34.95-$39.95.
URL:https://www.atlantaparent.com/event/shadracks-christmas-wonderland/
LOCATION:Jim R. Miller Park\, 2245 Callaway Rd\, Marietta
ATTACH;FMTTYPE=image/jpeg:https://www.atlantaparent.com/wp-content/uploads/2023/10/Girl-in-car-2-scaled-e1698074829383.jpg
GEO:33.8987756;-84.5907024
X-APPLE-STRUCTURED-LOCATION;VALUE=URI;X-ADDRESS=Jim R. Miller Park 2245 Callaway Rd Marietta;X-APPLE-RADIUS=500;X-TITLE=2245 Callaway Rd:geo:-84.5907024,33.8987756
END:VEVENT
BEGIN:VEVENT
DTSTART;VALUE=DATE:20231118
DTEND;VALUE=DATE:20231225
DTSTAMP:20260422T121520
CREATED:20241012T154924Z
LAST-MODIFIED:20251022T180943Z
UID:10005523-1700265600-1703462399@www.atlantaparent.com
SUMMARY:Visit with Santa
DESCRIPTION:Enjoy a visit with an African American Santa. Nov. 22-Dec. 24. See website for hours. Photo packages: $37+.
URL:https://www.atlantaparent.com/event/visit-with-santa-2/
LOCATION:Greenbriar Mall\, 2841 Greenbriar Parkway SW\, Atlanta
GEO:33.6877868;-84.4934528
X-APPLE-STRUCTURED-LOCATION;VALUE=URI;X-ADDRESS=Greenbriar Mall 2841 Greenbriar Parkway SW Atlanta;X-APPLE-RADIUS=500;X-TITLE=2841 Greenbriar Parkway SW:geo:-84.4934528,33.6877868
END:VEVENT
BEGIN:VEVENT
DTSTART;VALUE=DATE:20231118
DTEND;VALUE=DATE:20240101
DTSTAMP:20260422T121520
CREATED:20251009T182028Z
LAST-MODIFIED:20251027T134537Z
UID:10005570-1700265600-1704067199@www.atlantaparent.com
SUMMARY:Holiday Lights at Veteran's Park
DESCRIPTION:View lights at this two-mile drive-thru show. Nov. 22-Dec. 31. See website for schedule. $20 per car.
URL:https://www.atlantaparent.com/event/holiday-lights-at-veterans-park/
LOCATION:Veteran’s Park\, 7345 Cumming Hwy.\, Canton
GEO:34.2508079;-84.3712265
X-APPLE-STRUCTURED-LOCATION;VALUE=URI;X-ADDRESS=Veteran’s Park 7345 Cumming Hwy. Canton;X-APPLE-RADIUS=500;X-TITLE=7345 Cumming Hwy.:geo:-84.3712265,34.2508079
END:VEVENT
BEGIN:VEVENT
DTSTART;VALUE=DATE:20231118
DTEND;VALUE=DATE:20240114
DTSTAMP:20260422T121520
CREATED:20231014T040031Z
LAST-MODIFIED:20231020T144142Z
UID:10003306-1700265600-1705190399@www.atlantaparent.com
SUMMARY:Festival of the Trees
DESCRIPTION:A lighted display of trees throughout the museum. $18; ages 2-12\, $12; ages 1 and younger\, free.
URL:https://www.atlantaparent.com/event/festival-of-the-trees/
LOCATION:Southeastern Railway Museum\, 3595 Buford Highway\, Duluth
GEO:33.989078;-84.1558636
X-APPLE-STRUCTURED-LOCATION;VALUE=URI;X-ADDRESS=Southeastern Railway Museum 3595 Buford Highway Duluth;X-APPLE-RADIUS=500;X-TITLE=3595 Buford Highway:geo:-84.1558636,33.989078
END:VEVENT
BEGIN:VEVENT
DTSTART;TZID=America/New_York:20231118T143000
DTEND;TZID=America/New_York:20231118T143000
DTSTAMP:20260422T121520
CREATED:20231107T145556Z
LAST-MODIFIED:20231115T190144Z
UID:10007657-1700317800-1700317800@www.atlantaparent.com
SUMMARY:Virtual: Puppet Playdate
DESCRIPTION:On the third Saturday of each month\, watch an all-new puppet show\, along with arts and crafts\, music and special guests from the Center for Puppetry Arts. $10.
URL:https://www.atlantaparent.com/event/virtual-the-velveteen-rabbit/2023-11-18/
END:VEVENT
BEGIN:VEVENT
DTSTART;VALUE=DATE:20231119
DTEND;VALUE=DATE:20240101
DTSTAMP:20260422T121520
CREATED:20231002T174538Z
LAST-MODIFIED:20231020T142340Z
UID:10005547-1700352000-1704067199@www.atlantaparent.com
SUMMARY:Holiday Magic in Alpharetta
DESCRIPTION:Experience the holiday magic in Alpharetta\, with a chance to win a getaway package worth $590! Immerse yourself in the festive atmosphere with twinkling lights and warm vibes. Explore unique shops\, indulge in delectable dining\, and enjoy family-friendly activities like ice skating and immersive gaming. Extend the joy with a cozy stay at various hotels. For more details and to enter\, visit awesomealpharetta.com. Contest runs until December 31.
URL:https://www.atlantaparent.com/event/snow-spectacle/
LOCATION:Village Green\, 2 Park Plaza\, Alpharetta
ATTACH;FMTTYPE=image/jpeg:https://www.atlantaparent.com/wp-content/uploads/2020/11/ACVBholiday_altparent-scaled-e1697811792232.jpg
END:VEVENT
BEGIN:VEVENT
DTSTART;VALUE=DATE:20231119
DTEND;VALUE=DATE:20231120
DTSTAMP:20260422T121520
CREATED:20231103T182011Z
LAST-MODIFIED:20231103T182011Z
UID:10007616-1700352000-1700438399@www.atlantaparent.com
SUMMARY:Play & Dance Into the Holidays
DESCRIPTION:Enjoy an all-day extravaganza with inspired slime vats\, coloring pages\, beautiful ballerinas and more inspired by Atlanta Ballet’s The Nutcracker. $39; Elmer’s Kitchen Tour\, $15.
URL:https://www.atlantaparent.com/event/play-dance-into-the-holidays/
LOCATION:Sloomoo Institute\, 3637 Peachtree Rd. NE\, Atlanta
GEO:33.8529711;-84.3583126
X-APPLE-STRUCTURED-LOCATION;VALUE=URI;X-ADDRESS=Sloomoo Institute 3637 Peachtree Rd. NE Atlanta;X-APPLE-RADIUS=500;X-TITLE=3637 Peachtree Rd. NE:geo:-84.3583126,33.8529711
END:VEVENT
BEGIN:VEVENT
DTSTART;VALUE=DATE:20231120
DTEND;VALUE=DATE:20231123
DTSTAMP:20260422T121520
CREATED:20231017T155045Z
LAST-MODIFIED:20231018T171010Z
UID:10005447-1700438400-1700697599@www.atlantaparent.com
SUMMARY:Guided Hike
DESCRIPTION:Lexi Newhouse \nTake in the views of the river with a guided hike on the River Boardwalk trail. Nov. 20-22\, 11 a.m. $15; ages 13-18\, $11; ages 3-12\, $9; ages 2 and younger\, free.
URL:https://www.atlantaparent.com/event/fall-break-guided-hikes/
LOCATION:Chattahoochee Nature Center\, 9135 Willeo Road\, Roswell
ATTACH;FMTTYPE=image/jpeg:https://www.atlantaparent.com/wp-content/uploads/2020/10/IMG_5763_LexiNewhouse_Fall-Break-Guided-Hikes-scaled-e1603296754752.jpg
GEO:34.0038514;-84.38312
X-APPLE-STRUCTURED-LOCATION;VALUE=URI;X-ADDRESS=Chattahoochee Nature Center 9135 Willeo Road Roswell;X-APPLE-RADIUS=500;X-TITLE=9135 Willeo Road:geo:-84.38312,34.0038514
END:VEVENT
BEGIN:VEVENT
DTSTART;VALUE=DATE:20231120
DTEND;VALUE=DATE:20231225
DTSTAMP:20260422T121520
CREATED:20251002T040034Z
LAST-MODIFIED:20251103T173323Z
UID:10003288-1700438400-1703462399@www.atlantaparent.com
SUMMARY:Santa at Avalon
DESCRIPTION:Enjoy festive photo ops with Santa at the North Pole-inspired cottage. Reservation required. Nov. 24-Dec. 24. See website for schedule. $35+. \n\nStory Time with Santa: This special event is held on Monday nights. Tickets on sale Nov. 6 at 10 a.m.\nBreakfast with Santa: Enjoy a breakfast meal with Santa at Chick-fil-A or Oak Steakhouse. Tickets on sale Nov. 6 at 10 a.m.
URL:https://www.atlantaparent.com/event/storytime-with-santa/
LOCATION:Santa’s Cottage in Palmer Plaza\, 400 Avalon Blvd.\, Alpharetta
END:VEVENT
BEGIN:VEVENT
DTSTART;VALUE=DATE:20231123
DTEND;VALUE=DATE:20231224
DTSTAMP:20260422T121520
CREATED:20251001T040041Z
LAST-MODIFIED:20251002T173406Z
UID:10003927-1700697600-1703375999@www.atlantaparent.com
SUMMARY:Mountain Country Christmas in Lights
DESCRIPTION:This fairground transforms into a spectacular\, magical holiday light show with Christmas music\, arts and crafts\, food\, fun\, entertainment\, photo opportunities and a visit with Santa. Nov. 27-Dec. 23. See website for schedule. $9; ages 12 and younger\, free.
URL:https://www.atlantaparent.com/event/country-christmas-in-lights/
LOCATION:Georgia Mountain Fairgrounds\, 1311 Music Hall Road\, Hiawassee
GEO:34.9679896;-83.7739687
X-APPLE-STRUCTURED-LOCATION;VALUE=URI;X-ADDRESS=Georgia Mountain Fairgrounds 1311 Music Hall Road Hiawassee;X-APPLE-RADIUS=500;X-TITLE=1311 Music Hall Road:geo:-83.7739687,34.9679896
END:VEVENT
BEGIN:VEVENT
DTSTART;VALUE=DATE:20231123
DTEND;VALUE=DATE:20231231
DTSTAMP:20260422T121520
CREATED:20251001T161648Z
LAST-MODIFIED:20251119T165925Z
UID:10003260-1700697600-1703980799@www.atlantaparent.com
SUMMARY:A Country Christmas
DESCRIPTION:Take a drive or hayride through beautiful Christmas lights\, visit with Santa and his reindeer from Thur.-Sun.\, meet the animals at the petting zoo\, and taste s’mores. Nov. 25-Dec. 30. See website for schedule. $25-$35; hayride\, $10.
URL:https://www.atlantaparent.com/event/pettit-creek-farms-christmas-lights/
LOCATION:Pettit Creek Farms\, 337 Cassville Rd.\, Cartersville
ATTACH;FMTTYPE=image/png:https://www.atlantaparent.com/wp-content/uploads/2018/11/Pettit-Creek-e1572878673657.png
GEO:34.1854003;-84.816038
X-APPLE-STRUCTURED-LOCATION;VALUE=URI;X-ADDRESS=Pettit Creek Farms 337 Cassville Rd. Cartersville;X-APPLE-RADIUS=500;X-TITLE=337 Cassville Rd.:geo:-84.816038,34.1854003
END:VEVENT
BEGIN:VEVENT
DTSTART;VALUE=DATE:20231123
DTEND;VALUE=DATE:20240101
DTSTAMP:20260422T121521
CREATED:20251010T202354Z
LAST-MODIFIED:20251027T135010Z
UID:10000800-1700697600-1704067199@www.atlantaparent.com
SUMMARY:Lights of Life
DESCRIPTION:Tons of holiday lights on display around the campus\, plus concessions\, pony rides\, train rides and a petting zoo. $10 per car; buses\, $20.
URL:https://www.atlantaparent.com/event/lights-of-life/
LOCATION:Life University\, 1269 Barclay Cir.\, Marietta
ATTACH;FMTTYPE=image/jpeg:https://www.atlantaparent.com/wp-content/uploads/2019/10/Lights-of-LIFE-7-scaled-e1605798357166.jpg
END:VEVENT
BEGIN:VEVENT
DTSTART;VALUE=DATE:20231124
DTEND;VALUE=DATE:20231222
DTSTAMP:20260422T121521
CREATED:20231020T144512Z
LAST-MODIFIED:20231020T144512Z
UID:10007557-1700784000-1703203199@www.atlantaparent.com
SUMMARY:Festival of Trees
DESCRIPTION:Vote for your favorite decorated tree by donating money\, canned or dried food or toys. Nov. 24-Dec. 21. Mon.-Fri. 8 a.m.-5 p.m. Free admission.
URL:https://www.atlantaparent.com/event/festival-of-trees-3/
LOCATION:Snellville City Hall\, 2342 Oak Rd. SW\, Snellville
GEO:33.8594929;-84.0145658
X-APPLE-STRUCTURED-LOCATION;VALUE=URI;X-ADDRESS=Snellville City Hall 2342 Oak Rd. SW Snellville;X-APPLE-RADIUS=500;X-TITLE=2342 Oak Rd. SW:geo:-84.0145658,33.8594929
END:VEVENT
BEGIN:VEVENT
DTSTART;VALUE=DATE:20231124
DTEND;VALUE=DATE:20231225
DTSTAMP:20260422T121521
CREATED:20251001T165341Z
LAST-MODIFIED:20251002T173517Z
UID:10005496-1700784000-1703462399@www.atlantaparent.com
SUMMARY:Holiday Special Rides
DESCRIPTION:This festive one- or four-hour train ride includes holiday music\, “The Night Before Christmas” storytelling and a chance to see Santa Claus. Nov. 28-Dec. 24. See website for schedule. $54.99; ages 2-12\, $42.99; ages 1 and younger\, free.
URL:https://www.atlantaparent.com/event/santa-express/
LOCATION:Blue Ridge Scenic Railway\, 241 Depot Street\, Blue Ridge
GEO:34.865533;-84.324726
X-APPLE-STRUCTURED-LOCATION;VALUE=URI;X-ADDRESS=Blue Ridge Scenic Railway 241 Depot Street Blue Ridge;X-APPLE-RADIUS=500;X-TITLE=241 Depot Street:geo:-84.324726,34.865533
END:VEVENT
BEGIN:VEVENT
DTSTART;VALUE=DATE:20231124
DTEND;VALUE=DATE:20231224
DTSTAMP:20260422T121521
CREATED:20251002T043345Z
LAST-MODIFIED:20251201T135250Z
UID:10004552-1700784000-1703375999@www.atlantaparent.com
SUMMARY:Christmas Canteen
DESCRIPTION:This holiday tradition shows the magic of Christmas with songs\, comic sketches and trips down memory lane. Nov. 28-Dec. 21. See website for showtimes. $35.74-$95.10.
URL:https://www.atlantaparent.com/event/christmas-canteen/
LOCATION:Lawrenceville Arts Center\, 125 North Clayton St.\, Lawrenceville
ATTACH;FMTTYPE=image/jpeg:https://www.atlantaparent.com/wp-content/uploads/2023/10/899A4360-scaled-e1700066574491.jpg
GEO:33.956993;-83.9879364
X-APPLE-STRUCTURED-LOCATION;VALUE=URI;X-ADDRESS=Lawrenceville Arts Center 125 North Clayton St. Lawrenceville;X-APPLE-RADIUS=500;X-TITLE=125 North Clayton St.:geo:-83.9879364,33.956993
END:VEVENT
BEGIN:VEVENT
DTSTART;VALUE=DATE:20231124
DTEND;VALUE=DATE:20231225
DTSTAMP:20260422T121521
CREATED:20241003T124850Z
LAST-MODIFIED:20251020T212735Z
UID:10004784-1700784000-1703462399@www.atlantaparent.com
SUMMARY:Tea with Santa at St. Regis
DESCRIPTION:Enjoy a festive holiday atmosphere with delectable holiday teas and treats and a special visit from Santa. Nov. 28-Dec. 24. See website for schedule. $110; ages 3-10\, $95; ages 2 and younger\, free.
URL:https://www.atlantaparent.com/event/45183/
LOCATION:St. Regis Atlanta\, 88 West Paces Ferry Road\, Atlanta
ATTACH;FMTTYPE=image/jpeg:https://www.atlantaparent.com/wp-content/uploads/2020/10/CB59D276-F4FE-46F1-B915-83743FEF377C-scaled-e1606325255407.jpg
GEO:33.8398059;-84.3826416
X-APPLE-STRUCTURED-LOCATION;VALUE=URI;X-ADDRESS=St. Regis Atlanta 88 West Paces Ferry Road Atlanta;X-APPLE-RADIUS=500;X-TITLE=88 West Paces Ferry Road:geo:-84.3826416,33.8398059
END:VEVENT
END:VCALENDAR