BEGIN:VCALENDAR
VERSION:2.0
PRODID:-//NEW Atlanta Parent - ECPv6.15.11//NONSGML v1.0//EN
CALSCALE:GREGORIAN
METHOD:PUBLISH
X-WR-CALNAME:NEW Atlanta Parent
X-ORIGINAL-URL:https://www.atlantaparent.com
X-WR-CALDESC:Events for NEW Atlanta Parent
REFRESH-INTERVAL;VALUE=DURATION:PT1H
X-Robots-Tag:noindex
X-PUBLISHED-TTL:PT1H
BEGIN:VTIMEZONE
TZID:America/New_York
BEGIN:DAYLIGHT
TZOFFSETFROM:-0500
TZOFFSETTO:-0400
TZNAME:EDT
DTSTART:20220313T070000
END:DAYLIGHT
BEGIN:STANDARD
TZOFFSETFROM:-0400
TZOFFSETTO:-0500
TZNAME:EST
DTSTART:20221106T060000
END:STANDARD
BEGIN:DAYLIGHT
TZOFFSETFROM:-0500
TZOFFSETTO:-0400
TZNAME:EDT
DTSTART:20230312T070000
END:DAYLIGHT
BEGIN:STANDARD
TZOFFSETFROM:-0400
TZOFFSETTO:-0500
TZNAME:EST
DTSTART:20231105T060000
END:STANDARD
BEGIN:DAYLIGHT
TZOFFSETFROM:-0500
TZOFFSETTO:-0400
TZNAME:EDT
DTSTART:20240310T070000
END:DAYLIGHT
BEGIN:STANDARD
TZOFFSETFROM:-0400
TZOFFSETTO:-0500
TZNAME:EST
DTSTART:20241103T060000
END:STANDARD
BEGIN:DAYLIGHT
TZOFFSETFROM:-0500
TZOFFSETTO:-0400
TZNAME:EDT
DTSTART:20250309T070000
END:DAYLIGHT
BEGIN:STANDARD
TZOFFSETFROM:-0400
TZOFFSETTO:-0500
TZNAME:EST
DTSTART:20251102T060000
END:STANDARD
END:VTIMEZONE
BEGIN:VTIMEZONE
TZID:UTC
BEGIN:STANDARD
TZOFFSETFROM:+0000
TZOFFSETTO:+0000
TZNAME:UTC
DTSTART:20220101T000000
END:STANDARD
END:VTIMEZONE
BEGIN:VEVENT
DTSTART;TZID=America/New_York:20230523T130000
DTEND;TZID=America/New_York:20230523T130000
DTSTAMP:20260419T214409
CREATED:20230519T181142Z
LAST-MODIFIED:20230519T181142Z
UID:10006878-1684846800-1684846800@www.atlantaparent.com
SUMMARY:World Turtle Day
DESCRIPTION:Join author Audrey Galex\, as she reads her new book “Turtle Rocks\,” check live turtle traps\, explore the important role turtles play in the local ecosystem and more to celebrate World Turtle Day.
URL:https://www.atlantaparent.com/event/world-turtle-day/
LOCATION:Newman Wetlands Center\, 2755 Freeman Rd.\, Hampton\, GA\, United States
GEO:33.4719875;-84.3060011
X-APPLE-STRUCTURED-LOCATION;VALUE=URI;X-ADDRESS=Newman Wetlands Center 2755 Freeman Rd. Hampton GA United States;X-APPLE-RADIUS=500;X-TITLE=2755 Freeman Rd.:geo:-84.3060011,33.4719875
END:VEVENT
BEGIN:VEVENT
DTSTART;VALUE=DATE:20230526
DTEND;VALUE=DATE:20230529
DTSTAMP:20260419T214409
CREATED:20230524T142537Z
LAST-MODIFIED:20230524T142537Z
UID:10006887-1685059200-1685318399@www.atlantaparent.com
SUMMARY:Memorial Day Weekend at Lanier Islands
DESCRIPTION:This Georgia lakeside resort features accommodation packages\, themed nightly buffets\, poolside activities\, fireworks and more.
URL:https://www.atlantaparent.com/event/memorial-day-weekend-at-lanier-islands/
LOCATION:Lanier Islands Resort\, 7000 Lanier Islands Pkwy.\, Buford\, GA\, 30518\, United States
GEO:34.1779005;-84.0196753
X-APPLE-STRUCTURED-LOCATION;VALUE=URI;X-ADDRESS=Lanier Islands Resort 7000 Lanier Islands Pkwy. Buford GA 30518 United States;X-APPLE-RADIUS=500;X-TITLE=7000 Lanier Islands Pkwy.:geo:-84.0196753,34.1779005
END:VEVENT
BEGIN:VEVENT
DTSTART;VALUE=DATE:20230526
DTEND;VALUE=DATE:20240102
DTSTAMP:20260419T214409
CREATED:20240101T203518Z
LAST-MODIFIED:20240226T133422Z
UID:10006836-1685059200-1704153599@www.atlantaparent.com
SUMMARY:Jurassic World Live Tour
DESCRIPTION:Join forces with a team of scientists to help save humans and dinosaurs from the terrifying Indominus Rex. Feb. 23\, 7:30 p.m.; Feb. 24\, 11 a.m.\, 3 and 7 p.m. and Feb. 25\, 1 p.m. $20-$125+.
URL:https://www.atlantaparent.com/event/jurassic-world-the-exhibition/
LOCATION:Gas South District\, 6400 Sugarloaf Parkway\, Duluth
ATTACH;FMTTYPE=image/jpeg:https://www.atlantaparent.com/wp-content/uploads/2023/04/raptor-interacts-with-audience-1024x512-1.jpg
GEO:33.9913579;-84.0938603
X-APPLE-STRUCTURED-LOCATION;VALUE=URI;X-ADDRESS=Gas South District 6400 Sugarloaf Parkway Duluth;X-APPLE-RADIUS=500;X-TITLE=6400 Sugarloaf Parkway:geo:-84.0938603,33.9913579
END:VEVENT
BEGIN:VEVENT
DTSTART;TZID=UTC:20230526T180000
DTEND;TZID=UTC:20230526T210000
DTSTAMP:20260419T214409
CREATED:20210505T005434Z
LAST-MODIFIED:20230508T142958Z
UID:10002602-1685124000-1685134800@www.atlantaparent.com
SUMMARY:Fridays -N- Duluth
DESCRIPTION:Experience exotic flavors from different food trucks and listen to live entertainment. Free admission.
URL:https://www.atlantaparent.com/event/fridays-n-duluth/2023-05-26/
LOCATION:Downtown Duluth\, 3142 Hill Street NW\, Duluth
GEO:34.0028094;-84.1464369
X-APPLE-STRUCTURED-LOCATION;VALUE=URI;X-ADDRESS=Downtown Duluth 3142 Hill Street NW Duluth;X-APPLE-RADIUS=500;X-TITLE=3142 Hill Street NW:geo:-84.1464369,34.0028094
END:VEVENT
BEGIN:VEVENT
DTSTART;TZID=America/New_York:20230526T193000
DTEND;TZID=America/New_York:20230526T213000
DTSTAMP:20260419T214409
CREATED:20200605T004102Z
LAST-MODIFIED:20230508T142402Z
UID:10004161-1685129400-1685136600@www.atlantaparent.com
SUMMARY:Norcross Concerts in the Park at Thrasher Park
DESCRIPTION:Enjoy free music and purchase food from local restaurants. Donate canned food and non-perishable items to CAN-Do Food Drive. 7:30-9:30 p.m.
URL:https://www.atlantaparent.com/event/norcross-concerts-in-the-park-at-thrasher-park/2023-05-26/
LOCATION:Thrasher Park\, 93 Park Dr.\, Norcross
END:VEVENT
BEGIN:VEVENT
DTSTART;VALUE=DATE:20230527
DTEND;VALUE=DATE:20230530
DTSTAMP:20260419T214409
CREATED:20200305T050042Z
LAST-MODIFIED:20230329T124928Z
UID:10001584-1685145600-1685404799@www.atlantaparent.com
SUMMARY:Atlanta Jazz Festival
DESCRIPTION:Photo by Drew Dinwiddie \nThis three-day festival showcases many of the best performers and jazz acts in the country. May 27-29\, 11 a.m.-11 p.m. Free admission.
URL:https://www.atlantaparent.com/event/atlanta-jazz-festival/
LOCATION:Piedmont Park\, 929 Charles Allen Dr.\, Atlanta\, GA\, United States
ATTACH;FMTTYPE=image/jpeg:https://www.atlantaparent.com/wp-content/uploads/2020/03/Lizz-Wright-Photo-by-Drew-Dinwiddie_JF-Day-1-LD-Edits-48-of-48-scaled-e1627501465499.jpg
GEO:33.780743;-84.37076
X-APPLE-STRUCTURED-LOCATION;VALUE=URI;X-ADDRESS=Piedmont Park 929 Charles Allen Dr. Atlanta GA United States;X-APPLE-RADIUS=500;X-TITLE=929 Charles Allen Dr.:geo:-84.37076,33.780743
END:VEVENT
BEGIN:VEVENT
DTSTART;TZID=America/New_York:20230601T180000
DTEND;TZID=America/New_York:20230601T200000
DTSTAMP:20260419T214409
CREATED:20230522T135615Z
LAST-MODIFIED:20230522T135615Z
UID:10006956-1685642400-1685649600@www.atlantaparent.com
SUMMARY:Summer Splash
DESCRIPTION:Kick off summer at this waterslide party with a live DJ.
URL:https://www.atlantaparent.com/event/summer-splash/
LOCATION:The Avenue Peachtree City\, 239 City Cir.\, Peachtree City
GEO:33.3945725;-84.5912368
X-APPLE-STRUCTURED-LOCATION;VALUE=URI;X-ADDRESS=The Avenue Peachtree City 239 City Cir. Peachtree City;X-APPLE-RADIUS=500;X-TITLE=239 City Cir.:geo:-84.5912368,33.3945725
END:VEVENT
BEGIN:VEVENT
DTSTART;VALUE=DATE:20230602
DTEND;VALUE=DATE:20230904
DTSTAMP:20260419T214409
CREATED:20230606T155159Z
LAST-MODIFIED:20230606T155159Z
UID:10006900-1685664000-1693785599@www.atlantaparent.com
SUMMARY:Ancient Nubia: Art of the 25th Dynasty
DESCRIPTION:For nearly three thousand years\, a series of kingdoms flourished in the Sudanese Nile Valley\, and you can view the wealth of these kingdoms with jewelry\, pottery\, metalwork and more. $18.50.
URL:https://www.atlantaparent.com/event/ancient-nubia-art-of-the-25th-dynasty/
LOCATION:High Museum of Art\, 1280 Peachtree Street\, Atlanta
GEO:33.7891582;-84.3849351
X-APPLE-STRUCTURED-LOCATION;VALUE=URI;X-ADDRESS=High Museum of Art 1280 Peachtree Street Atlanta;X-APPLE-RADIUS=500;X-TITLE=1280 Peachtree Street:geo:-84.3849351,33.7891582
END:VEVENT
BEGIN:VEVENT
DTSTART;VALUE=DATE:20230603
DTEND;VALUE=DATE:20240701
DTSTAMP:20260419T214409
CREATED:20230518T132415Z
LAST-MODIFIED:20240506T124749Z
UID:10006867-1685750400-1719791999@www.atlantaparent.com
SUMMARY:Disney The Little Mermaid x CAMP
DESCRIPTION:Be part of Ariel’s world with this theatrical experience featuring live music\, puppetry and magic for an immersive dive into the beloved movie. $35; ages 1 and younger\, free.
URL:https://www.atlantaparent.com/event/disney-the-little-mermaid-x-camp/
LOCATION:CAMP Atlanta\, 4551 Olde Perimeter Way\, Atlanta
ATTACH;FMTTYPE=image/jpeg:https://www.atlantaparent.com/wp-content/uploads/2023/05/1H3A3100-scaled-e1686159206671.jpg
GEO:33.9302084;-84.3429486
X-APPLE-STRUCTURED-LOCATION;VALUE=URI;X-ADDRESS=CAMP Atlanta 4551 Olde Perimeter Way Atlanta;X-APPLE-RADIUS=500;X-TITLE=4551 Olde Perimeter Way:geo:-84.3429486,33.9302084
END:VEVENT
BEGIN:VEVENT
DTSTART;VALUE=DATE:20230607
DTEND;VALUE=DATE:20230622
DTSTAMP:20260419T214409
CREATED:20250618T133504Z
LAST-MODIFIED:20250707T165613Z
UID:10006866-1686096000-1687391999@www.atlantaparent.com
SUMMARY:A Year with Frog and Toad
DESCRIPTION:Based on the books by Arnold Lobel\, follow two best friends\, the cheerful Frog and the grumpy Toad\, as they hop\, sing and dance their way through a year of adventure. July 17-18\, 7:30 p.m.; July 19\, 11 a.m.\, 2 and 7:30 p.m. and July 20\, 2 p.m. $12.
URL:https://www.atlantaparent.com/event/a-year-with-frog-and-toad-2/
LOCATION:Lionheart Theatre\, 10 College St NW\, Norcross
ATTACH;FMTTYPE=image/jpeg:https://www.atlantaparent.com/wp-content/uploads/2025/06/Lionheart-Frog-and-Toad-2025-scaled-e1751906081756.jpeg
GEO:33.942457;-84.211163
X-APPLE-STRUCTURED-LOCATION;VALUE=URI;X-ADDRESS=Lionheart Theatre 10 College St NW Norcross;X-APPLE-RADIUS=500;X-TITLE=10 College St NW:geo:-84.211163,33.942457
END:VEVENT
BEGIN:VEVENT
DTSTART;TZID=America/New_York:20230608T180000
DTEND;TZID=America/New_York:20230608T210000
DTSTAMP:20260419T214409
CREATED:20230511T165836Z
LAST-MODIFIED:20230511T165836Z
UID:10006868-1686247200-1686258000@www.atlantaparent.com
SUMMARY:Summer NewnaNIGHTS!
DESCRIPTION:Enjoy family-friend music and entertainment\, food trucks and vendor/sponsor booths.
URL:https://www.atlantaparent.com/event/summer-newnanights/2023-06-08/
LOCATION:Greenville Street Park\, 51 Greenville St. S\, Newnan
GEO:33.3714213;-84.8004054
X-APPLE-STRUCTURED-LOCATION;VALUE=URI;X-ADDRESS=Greenville Street Park 51 Greenville St. S Newnan;X-APPLE-RADIUS=500;X-TITLE=51 Greenville St. S:geo:-84.8004054,33.3714213
END:VEVENT
BEGIN:VEVENT
DTSTART;VALUE=DATE:20230610
DTEND;VALUE=DATE:20230905
DTSTAMP:20260419T214409
CREATED:20230518T142344Z
LAST-MODIFIED:20230612T123429Z
UID:10006875-1686355200-1693871999@www.atlantaparent.com
SUMMARY:Survival of the Slowest
DESCRIPTION:Learn how animals’ traits of being slow\, small or weak work to their advantages in their habitats. $25.95; ages 3-12\, $23.95; ages 2 and younger\, free.
URL:https://www.atlantaparent.com/event/survival-of-the-slowest/
LOCATION:Fernbank Museum of Natural History\, 767 Clifton Road\, Atlanta
ATTACH;FMTTYPE=image/jpeg:https://www.atlantaparent.com/wp-content/uploads/2023/05/IMG_1247-scaled-e1684419729564.jpg
GEO:33.7739167;-84.3277484
X-APPLE-STRUCTURED-LOCATION;VALUE=URI;X-ADDRESS=Fernbank Museum of Natural History 767 Clifton Road Atlanta;X-APPLE-RADIUS=500;X-TITLE=767 Clifton Road:geo:-84.3277484,33.7739167
END:VEVENT
BEGIN:VEVENT
DTSTART;TZID=America/New_York:20230610T100000
DTEND;TZID=America/New_York:20230610T130000
DTSTAMP:20260419T214409
CREATED:20230518T155236Z
LAST-MODIFIED:20230518T155236Z
UID:10006880-1686391200-1686402000@www.atlantaparent.com
SUMMARY:Alpharetta Community Heroes Family Fun Day
DESCRIPTION:Enjoy a day of activities celebrating heroes with Touch-A-Truck\, train rides\, face painting\, balloon artists and more. Proceeds will benefit Brewable’s mission of empowering and advocating for individuals with disabilities. $15-$20; adult receives free entry with child’s wristband.
URL:https://www.atlantaparent.com/event/alpharetta-community-heroes-family-fun-day/
LOCATION:Alpharetta Community Center\, 175 Roswell St.\, Alpharetta
END:VEVENT
BEGIN:VEVENT
DTSTART;TZID=America/New_York:20230610T110000
DTEND;TZID=America/New_York:20230610T160000
DTSTAMP:20260419T214409
CREATED:20230524T140044Z
LAST-MODIFIED:20230524T140044Z
UID:10006889-1686394800-1686412800@www.atlantaparent.com
SUMMARY:Lavender Harvest
DESCRIPTION:Enjoy farm fun with u-pick lavender\, live music\, artisan vendors\, food and more.
URL:https://www.atlantaparent.com/event/lavender-harvest/
LOCATION:Mitcham Farm\, 797 Macedonia Church Rd.\, Oxford
END:VEVENT
BEGIN:VEVENT
DTSTART;TZID=America/New_York:20230610T180000
DTEND;TZID=America/New_York:20230610T200000
DTSTAMP:20260419T214409
CREATED:20220516T153004Z
LAST-MODIFIED:20230522T131351Z
UID:10006382-1686420000-1686427200@www.atlantaparent.com
SUMMARY:Daddy Daughter Date Night
DESCRIPTION:Create precious memories as dads and daughters enjoy an elegant dinner and evening entertainment. For girls up to 14 years old. $40 per couple; non-residents\, $50. Reservation required.
URL:https://www.atlantaparent.com/event/daddy-daughter-date-night-2/
LOCATION:Tanyard Creek Overlook\, 4361 Cherokee St.\, Acworth
GEO:34.0698846;-84.6762702
X-APPLE-STRUCTURED-LOCATION;VALUE=URI;X-ADDRESS=Tanyard Creek Overlook 4361 Cherokee St. Acworth;X-APPLE-RADIUS=500;X-TITLE=4361 Cherokee St.:geo:-84.6762702,34.0698846
END:VEVENT
BEGIN:VEVENT
DTSTART;VALUE=DATE:20230614
DTEND;VALUE=DATE:20230626
DTSTAMP:20260419T214409
CREATED:20211014T155001Z
LAST-MODIFIED:20230626T124937Z
UID:10006062-1686700800-1687737599@www.atlantaparent.com
SUMMARY:Captain Healthy and Safety Dog
DESCRIPTION:  \nCaptain Healthy and Safety Dog are on an intergalactic voyage to learn how to be healthy and stay safe as they meet a cast of whacky characters. June 14-25. See website for showtimes. $22; ages 1 and younger\, free.
URL:https://www.atlantaparent.com/event/virtual-puppet-playdate-captain-healthy-and-safety-dog/
LOCATION:Center for Puppetry Arts\, 1404 Spring Street NW\, Atlanta
ATTACH;FMTTYPE=image/jpeg:https://www.atlantaparent.com/wp-content/uploads/2021/10/Captain-Healthy-Safety-Dog_2.jpg
GEO:33.7928692;-84.3895974
X-APPLE-STRUCTURED-LOCATION;VALUE=URI;X-ADDRESS=Center for Puppetry Arts 1404 Spring Street NW Atlanta;X-APPLE-RADIUS=500;X-TITLE=1404 Spring Street NW:geo:-84.3895974,33.7928692
END:VEVENT
BEGIN:VEVENT
DTSTART;VALUE=DATE:20230614
DTEND;VALUE=DATE:20230806
DTSTAMP:20260419T214409
CREATED:20220531T150246Z
LAST-MODIFIED:20230518T144641Z
UID:10006440-1686700800-1691279999@www.atlantaparent.com
SUMMARY:Celebrations Art Exhibit
DESCRIPTION:Throughout the history of our world\, our country\, and in each person’s life\, there are significant moments\, and those events are celebrated in this exhibit. Free admission.
URL:https://www.atlantaparent.com/event/on-the-road-to-juneteenth-celebration/
LOCATION:Alpharetta Arts Center\, 238 Canton St.\, Alpharetta
GEO:34.082083;-84.2977166
X-APPLE-STRUCTURED-LOCATION;VALUE=URI;X-ADDRESS=Alpharetta Arts Center 238 Canton St. Alpharetta;X-APPLE-RADIUS=500;X-TITLE=238 Canton St.:geo:-84.2977166,34.082083
END:VEVENT
BEGIN:VEVENT
DTSTART;TZID=America/New_York:20230614T100000
DTEND;TZID=America/New_York:20230614T123000
DTSTAMP:20260419T214409
CREATED:20190528T171857Z
LAST-MODIFIED:20230518T134422Z
UID:10004142-1686736800-1686745800@www.atlantaparent.com
SUMMARY:Midsummer Jr! at Aurora Theatre
DESCRIPTION:The Atlanta Shakespeare Company presents “A Midsummer Night’s Dream” for kids using puppets\, live music and props. June 14\, 10 and 11:30 a.m.
URL:https://www.atlantaparent.com/event/midsummer-jr-at-aurora-theatre/
LOCATION: Aurora Theatre\, 128 East Pike St.\, Lawrenceville
END:VEVENT
BEGIN:VEVENT
DTSTART;TZID=America/New_York:20230615T120000
DTEND;TZID=America/New_York:20230615T130000
DTSTAMP:20260419T214409
CREATED:20230524T141706Z
LAST-MODIFIED:20230524T141706Z
UID:10006888-1686830400-1686834000@www.atlantaparent.com
SUMMARY:Coping Skills to Navigate Your Child's Healthcare Journey
DESCRIPTION:The American Heart Association-American Heart Heroes program features certified child life specialist Allie Corder to help families process and cope with the healthcare environment.
URL:https://www.atlantaparent.com/event/coping-skills-to-navigate-your-childs-healthcare-journey/
LOCATION:GA
END:VEVENT
BEGIN:VEVENT
DTSTART;VALUE=DATE:20230616
DTEND;VALUE=DATE:20230618
DTSTAMP:20260419T214409
CREATED:20190730T170435Z
LAST-MODIFIED:20230518T134752Z
UID:10004348-1686873600-1687046399@www.atlantaparent.com
SUMMARY:The Great Georgia Balloon Festival
DESCRIPTION:Go on a ride on a hot air balloon\, play in the Kids Zone with games\, train rides and more\, listen to live music\, and at night\, view the Hot Air Balloon Glow & Laser Show. $20; ages 6-18\, $8; ages 5 and younger\, free; balloon rides\, $35.
URL:https://www.atlantaparent.com/event/our-world-balloon-festival/
LOCATION:EchoPark Speedway\, 1500 Tara Place\, Hampton
ATTACH;FMTTYPE=image/jpeg:https://www.atlantaparent.com/wp-content/uploads/2019/07/4-e1684417655710.jpg
GEO:33.384517;-84.313377
X-APPLE-STRUCTURED-LOCATION;VALUE=URI;X-ADDRESS=EchoPark Speedway 1500 Tara Place Hampton;X-APPLE-RADIUS=500;X-TITLE=1500 Tara Place:geo:-84.313377,33.384517
END:VEVENT
BEGIN:VEVENT
DTSTART;VALUE=DATE:20230616
DTEND;VALUE=DATE:20230619
DTSTAMP:20260419T214409
CREATED:20250418T135426Z
LAST-MODIFIED:20250423T141951Z
UID:10007273-1686873600-1687132799@www.atlantaparent.com
SUMMARY:Unicorn World
DESCRIPTION:Celebrate all things magical with this unicorn experience featuring life-sized\, animatronic unicorns\, themed crafts\, face painting\, bounce houses and more. May 17\, 9 a.m.-5:30 p.m. and May 18\, 9 a.m.-4:30 p.m. $33; ages 1 and younger\, free; activities\, extra.
URL:https://www.atlantaparent.com/event/unicorn-world/
LOCATION:Cobb Galleria Centre\, Two Galleria Parkway\, Atlanta
ATTACH;FMTTYPE=image/jpeg:https://www.atlantaparent.com/wp-content/uploads/2023/05/Unicorn-World_Knoxville-58-scaled-e1684418047314.jpg
GEO:33.8832236;-84.4665277
X-APPLE-STRUCTURED-LOCATION;VALUE=URI;X-ADDRESS=Cobb Galleria Centre Two Galleria Parkway Atlanta;X-APPLE-RADIUS=500;X-TITLE=Two Galleria Parkway:geo:-84.4665277,33.8832236
END:VEVENT
BEGIN:VEVENT
DTSTART;VALUE=DATE:20230616
DTEND;VALUE=DATE:20230704
DTSTAMP:20260419T214409
CREATED:20230523T142944Z
LAST-MODIFIED:20230619T123748Z
UID:10006882-1686873600-1688428799@www.atlantaparent.com
SUMMARY:CoComelon Party Time
DESCRIPTION:Step into the colorful world of “CoComelon” with singing\, dancing and playing with JJ\, Cody\, Ms. Appleberry and more. $33; ages 11 months and younger\, free.
URL:https://www.atlantaparent.com/event/cocomelon-party-time/
LOCATION:Atlanta\, 103 W Paces Ferry Rd. NW\, Atlanta
END:VEVENT
BEGIN:VEVENT
DTSTART;TZID=America/New_York:20230617T100000
DTEND;TZID=America/New_York:20230617T160000
DTSTAMP:20260419T214409
CREATED:20210422T145733Z
LAST-MODIFIED:20240122T142047Z
UID:10002670-1686996000-1687017600@www.atlantaparent.com
SUMMARY:Pop-In for Family Fun
DESCRIPTION:Enjoy different themed activities for families every month on the third Saturday.
URL:https://www.atlantaparent.com/event/pop-family-fun-aviation/2023-06-17/
LOCATION:Marietta Museum of History\, 1 Depot St.\, Marietta
GEO:33.227377;-84.5696531
X-APPLE-STRUCTURED-LOCATION;VALUE=URI;X-ADDRESS=Marietta Museum of History 1 Depot St. Marietta;X-APPLE-RADIUS=500;X-TITLE=1 Depot St.:geo:-84.5696531,33.227377
END:VEVENT
BEGIN:VEVENT
DTSTART;TZID=America/New_York:20230617T120000
DTEND;TZID=America/New_York:20230617T150000
DTSTAMP:20260419T214409
CREATED:20230601T160450Z
LAST-MODIFIED:20230601T160450Z
UID:10006893-1687003200-1687014000@www.atlantaparent.com
SUMMARY:Mayfield Creamery's Birthday Bash
DESCRIPTION:Celebrate Mayfield Creamery’s 100th birthday with free ice cream\, games\, activities\, live music from a DJ and more.
URL:https://www.atlantaparent.com/event/mayfield-creamerys-birthday-bash/
LOCATION:Piedmont Park\, 929 Charles Allen Dr.\, Atlanta\, GA\, United States
GEO:33.780743;-84.37076
X-APPLE-STRUCTURED-LOCATION;VALUE=URI;X-ADDRESS=Piedmont Park 929 Charles Allen Dr. Atlanta GA United States;X-APPLE-RADIUS=500;X-TITLE=929 Charles Allen Dr.:geo:-84.37076,33.780743
END:VEVENT
BEGIN:VEVENT
DTSTART;TZID=America/New_York:20230617T160000
DTEND;TZID=America/New_York:20230617T210000
DTSTAMP:20260419T214409
CREATED:20230602T154546Z
LAST-MODIFIED:20230602T154546Z
UID:10006892-1687017600-1687035600@www.atlantaparent.com
SUMMARY:Juneteenth Celebration of Freedom
DESCRIPTION:The City of Stonecrest’s celebration includes giveaways\, food\, music\, live entertainment\, a fireworks display and more.
URL:https://www.atlantaparent.com/event/juneteenth-celebration-of-freedom/
LOCATION:Southeast Athletic Complex\, 5845 Hillvale Rd.\, Lithonia
END:VEVENT
BEGIN:VEVENT
DTSTART;TZID=America/New_York:20230617T170000
DTEND;TZID=America/New_York:20230617T210000
DTSTAMP:20260419T214409
CREATED:20220608T144601Z
LAST-MODIFIED:20230518T143830Z
UID:10006403-1687021200-1687035600@www.atlantaparent.com
SUMMARY:Juneteenth Celebration of Freedom
DESCRIPTION:Celebrate Juneteenth with a parade and live music.
URL:https://www.atlantaparent.com/event/juneteenth-celebration-parade/
LOCATION:Downtown Commons\, 2714 East Point St.\, East Point
GEO:33.6813461;-84.4410203
X-APPLE-STRUCTURED-LOCATION;VALUE=URI;X-ADDRESS=Downtown Commons 2714 East Point St. East Point;X-APPLE-RADIUS=500;X-TITLE=2714 East Point St.:geo:-84.4410203,33.6813461
END:VEVENT
BEGIN:VEVENT
DTSTART;TZID=America/New_York:20230617T180000
DTEND;TZID=America/New_York:20230617T220000
DTSTAMP:20260419T214409
CREATED:20230523T125648Z
LAST-MODIFIED:20230523T125648Z
UID:10006883-1687024800-1687039200@www.atlantaparent.com
SUMMARY:Jared's Epic Blaster Battle
DESCRIPTION:Play in the largest and most incredible foam blaster battle with this experience featuring surprises\, special guests\, 50\,000+ free darts and exclusive product reveals. $20-$32; ages 2 and younger\, free.
URL:https://www.atlantaparent.com/event/jareds-epic-blaster-battle/
LOCATION:Mercedes-Benz Stadium\, 1 AMB Dr. NW\, Atlanta\, GA\, United States
END:VEVENT
BEGIN:VEVENT
DTSTART;VALUE=DATE:20230618
DTEND;VALUE=DATE:20230619
DTSTAMP:20260419T214409
CREATED:20210514T175603Z
LAST-MODIFIED:20230522T131859Z
UID:10004218-1687046400-1687132799@www.atlantaparent.com
SUMMARY:Father’s Day Weekend at North Georgia Wildlife Park
DESCRIPTION:Dads get free admission with paid children and adult admission. $37.99; ages 2-11\, $35.99; ages 1 and younger\, free.
URL:https://www.atlantaparent.com/event/fathers-day-weekend-at-north-georgia-zoo/
LOCATION:North Georgia Wildlife Park\, 2912 Paradise Valley Road\, Cleveland
GEO:34.6223675;-83.8656005
X-APPLE-STRUCTURED-LOCATION;VALUE=URI;X-ADDRESS=North Georgia Wildlife Park 2912 Paradise Valley Road Cleveland;X-APPLE-RADIUS=500;X-TITLE=2912 Paradise Valley Road:geo:-83.8656005,34.6223675
END:VEVENT
BEGIN:VEVENT
DTSTART;TZID=America/New_York:20230618T120000
DTEND;TZID=America/New_York:20230618T143000
DTSTAMP:20260419T214409
CREATED:20230614T183452Z
LAST-MODIFIED:20230614T183452Z
UID:10006904-1687089600-1687098600@www.atlantaparent.com
SUMMARY:Celebrate Father’s Day at Alpharetta City Center
DESCRIPTION:This city celebration will feature putt putt golf on the Town Green for a chance to win gift cards from local restaurants and retailers. Free admission.
URL:https://www.atlantaparent.com/event/celebrate-fathers-day-at-alpharetta-city-center/
LOCATION:Alpharetta City Center\, 2001 Commerce St.\, Alpharetta
GEO:34.0747893;-84.2928572
X-APPLE-STRUCTURED-LOCATION;VALUE=URI;X-ADDRESS=Alpharetta City Center 2001 Commerce St. Alpharetta;X-APPLE-RADIUS=500;X-TITLE=2001 Commerce St.:geo:-84.2928572,34.0747893
END:VEVENT
BEGIN:VEVENT
DTSTART;TZID=America/New_York:20230618T140000
DTEND;TZID=America/New_York:20230618T220000
DTSTAMP:20260419T214409
CREATED:20210601T152143Z
LAST-MODIFIED:20230614T123541Z
UID:10005847-1687096800-1687125600@www.atlantaparent.com
SUMMARY:City of South Fulton Juneteenth Celebration
DESCRIPTION:The City of South Fulton celebrates Juneteenth with captivating performances\, vibrant art\, delicious food and more.
URL:https://www.atlantaparent.com/event/forward-to-freedom-juneteenth-celebration/
LOCATION:Wolf Creek Amphitheater\, 3025 Merk Rd. SW\, South Fulton
GEO:33.6752007;-84.5672132
X-APPLE-STRUCTURED-LOCATION;VALUE=URI;X-ADDRESS=Wolf Creek Amphitheater 3025 Merk Rd. SW South Fulton;X-APPLE-RADIUS=500;X-TITLE=3025 Merk Rd. SW:geo:-84.5672132,33.6752007
END:VEVENT
END:VCALENDAR