BEGIN:VCALENDAR
VERSION:2.0
PRODID:-//NEW Atlanta Parent - ECPv6.15.11//NONSGML v1.0//EN
CALSCALE:GREGORIAN
METHOD:PUBLISH
X-WR-CALNAME:NEW Atlanta Parent
X-ORIGINAL-URL:https://www.atlantaparent.com
X-WR-CALDESC:Events for NEW Atlanta Parent
REFRESH-INTERVAL;VALUE=DURATION:PT1H
X-Robots-Tag:noindex
X-PUBLISHED-TTL:PT1H
BEGIN:VTIMEZONE
TZID:America/New_York
BEGIN:DAYLIGHT
TZOFFSETFROM:-0500
TZOFFSETTO:-0400
TZNAME:EDT
DTSTART:20220313T070000
END:DAYLIGHT
BEGIN:STANDARD
TZOFFSETFROM:-0400
TZOFFSETTO:-0500
TZNAME:EST
DTSTART:20221106T060000
END:STANDARD
BEGIN:DAYLIGHT
TZOFFSETFROM:-0500
TZOFFSETTO:-0400
TZNAME:EDT
DTSTART:20230312T070000
END:DAYLIGHT
BEGIN:STANDARD
TZOFFSETFROM:-0400
TZOFFSETTO:-0500
TZNAME:EST
DTSTART:20231105T060000
END:STANDARD
BEGIN:DAYLIGHT
TZOFFSETFROM:-0500
TZOFFSETTO:-0400
TZNAME:EDT
DTSTART:20240310T070000
END:DAYLIGHT
BEGIN:STANDARD
TZOFFSETFROM:-0400
TZOFFSETTO:-0500
TZNAME:EST
DTSTART:20241103T060000
END:STANDARD
BEGIN:DAYLIGHT
TZOFFSETFROM:-0500
TZOFFSETTO:-0400
TZNAME:EDT
DTSTART:20250309T070000
END:DAYLIGHT
BEGIN:STANDARD
TZOFFSETFROM:-0400
TZOFFSETTO:-0500
TZNAME:EST
DTSTART:20251102T060000
END:STANDARD
END:VTIMEZONE
BEGIN:VTIMEZONE
TZID:UTC
BEGIN:STANDARD
TZOFFSETFROM:+0000
TZOFFSETTO:+0000
TZNAME:UTC
DTSTART:20220101T000000
END:STANDARD
END:VTIMEZONE
BEGIN:VEVENT
DTSTART;VALUE=DATE:20230510
DTEND;VALUE=DATE:20231214
DTSTAMP:20260419T195308
CREATED:20210526T130312Z
LAST-MODIFIED:20240208T174855Z
UID:10005840-1683676800-1702511999@www.atlantaparent.com
SUMMARY:WILD: A Safari Experience
DESCRIPTION:Go on a virtual safari through Africa with stops in South Africa\, Botswana\, Kenya and Tanzania to see animals in their native habitats at this immersive experience. See website for schedule. $35-$50; ages 3-12\, $30-$45.
URL:https://www.atlantaparent.com/event/wild-safari-experience/
LOCATION:Eclipso Atlanta\, 550 Somerset Terrace NE\, Atlanta
ATTACH;FMTTYPE=image/jpeg:https://www.atlantaparent.com/wp-content/uploads/2021/05/IE_WILD_05156C_elephants-b-scaled-e1622034180351.jpg
GEO:33.7688859;-84.3615505
X-APPLE-STRUCTURED-LOCATION;VALUE=URI;X-ADDRESS=Eclipso Atlanta 550 Somerset Terrace NE Atlanta;X-APPLE-RADIUS=500;X-TITLE=550 Somerset Terrace NE:geo:-84.3615505,33.7688859
END:VEVENT
BEGIN:VEVENT
DTSTART;VALUE=DATE:20230512
DTEND;VALUE=DATE:20230515
DTSTAMP:20260419T195308
CREATED:20220422T130854Z
LAST-MODIFIED:20230217T165424Z
UID:10006345-1683849600-1684108799@www.atlantaparent.com
SUMMARY:Bringing The Sea To The Springs Seafood Festival
DESCRIPTION:This seafood festival will feature delicious food\, artisans\, crafts and live performances. May 12\, 3-9 p.m.; May 13\, 10 a.m.-9 p.m. and May 14\, noon-4 p.m. Free admission.
URL:https://www.atlantaparent.com/event/bringing-the-sea-to-the-springs-seafood-festival/
LOCATION:Thurman Springs Park\, 4485 Pineview Dr.\, Powder Springs
GEO:33.8604096;-84.6842526
X-APPLE-STRUCTURED-LOCATION;VALUE=URI;X-ADDRESS=Thurman Springs Park 4485 Pineview Dr. Powder Springs;X-APPLE-RADIUS=500;X-TITLE=4485 Pineview Dr.:geo:-84.6842526,33.8604096
END:VEVENT
BEGIN:VEVENT
DTSTART;VALUE=DATE:20230512
DTEND;VALUE=DATE:20230515
DTSTAMP:20260419T195308
CREATED:20230421T133003Z
LAST-MODIFIED:20230421T133003Z
UID:10006897-1683849600-1684108799@www.atlantaparent.com
SUMMARY:Mother’s Day DIY Terrarium Building
DESCRIPTION:Celebrate mom with a DIY terrarium. Reservation required. May 12-14. See website for times. $25-$34.
URL:https://www.atlantaparent.com/event/mothers-day-diy-terrarium-building/
LOCATION:PlantHouse Decatur\, 112 W. Trinity Place\, Decatur
GEO:33.7734225;-84.2967537
X-APPLE-STRUCTURED-LOCATION;VALUE=URI;X-ADDRESS=PlantHouse Decatur 112 W. Trinity Place Decatur;X-APPLE-RADIUS=500;X-TITLE=112 W. Trinity Place:geo:-84.2967537,33.7734225
END:VEVENT
BEGIN:VEVENT
DTSTART;VALUE=DATE:20230512
DTEND;VALUE=DATE:20230515
DTSTAMP:20260419T195308
CREATED:20240410T150655Z
LAST-MODIFIED:20240417T152617Z
UID:10005365-1683849600-1684108799@www.atlantaparent.com
SUMMARY:Mother’s Day Brunch Permanent Jewelry Pop Up
DESCRIPTION:Give mom the perfect gift with a permanent bracelet from Sparx Permanent Jewelry\, and enjoy a sweet brunch. Reservation required for brunch. May 12\, 11 a.m.-3 p.m. $13-$17.50+.
URL:https://www.atlantaparent.com/event/moms-day-off-at-halcyon/
LOCATION:Halcyon\, 6365 Halcyon Way\, Alpharetta\, GA\, 30005
GEO:34.1106637;-84.2242307
X-APPLE-STRUCTURED-LOCATION;VALUE=URI;X-ADDRESS=Halcyon 6365 Halcyon Way Alpharetta GA 30005;X-APPLE-RADIUS=500;X-TITLE=6365 Halcyon Way:geo:-84.2242307,34.1106637
END:VEVENT
BEGIN:VEVENT
DTSTART;VALUE=DATE:20230512
DTEND;VALUE=DATE:20230529
DTSTAMP:20260419T195308
CREATED:20190124T211046Z
LAST-MODIFIED:20230420T140123Z
UID:10003965-1683849600-1685318399@www.atlantaparent.com
SUMMARY:Peter and the Starcatcher
DESCRIPTION:This prequel story to “Peter Pan” follows the adventures of a young orphan named Peter who teams up with Molly\, a Starcatcher-in-training\, to defeat the fearsome pirate\, Black Stache. May 12-28. See website for showtimes. $18.95-$38.95.
URL:https://www.atlantaparent.com/event/peter-and-the-starcatcher/
LOCATION:Stage Door Theatre\, 5339 Chamblee Dunwoody Rd.\, Dunwoody
GEO:33.9446855;-84.3319777
X-APPLE-STRUCTURED-LOCATION;VALUE=URI;X-ADDRESS=Stage Door Theatre 5339 Chamblee Dunwoody Rd. Dunwoody;X-APPLE-RADIUS=500;X-TITLE=5339 Chamblee Dunwoody Rd.:geo:-84.3319777,33.9446855
END:VEVENT
BEGIN:VEVENT
DTSTART;TZID=America/New_York:20230512T180000
DTEND;TZID=America/New_York:20230512T200000
DTSTAMP:20260419T195308
CREATED:20230508T134736Z
LAST-MODIFIED:20230508T134736Z
UID:10006861-1683914400-1683921600@www.atlantaparent.com
SUMMARY:Rock the Mic: Karaoke Night
DESCRIPTION:Belt out your favorite tunes with a bandstand. Free admission.
URL:https://www.atlantaparent.com/event/rock-the-mic-karaoke-night/2023-05-12/
LOCATION:Decatur Square\, 101 E Court Square\, Decatur
END:VEVENT
BEGIN:VEVENT
DTSTART;VALUE=DATE:20230513
DTEND;VALUE=DATE:20230515
DTSTAMP:20260419T195308
CREATED:20200219T050017Z
LAST-MODIFIED:20230420T132841Z
UID:10002573-1683936000-1684108799@www.atlantaparent.com
SUMMARY:Star Wars: The Force Awakens in Concert
DESCRIPTION:The Atlanta Symphony Orchestra presents a screening of the film complete with the musical score performed live. May 13\, 7:30 p.m. and May 14\, 3 p.m. $39-$89+.
URL:https://www.atlantaparent.com/event/star-wars-new-hope-concert/
LOCATION:Atlanta Symphony Hall\, 1280 Peachtree St. NE\, Atlanta
ATTACH;FMTTYPE=image/jpeg:https://www.atlantaparent.com/wp-content/uploads/2020/02/DSC_1891-scaled-e1681997232828.jpg
END:VEVENT
BEGIN:VEVENT
DTSTART;VALUE=DATE:20230513
DTEND;VALUE=DATE:20230515
DTSTAMP:20260419T195308
CREATED:20230329T124618Z
LAST-MODIFIED:20230426T164151Z
UID:10006807-1683936000-1684108799@www.atlantaparent.com
SUMMARY:Art on the Green: Spring 2023
DESCRIPTION:Local artists display their wares\, including paintings\, mixed\, media\, photography and more. May 13\, 10 a.m.-6 p.m. and May 14\, 11 a.m.-5 p.m. Free admission.
URL:https://www.atlantaparent.com/event/art-on-the-green-spring-2023/
LOCATION:Woodstock Arts\, 8534 Main St.\, Woodstock
ATTACH;FMTTYPE=image/png:https://www.atlantaparent.com/wp-content/uploads/2023/03/P1320029-e1682527301599.png
GEO:34.1017163;-84.5199758
X-APPLE-STRUCTURED-LOCATION;VALUE=URI;X-ADDRESS=Woodstock Arts 8534 Main St. Woodstock;X-APPLE-RADIUS=500;X-TITLE=8534 Main St.:geo:-84.5199758,34.1017163
END:VEVENT
BEGIN:VEVENT
DTSTART;VALUE=DATE:20230513
DTEND;VALUE=DATE:20230905
DTSTAMP:20260419T195308
CREATED:20230420T134250Z
LAST-MODIFIED:20230905T123521Z
UID:10006818-1683936000-1693871999@www.atlantaparent.com
SUMMARY:Shaun the Sheep: Flock This Way!
DESCRIPTION:Based on the popular film and television characters\, explore the antics of Shaun the Sheep and his pals with problem-solving components and fun activities. $13.95-$19.95; ages 11 months and younger\, free.
URL:https://www.atlantaparent.com/event/shaun-the-sheep-flock-this-way/
LOCATION:Children’s Museum of Atlanta\, 275 Centennial Olympic Park Dr. NW\, Atlanta\, GA
ATTACH;FMTTYPE=image/jpeg:https://www.atlantaparent.com/wp-content/uploads/2023/04/STS_Wall-Traverse-scaled-e1681998150758.jpg
END:VEVENT
BEGIN:VEVENT
DTSTART;TZID=America/New_York:20230513T120000
DTEND;TZID=America/New_York:20230513T170000
DTSTAMP:20260419T195308
CREATED:20230421T130549Z
LAST-MODIFIED:20230421T130549Z
UID:10006834-1683979200-1683997200@www.atlantaparent.com
SUMMARY:Mother’s Day Picnic with Tertulia
DESCRIPTION:Celebrate the special women in your life at this gorgeous open-air pavilion surrounded by an evergreen forest. $30.
URL:https://www.atlantaparent.com/event/mothers-day-picnic-with-tertulia/
LOCATION:Serenbe\, 9055 Selborne Lane\, Chattahoochee Hills
GEO:33.5250119;-84.737723
X-APPLE-STRUCTURED-LOCATION;VALUE=URI;X-ADDRESS=Serenbe 9055 Selborne Lane Chattahoochee Hills;X-APPLE-RADIUS=500;X-TITLE=9055 Selborne Lane:geo:-84.737723,33.5250119
END:VEVENT
BEGIN:VEVENT
DTSTART;TZID=America/New_York:20230513T183000
DTEND;TZID=America/New_York:20230513T203000
DTSTAMP:20260419T195308
CREATED:20230421T132335Z
LAST-MODIFIED:20230421T132335Z
UID:10006840-1684002600-1684009800@www.atlantaparent.com
SUMMARY:Sip & Pour: Candle Making Workshop: Mother’s Day Edition
DESCRIPTION:Curate a customizable 12-oz. candle\, enjoy light refreshments and champagne\, listen to music\, take fun photos and more. $65.
URL:https://www.atlantaparent.com/event/sip-pour-candle-making-workshop-mothers-day-edition/
LOCATION:Altruistic Love Candle Company\, 229 Grant St. SE\, Atlanta
GEO:33.7489531;-84.3770603
X-APPLE-STRUCTURED-LOCATION;VALUE=URI;X-ADDRESS=Altruistic Love Candle Company 229 Grant St. SE Atlanta;X-APPLE-RADIUS=500;X-TITLE=229 Grant St. SE:geo:-84.3770603,33.7489531
END:VEVENT
BEGIN:VEVENT
DTSTART;VALUE=DATE:20230514
DTEND;VALUE=DATE:20231127
DTSTAMP:20260419T195308
CREATED:20231101T145637Z
LAST-MODIFIED:20231109T150513Z
UID:10006830-1684022400-1701043199@www.atlantaparent.com
SUMMARY:HAPPY JOYLANTA
DESCRIPTION:This immersive environment serves as a community-based art project featuring signs\, symbols and memories reflecting Atlanta’s diverse populations.
URL:https://www.atlantaparent.com/event/happy-joylanta/
LOCATION:High Museum of Art\, 1280 Peachtree St.\, Atlanta
ATTACH;FMTTYPE=image/jpeg:https://www.atlantaparent.com/wp-content/uploads/2023/11/HighMuseum_11.4.23_DDD6326-scaled-e1699542290581.jpg
GEO:33.7891582;-84.3849351
X-APPLE-STRUCTURED-LOCATION;VALUE=URI;X-ADDRESS=High Museum of Art 1280 Peachtree St. Atlanta;X-APPLE-RADIUS=500;X-TITLE=1280 Peachtree St.:geo:-84.3849351,33.7891582
END:VEVENT
BEGIN:VEVENT
DTSTART;TZID=America/New_York:20230514T100000
DTEND;TZID=America/New_York:20230514T170000
DTSTAMP:20260419T195308
CREATED:20230421T134425Z
LAST-MODIFIED:20230421T134425Z
UID:10006847-1684058400-1684083600@www.atlantaparent.com
SUMMARY:Mother’s Day Celebration
DESCRIPTION:Moms will enjoy free admission all day and relaxing massages provided by Pamper Perfect. The first 100 moms will receive a $25 gift card to The Home Depot.
URL:https://www.atlantaparent.com/event/mothers-day-celebration-2/
LOCATION:Chick-fil-A Fan College Football Hall of Fame\, 250 Marietta St.\, Atlanta
ATTACH;FMTTYPE=image/jpeg:https://www.atlantaparent.com/wp-content/uploads/2023/04/mommimosas-62-1-e1682084645526.jpg
GEO:33.7601926;-84.3955383
X-APPLE-STRUCTURED-LOCATION;VALUE=URI;X-ADDRESS=Chick-fil-A Fan College Football Hall of Fame 250 Marietta St. Atlanta;X-APPLE-RADIUS=500;X-TITLE=250 Marietta St.:geo:-84.3955383,33.7601926
END:VEVENT
BEGIN:VEVENT
DTSTART;TZID=America/New_York:20230514T110000
DTEND;TZID=America/New_York:20230514T123000
DTSTAMP:20260419T195308
CREATED:20230421T131103Z
LAST-MODIFIED:20230421T131103Z
UID:10006842-1684062000-1684067400@www.atlantaparent.com
SUMMARY:Mother’s Day Brunch
DESCRIPTION:Enjoy brunch from Chef Thomas Gagliardi from Wolfgang Puck Catering with a view of the magnificent Oceans Ballroom. $125; ages 3-11\, $75; ages 2 and younger\, free.
URL:https://www.atlantaparent.com/event/mothers-day-brunch-2/
LOCATION:Georgia Aquarium\, 225 Baker St.\, Atlanta
ATTACH;FMTTYPE=image/jpeg:https://www.atlantaparent.com/wp-content/uploads/2023/04/GAQ-Local-Passport-101-scaled-e1682082638617.jpg
GEO:33.7634237;-84.394891
X-APPLE-STRUCTURED-LOCATION;VALUE=URI;X-ADDRESS=Georgia Aquarium 225 Baker St. Atlanta;X-APPLE-RADIUS=500;X-TITLE=225 Baker St.:geo:-84.394891,33.7634237
END:VEVENT
BEGIN:VEVENT
DTSTART;TZID=America/New_York:20230514T120000
DTEND;TZID=America/New_York:20230514T143000
DTSTAMP:20260419T195308
CREATED:20230510T133243Z
LAST-MODIFIED:20230510T133243Z
UID:10006871-1684065600-1684074600@www.atlantaparent.com
SUMMARY:Petals & Parasols
DESCRIPTION:Enjoy a design-your-own parasol workshop\, custom sugar cookies\, live music\, photo opportunities and more in honor of Mother’s Day. Free admission.
URL:https://www.atlantaparent.com/event/petals-parasols/
LOCATION:Alpharetta City Center\, 2001 Commerce St.\, Alpharetta
GEO:34.0747893;-84.2928572
X-APPLE-STRUCTURED-LOCATION;VALUE=URI;X-ADDRESS=Alpharetta City Center 2001 Commerce St. Alpharetta;X-APPLE-RADIUS=500;X-TITLE=2001 Commerce St.:geo:-84.2928572,34.0747893
END:VEVENT
BEGIN:VEVENT
DTSTART;TZID=America/New_York:20230514T140000
DTEND;TZID=America/New_York:20230514T153000
DTSTAMP:20260419T195308
CREATED:20230421T132558Z
LAST-MODIFIED:20230421T132558Z
UID:10006839-1684072800-1684078200@www.atlantaparent.com
SUMMARY:Mother’s Day Special: Laugh-Lines & Stretch-Marks
DESCRIPTION:Mom and comedian Heather Tolley-Bauer delivers the right mix of funny and realism for an exciting Mother’s Day date. $27.50.
URL:https://www.atlantaparent.com/event/mothers-day-special-laugh-lines-stretch-marks/
LOCATION:MadLife Stage & Studios\, 8722 Main St.\, Woodstock
GEO:34.0990627;-84.5204781
X-APPLE-STRUCTURED-LOCATION;VALUE=URI;X-ADDRESS=MadLife Stage & Studios 8722 Main St. Woodstock;X-APPLE-RADIUS=500;X-TITLE=8722 Main St.:geo:-84.5204781,34.0990627
END:VEVENT
BEGIN:VEVENT
DTSTART;TZID=America/New_York:20230514T160000
DTEND;TZID=America/New_York:20230514T160000
DTSTAMP:20260419T195308
CREATED:20230421T132734Z
LAST-MODIFIED:20230421T132734Z
UID:10006891-1684080000-1684080000@www.atlantaparent.com
SUMMARY:Mother’s Day Celebration
DESCRIPTION:Celebrate Mother’s Day with gospel music’s biggest names\, including Marvin Sapp and Shirley Caesar\, along with comedian Jonathan Slocumb. $73+.
URL:https://www.atlantaparent.com/event/mothers-day-celebration/
LOCATION:Fox Theatre\, 660 Peachtree St. NE\, Atlanta
GEO:33.772731;-84.385022
X-APPLE-STRUCTURED-LOCATION;VALUE=URI;X-ADDRESS=Fox Theatre 660 Peachtree St. NE Atlanta;X-APPLE-RADIUS=500;X-TITLE=660 Peachtree St. NE:geo:-84.385022,33.772731
END:VEVENT
BEGIN:VEVENT
DTSTART;TZID=America/New_York:20230519T193000
DTEND;TZID=America/New_York:20230519T193000
DTSTAMP:20260419T195308
CREATED:20230420T140521Z
LAST-MODIFIED:20230420T140521Z
UID:10006826-1684524600-1684524600@www.atlantaparent.com
SUMMARY:Frozen…The Ballet
DESCRIPTION:Presented by Northeast Atlanta Ballet\, watch the story of the cold-hearted Snow Queen. May 19\, 7:30 p.m. and May 21\, 3 p.m. $25-$30.
URL:https://www.atlantaparent.com/event/frozenthe-ballet/2023-05-19/
LOCATION:Gas South District\, 6400 Sugarloaf Parkway\, Duluth
GEO:33.9913579;-84.0938603
X-APPLE-STRUCTURED-LOCATION;VALUE=URI;X-ADDRESS=Gas South District 6400 Sugarloaf Parkway Duluth;X-APPLE-RADIUS=500;X-TITLE=6400 Sugarloaf Parkway:geo:-84.0938603,33.9913579
END:VEVENT
BEGIN:VEVENT
DTSTART;VALUE=DATE:20230520
DTEND;VALUE=DATE:20230522
DTSTAMP:20260419T195308
CREATED:20230420T135221Z
LAST-MODIFIED:20230522T123742Z
UID:10006876-1684540800-1684713599@www.atlantaparent.com
SUMMARY:Bluey’s Big Play The Stage Show!
DESCRIPTION:Join Bluey and Bingo as they pull out all of the games and cleverness at their disposal for a theatrical adaptation of the kid’s TV series. May 20-21\, 10 a.m. and 2 p.m. $40+.
URL:https://www.atlantaparent.com/event/blueys-big-play-the-stage-show/
LOCATION:Fox Theatre\, 660 Peachtree St. NE\, Atlanta
ATTACH;FMTTYPE=image/jpeg:https://www.atlantaparent.com/wp-content/uploads/2023/04/Bluey_s_Big_Play_22-12-20_Opening_Night_Review_Pics_0037-scaled-e1681998722380.jpg
GEO:33.772731;-84.385022
X-APPLE-STRUCTURED-LOCATION;VALUE=URI;X-ADDRESS=Fox Theatre 660 Peachtree St. NE Atlanta;X-APPLE-RADIUS=500;X-TITLE=660 Peachtree St. NE:geo:-84.385022,33.772731
END:VEVENT
BEGIN:VEVENT
DTSTART;TZID=America/New_York:20230520T160000
DTEND;TZID=America/New_York:20230520T200000
DTSTAMP:20260419T195308
CREATED:20230508T135220Z
LAST-MODIFIED:20230508T135220Z
UID:10006860-1684598400-1684612800@www.atlantaparent.com
SUMMARY:Beacon Hill Concert
DESCRIPTION:Get ready to groove with ’70s and ’80s dance tunes from local favorites\, and enjoy delicious food from Black and Indigenous food truck vendors. Free admission.
URL:https://www.atlantaparent.com/event/beacon-hill-concert/
LOCATION:Decatur Square\, 101 E Court Square\, Decatur
END:VEVENT
BEGIN:VEVENT
DTSTART;TZID=America/New_York:20230523T130000
DTEND;TZID=America/New_York:20230523T130000
DTSTAMP:20260419T195308
CREATED:20230519T181142Z
LAST-MODIFIED:20230519T181142Z
UID:10006878-1684846800-1684846800@www.atlantaparent.com
SUMMARY:World Turtle Day
DESCRIPTION:Join author Audrey Galex\, as she reads her new book “Turtle Rocks\,” check live turtle traps\, explore the important role turtles play in the local ecosystem and more to celebrate World Turtle Day.
URL:https://www.atlantaparent.com/event/world-turtle-day/
LOCATION:Newman Wetlands Center\, 2755 Freeman Rd.\, Hampton\, GA\, United States
GEO:33.4719875;-84.3060011
X-APPLE-STRUCTURED-LOCATION;VALUE=URI;X-ADDRESS=Newman Wetlands Center 2755 Freeman Rd. Hampton GA United States;X-APPLE-RADIUS=500;X-TITLE=2755 Freeman Rd.:geo:-84.3060011,33.4719875
END:VEVENT
BEGIN:VEVENT
DTSTART;VALUE=DATE:20230526
DTEND;VALUE=DATE:20230529
DTSTAMP:20260419T195308
CREATED:20230524T142537Z
LAST-MODIFIED:20230524T142537Z
UID:10006887-1685059200-1685318399@www.atlantaparent.com
SUMMARY:Memorial Day Weekend at Lanier Islands
DESCRIPTION:This Georgia lakeside resort features accommodation packages\, themed nightly buffets\, poolside activities\, fireworks and more.
URL:https://www.atlantaparent.com/event/memorial-day-weekend-at-lanier-islands/
LOCATION:Lanier Islands Resort\, 7000 Lanier Islands Pkwy.\, Buford\, GA\, 30518\, United States
GEO:34.1779005;-84.0196753
X-APPLE-STRUCTURED-LOCATION;VALUE=URI;X-ADDRESS=Lanier Islands Resort 7000 Lanier Islands Pkwy. Buford GA 30518 United States;X-APPLE-RADIUS=500;X-TITLE=7000 Lanier Islands Pkwy.:geo:-84.0196753,34.1779005
END:VEVENT
BEGIN:VEVENT
DTSTART;VALUE=DATE:20230526
DTEND;VALUE=DATE:20240102
DTSTAMP:20260419T195308
CREATED:20240101T203518Z
LAST-MODIFIED:20240226T133422Z
UID:10006836-1685059200-1704153599@www.atlantaparent.com
SUMMARY:Jurassic World Live Tour
DESCRIPTION:Join forces with a team of scientists to help save humans and dinosaurs from the terrifying Indominus Rex. Feb. 23\, 7:30 p.m.; Feb. 24\, 11 a.m.\, 3 and 7 p.m. and Feb. 25\, 1 p.m. $20-$125+.
URL:https://www.atlantaparent.com/event/jurassic-world-the-exhibition/
LOCATION:Gas South District\, 6400 Sugarloaf Parkway\, Duluth
ATTACH;FMTTYPE=image/jpeg:https://www.atlantaparent.com/wp-content/uploads/2023/04/raptor-interacts-with-audience-1024x512-1.jpg
GEO:33.9913579;-84.0938603
X-APPLE-STRUCTURED-LOCATION;VALUE=URI;X-ADDRESS=Gas South District 6400 Sugarloaf Parkway Duluth;X-APPLE-RADIUS=500;X-TITLE=6400 Sugarloaf Parkway:geo:-84.0938603,33.9913579
END:VEVENT
BEGIN:VEVENT
DTSTART;TZID=UTC:20230526T180000
DTEND;TZID=UTC:20230526T210000
DTSTAMP:20260419T195308
CREATED:20210505T005434Z
LAST-MODIFIED:20230508T142958Z
UID:10002602-1685124000-1685134800@www.atlantaparent.com
SUMMARY:Fridays -N- Duluth
DESCRIPTION:Experience exotic flavors from different food trucks and listen to live entertainment. Free admission.
URL:https://www.atlantaparent.com/event/fridays-n-duluth/2023-05-26/
LOCATION:Downtown Duluth\, 3142 Hill Street NW\, Duluth
GEO:34.0028094;-84.1464369
X-APPLE-STRUCTURED-LOCATION;VALUE=URI;X-ADDRESS=Downtown Duluth 3142 Hill Street NW Duluth;X-APPLE-RADIUS=500;X-TITLE=3142 Hill Street NW:geo:-84.1464369,34.0028094
END:VEVENT
BEGIN:VEVENT
DTSTART;TZID=America/New_York:20230526T193000
DTEND;TZID=America/New_York:20230526T213000
DTSTAMP:20260419T195308
CREATED:20200605T004102Z
LAST-MODIFIED:20230508T142402Z
UID:10004161-1685129400-1685136600@www.atlantaparent.com
SUMMARY:Norcross Concerts in the Park at Thrasher Park
DESCRIPTION:Enjoy free music and purchase food from local restaurants. Donate canned food and non-perishable items to CAN-Do Food Drive. 7:30-9:30 p.m.
URL:https://www.atlantaparent.com/event/norcross-concerts-in-the-park-at-thrasher-park/2023-05-26/
LOCATION:Thrasher Park\, 93 Park Dr.\, Norcross
END:VEVENT
BEGIN:VEVENT
DTSTART;VALUE=DATE:20230527
DTEND;VALUE=DATE:20230530
DTSTAMP:20260419T195308
CREATED:20200305T050042Z
LAST-MODIFIED:20230329T124928Z
UID:10001584-1685145600-1685404799@www.atlantaparent.com
SUMMARY:Atlanta Jazz Festival
DESCRIPTION:Photo by Drew Dinwiddie \nThis three-day festival showcases many of the best performers and jazz acts in the country. May 27-29\, 11 a.m.-11 p.m. Free admission.
URL:https://www.atlantaparent.com/event/atlanta-jazz-festival/
LOCATION:Piedmont Park\, 929 Charles Allen Dr.\, Atlanta\, GA\, United States
ATTACH;FMTTYPE=image/jpeg:https://www.atlantaparent.com/wp-content/uploads/2020/03/Lizz-Wright-Photo-by-Drew-Dinwiddie_JF-Day-1-LD-Edits-48-of-48-scaled-e1627501465499.jpg
GEO:33.780743;-84.37076
X-APPLE-STRUCTURED-LOCATION;VALUE=URI;X-ADDRESS=Piedmont Park 929 Charles Allen Dr. Atlanta GA United States;X-APPLE-RADIUS=500;X-TITLE=929 Charles Allen Dr.:geo:-84.37076,33.780743
END:VEVENT
BEGIN:VEVENT
DTSTART;TZID=America/New_York:20230601T180000
DTEND;TZID=America/New_York:20230601T200000
DTSTAMP:20260419T195308
CREATED:20230522T135615Z
LAST-MODIFIED:20230522T135615Z
UID:10006956-1685642400-1685649600@www.atlantaparent.com
SUMMARY:Summer Splash
DESCRIPTION:Kick off summer at this waterslide party with a live DJ.
URL:https://www.atlantaparent.com/event/summer-splash/
LOCATION:The Avenue Peachtree City\, 239 City Cir.\, Peachtree City
GEO:33.3945725;-84.5912368
X-APPLE-STRUCTURED-LOCATION;VALUE=URI;X-ADDRESS=The Avenue Peachtree City 239 City Cir. Peachtree City;X-APPLE-RADIUS=500;X-TITLE=239 City Cir.:geo:-84.5912368,33.3945725
END:VEVENT
BEGIN:VEVENT
DTSTART;VALUE=DATE:20230602
DTEND;VALUE=DATE:20230904
DTSTAMP:20260419T195308
CREATED:20230606T155159Z
LAST-MODIFIED:20230606T155159Z
UID:10006900-1685664000-1693785599@www.atlantaparent.com
SUMMARY:Ancient Nubia: Art of the 25th Dynasty
DESCRIPTION:For nearly three thousand years\, a series of kingdoms flourished in the Sudanese Nile Valley\, and you can view the wealth of these kingdoms with jewelry\, pottery\, metalwork and more. $18.50.
URL:https://www.atlantaparent.com/event/ancient-nubia-art-of-the-25th-dynasty/
LOCATION:High Museum of Art\, 1280 Peachtree Street\, Atlanta
GEO:33.7891582;-84.3849351
X-APPLE-STRUCTURED-LOCATION;VALUE=URI;X-ADDRESS=High Museum of Art 1280 Peachtree Street Atlanta;X-APPLE-RADIUS=500;X-TITLE=1280 Peachtree Street:geo:-84.3849351,33.7891582
END:VEVENT
BEGIN:VEVENT
DTSTART;VALUE=DATE:20230603
DTEND;VALUE=DATE:20240701
DTSTAMP:20260419T195308
CREATED:20230518T132415Z
LAST-MODIFIED:20240506T124749Z
UID:10006867-1685750400-1719791999@www.atlantaparent.com
SUMMARY:Disney The Little Mermaid x CAMP
DESCRIPTION:Be part of Ariel’s world with this theatrical experience featuring live music\, puppetry and magic for an immersive dive into the beloved movie. $35; ages 1 and younger\, free.
URL:https://www.atlantaparent.com/event/disney-the-little-mermaid-x-camp/
LOCATION:CAMP Atlanta\, 4551 Olde Perimeter Way\, Atlanta
ATTACH;FMTTYPE=image/jpeg:https://www.atlantaparent.com/wp-content/uploads/2023/05/1H3A3100-scaled-e1686159206671.jpg
GEO:33.9302084;-84.3429486
X-APPLE-STRUCTURED-LOCATION;VALUE=URI;X-ADDRESS=CAMP Atlanta 4551 Olde Perimeter Way Atlanta;X-APPLE-RADIUS=500;X-TITLE=4551 Olde Perimeter Way:geo:-84.3429486,33.9302084
END:VEVENT
BEGIN:VEVENT
DTSTART;VALUE=DATE:20230607
DTEND;VALUE=DATE:20230622
DTSTAMP:20260419T195308
CREATED:20250618T133504Z
LAST-MODIFIED:20250707T165613Z
UID:10006866-1686096000-1687391999@www.atlantaparent.com
SUMMARY:A Year with Frog and Toad
DESCRIPTION:Based on the books by Arnold Lobel\, follow two best friends\, the cheerful Frog and the grumpy Toad\, as they hop\, sing and dance their way through a year of adventure. July 17-18\, 7:30 p.m.; July 19\, 11 a.m.\, 2 and 7:30 p.m. and July 20\, 2 p.m. $12.
URL:https://www.atlantaparent.com/event/a-year-with-frog-and-toad-2/
LOCATION:Lionheart Theatre\, 10 College St NW\, Norcross
ATTACH;FMTTYPE=image/jpeg:https://www.atlantaparent.com/wp-content/uploads/2025/06/Lionheart-Frog-and-Toad-2025-scaled-e1751906081756.jpeg
GEO:33.942457;-84.211163
X-APPLE-STRUCTURED-LOCATION;VALUE=URI;X-ADDRESS=Lionheart Theatre 10 College St NW Norcross;X-APPLE-RADIUS=500;X-TITLE=10 College St NW:geo:-84.211163,33.942457
END:VEVENT
END:VCALENDAR