BEGIN:VCALENDAR
VERSION:2.0
PRODID:-//NEW Atlanta Parent - ECPv6.15.11//NONSGML v1.0//EN
CALSCALE:GREGORIAN
METHOD:PUBLISH
X-ORIGINAL-URL:https://www.atlantaparent.com
X-WR-CALDESC:Events for NEW Atlanta Parent
REFRESH-INTERVAL;VALUE=DURATION:PT1H
X-Robots-Tag:noindex
X-PUBLISHED-TTL:PT1H
BEGIN:VTIMEZONE
TZID:America/New_York
BEGIN:DAYLIGHT
TZOFFSETFROM:-0500
TZOFFSETTO:-0400
TZNAME:EDT
DTSTART:20220313T070000
END:DAYLIGHT
BEGIN:STANDARD
TZOFFSETFROM:-0400
TZOFFSETTO:-0500
TZNAME:EST
DTSTART:20221106T060000
END:STANDARD
BEGIN:DAYLIGHT
TZOFFSETFROM:-0500
TZOFFSETTO:-0400
TZNAME:EDT
DTSTART:20230312T070000
END:DAYLIGHT
BEGIN:STANDARD
TZOFFSETFROM:-0400
TZOFFSETTO:-0500
TZNAME:EST
DTSTART:20231105T060000
END:STANDARD
BEGIN:DAYLIGHT
TZOFFSETFROM:-0500
TZOFFSETTO:-0400
TZNAME:EDT
DTSTART:20240310T070000
END:DAYLIGHT
BEGIN:STANDARD
TZOFFSETFROM:-0400
TZOFFSETTO:-0500
TZNAME:EST
DTSTART:20241103T060000
END:STANDARD
BEGIN:DAYLIGHT
TZOFFSETFROM:-0500
TZOFFSETTO:-0400
TZNAME:EDT
DTSTART:20250309T070000
END:DAYLIGHT
BEGIN:STANDARD
TZOFFSETFROM:-0400
TZOFFSETTO:-0500
TZNAME:EST
DTSTART:20251102T060000
END:STANDARD
END:VTIMEZONE
BEGIN:VTIMEZONE
TZID:UTC
BEGIN:STANDARD
TZOFFSETFROM:+0000
TZOFFSETTO:+0000
TZNAME:UTC
DTSTART:20220101T000000
END:STANDARD
END:VTIMEZONE
BEGIN:VEVENT
DTSTART;VALUE=DATE:20231118
DTEND;VALUE=DATE:20240114
DTSTAMP:20260425T221551
CREATED:20231014T040031Z
LAST-MODIFIED:20231020T144142Z
UID:10003306-1700265600-1705190399@www.atlantaparent.com
SUMMARY:Festival of the Trees
DESCRIPTION:A lighted display of trees throughout the museum. $18; ages 2-12\, $12; ages 1 and younger\, free.
URL:https://www.atlantaparent.com/event/festival-of-the-trees/
LOCATION:Southeastern Railway Museum\, 3595 Buford Highway\, Duluth
GEO:33.989078;-84.1558636
X-APPLE-STRUCTURED-LOCATION;VALUE=URI;X-ADDRESS=Southeastern Railway Museum 3595 Buford Highway Duluth;X-APPLE-RADIUS=500;X-TITLE=3595 Buford Highway:geo:-84.1558636,33.989078
END:VEVENT
BEGIN:VEVENT
DTSTART;TZID=America/New_York:20231118T143000
DTEND;TZID=America/New_York:20231118T143000
DTSTAMP:20260425T221551
CREATED:20231107T145556Z
LAST-MODIFIED:20231115T190144Z
UID:10007657-1700317800-1700317800@www.atlantaparent.com
SUMMARY:Virtual: Puppet Playdate
DESCRIPTION:On the third Saturday of each month\, watch an all-new puppet show\, along with arts and crafts\, music and special guests from the Center for Puppetry Arts. $10.
URL:https://www.atlantaparent.com/event/virtual-the-velveteen-rabbit/2023-11-18/
END:VEVENT
BEGIN:VEVENT
DTSTART;VALUE=DATE:20231119
DTEND;VALUE=DATE:20240101
DTSTAMP:20260425T221551
CREATED:20231002T174538Z
LAST-MODIFIED:20231020T142340Z
UID:10005547-1700352000-1704067199@www.atlantaparent.com
SUMMARY:Holiday Magic in Alpharetta
DESCRIPTION:Experience the holiday magic in Alpharetta\, with a chance to win a getaway package worth $590! Immerse yourself in the festive atmosphere with twinkling lights and warm vibes. Explore unique shops\, indulge in delectable dining\, and enjoy family-friendly activities like ice skating and immersive gaming. Extend the joy with a cozy stay at various hotels. For more details and to enter\, visit awesomealpharetta.com. Contest runs until December 31.
URL:https://www.atlantaparent.com/event/snow-spectacle/
LOCATION:Village Green\, 2 Park Plaza\, Alpharetta
ATTACH;FMTTYPE=image/jpeg:https://www.atlantaparent.com/wp-content/uploads/2020/11/ACVBholiday_altparent-scaled-e1697811792232.jpg
END:VEVENT
BEGIN:VEVENT
DTSTART;VALUE=DATE:20231119
DTEND;VALUE=DATE:20231120
DTSTAMP:20260425T221551
CREATED:20231103T182011Z
LAST-MODIFIED:20231103T182011Z
UID:10007616-1700352000-1700438399@www.atlantaparent.com
SUMMARY:Play & Dance Into the Holidays
DESCRIPTION:Enjoy an all-day extravaganza with inspired slime vats\, coloring pages\, beautiful ballerinas and more inspired by Atlanta Ballet’s The Nutcracker. $39; Elmer’s Kitchen Tour\, $15.
URL:https://www.atlantaparent.com/event/play-dance-into-the-holidays/
LOCATION:Sloomoo Institute\, 3637 Peachtree Rd. NE\, Atlanta
GEO:33.8529711;-84.3583126
X-APPLE-STRUCTURED-LOCATION;VALUE=URI;X-ADDRESS=Sloomoo Institute 3637 Peachtree Rd. NE Atlanta;X-APPLE-RADIUS=500;X-TITLE=3637 Peachtree Rd. NE:geo:-84.3583126,33.8529711
END:VEVENT
BEGIN:VEVENT
DTSTART;VALUE=DATE:20231120
DTEND;VALUE=DATE:20231123
DTSTAMP:20260425T221551
CREATED:20231017T155045Z
LAST-MODIFIED:20231018T171010Z
UID:10005447-1700438400-1700697599@www.atlantaparent.com
SUMMARY:Guided Hike
DESCRIPTION:Lexi Newhouse \nTake in the views of the river with a guided hike on the River Boardwalk trail. Nov. 20-22\, 11 a.m. $15; ages 13-18\, $11; ages 3-12\, $9; ages 2 and younger\, free.
URL:https://www.atlantaparent.com/event/fall-break-guided-hikes/
LOCATION:Chattahoochee Nature Center\, 9135 Willeo Road\, Roswell
ATTACH;FMTTYPE=image/jpeg:https://www.atlantaparent.com/wp-content/uploads/2020/10/IMG_5763_LexiNewhouse_Fall-Break-Guided-Hikes-scaled-e1603296754752.jpg
GEO:34.0038514;-84.38312
X-APPLE-STRUCTURED-LOCATION;VALUE=URI;X-ADDRESS=Chattahoochee Nature Center 9135 Willeo Road Roswell;X-APPLE-RADIUS=500;X-TITLE=9135 Willeo Road:geo:-84.38312,34.0038514
END:VEVENT
BEGIN:VEVENT
DTSTART;VALUE=DATE:20231120
DTEND;VALUE=DATE:20231225
DTSTAMP:20260425T221551
CREATED:20251002T040034Z
LAST-MODIFIED:20251103T173323Z
UID:10003288-1700438400-1703462399@www.atlantaparent.com
SUMMARY:Santa at Avalon
DESCRIPTION:Enjoy festive photo ops with Santa at the North Pole-inspired cottage. Reservation required. Nov. 24-Dec. 24. See website for schedule. $35+. \n\nStory Time with Santa: This special event is held on Monday nights. Tickets on sale Nov. 6 at 10 a.m.\nBreakfast with Santa: Enjoy a breakfast meal with Santa at Chick-fil-A or Oak Steakhouse. Tickets on sale Nov. 6 at 10 a.m.
URL:https://www.atlantaparent.com/event/storytime-with-santa/
LOCATION:Santa’s Cottage in Palmer Plaza\, 400 Avalon Blvd.\, Alpharetta
END:VEVENT
BEGIN:VEVENT
DTSTART;VALUE=DATE:20231123
DTEND;VALUE=DATE:20231224
DTSTAMP:20260425T221551
CREATED:20251001T040041Z
LAST-MODIFIED:20251002T173406Z
UID:10003927-1700697600-1703375999@www.atlantaparent.com
SUMMARY:Mountain Country Christmas in Lights
DESCRIPTION:This fairground transforms into a spectacular\, magical holiday light show with Christmas music\, arts and crafts\, food\, fun\, entertainment\, photo opportunities and a visit with Santa. Nov. 27-Dec. 23. See website for schedule. $9; ages 12 and younger\, free.
URL:https://www.atlantaparent.com/event/country-christmas-in-lights/
LOCATION:Georgia Mountain Fairgrounds\, 1311 Music Hall Road\, Hiawassee
GEO:34.9679896;-83.7739687
X-APPLE-STRUCTURED-LOCATION;VALUE=URI;X-ADDRESS=Georgia Mountain Fairgrounds 1311 Music Hall Road Hiawassee;X-APPLE-RADIUS=500;X-TITLE=1311 Music Hall Road:geo:-83.7739687,34.9679896
END:VEVENT
BEGIN:VEVENT
DTSTART;VALUE=DATE:20231123
DTEND;VALUE=DATE:20231231
DTSTAMP:20260425T221551
CREATED:20251001T161648Z
LAST-MODIFIED:20251119T165925Z
UID:10003260-1700697600-1703980799@www.atlantaparent.com
SUMMARY:A Country Christmas
DESCRIPTION:Take a drive or hayride through beautiful Christmas lights\, visit with Santa and his reindeer from Thur.-Sun.\, meet the animals at the petting zoo\, and taste s’mores. Nov. 25-Dec. 30. See website for schedule. $25-$35; hayride\, $10.
URL:https://www.atlantaparent.com/event/pettit-creek-farms-christmas-lights/
LOCATION:Pettit Creek Farms\, 337 Cassville Rd.\, Cartersville
ATTACH;FMTTYPE=image/png:https://www.atlantaparent.com/wp-content/uploads/2018/11/Pettit-Creek-e1572878673657.png
GEO:34.1854003;-84.816038
X-APPLE-STRUCTURED-LOCATION;VALUE=URI;X-ADDRESS=Pettit Creek Farms 337 Cassville Rd. Cartersville;X-APPLE-RADIUS=500;X-TITLE=337 Cassville Rd.:geo:-84.816038,34.1854003
END:VEVENT
BEGIN:VEVENT
DTSTART;VALUE=DATE:20231123
DTEND;VALUE=DATE:20240101
DTSTAMP:20260425T221552
CREATED:20251010T202354Z
LAST-MODIFIED:20251027T135010Z
UID:10000800-1700697600-1704067199@www.atlantaparent.com
SUMMARY:Lights of Life
DESCRIPTION:Tons of holiday lights on display around the campus\, plus concessions\, pony rides\, train rides and a petting zoo. $10 per car; buses\, $20.
URL:https://www.atlantaparent.com/event/lights-of-life/
LOCATION:Life University\, 1269 Barclay Cir.\, Marietta
ATTACH;FMTTYPE=image/jpeg:https://www.atlantaparent.com/wp-content/uploads/2019/10/Lights-of-LIFE-7-scaled-e1605798357166.jpg
END:VEVENT
BEGIN:VEVENT
DTSTART;VALUE=DATE:20231124
DTEND;VALUE=DATE:20231222
DTSTAMP:20260425T221552
CREATED:20231020T144512Z
LAST-MODIFIED:20231020T144512Z
UID:10007557-1700784000-1703203199@www.atlantaparent.com
SUMMARY:Festival of Trees
DESCRIPTION:Vote for your favorite decorated tree by donating money\, canned or dried food or toys. Nov. 24-Dec. 21. Mon.-Fri. 8 a.m.-5 p.m. Free admission.
URL:https://www.atlantaparent.com/event/festival-of-trees-3/
LOCATION:Snellville City Hall\, 2342 Oak Rd. SW\, Snellville
GEO:33.8594929;-84.0145658
X-APPLE-STRUCTURED-LOCATION;VALUE=URI;X-ADDRESS=Snellville City Hall 2342 Oak Rd. SW Snellville;X-APPLE-RADIUS=500;X-TITLE=2342 Oak Rd. SW:geo:-84.0145658,33.8594929
END:VEVENT
BEGIN:VEVENT
DTSTART;VALUE=DATE:20231124
DTEND;VALUE=DATE:20231225
DTSTAMP:20260425T221552
CREATED:20251001T165341Z
LAST-MODIFIED:20251002T173517Z
UID:10005496-1700784000-1703462399@www.atlantaparent.com
SUMMARY:Holiday Special Rides
DESCRIPTION:This festive one- or four-hour train ride includes holiday music\, “The Night Before Christmas” storytelling and a chance to see Santa Claus. Nov. 28-Dec. 24. See website for schedule. $54.99; ages 2-12\, $42.99; ages 1 and younger\, free.
URL:https://www.atlantaparent.com/event/santa-express/
LOCATION:Blue Ridge Scenic Railway\, 241 Depot Street\, Blue Ridge
GEO:34.865533;-84.324726
X-APPLE-STRUCTURED-LOCATION;VALUE=URI;X-ADDRESS=Blue Ridge Scenic Railway 241 Depot Street Blue Ridge;X-APPLE-RADIUS=500;X-TITLE=241 Depot Street:geo:-84.324726,34.865533
END:VEVENT
BEGIN:VEVENT
DTSTART;VALUE=DATE:20231124
DTEND;VALUE=DATE:20231224
DTSTAMP:20260425T221552
CREATED:20251002T043345Z
LAST-MODIFIED:20251201T135250Z
UID:10004552-1700784000-1703375999@www.atlantaparent.com
SUMMARY:Christmas Canteen
DESCRIPTION:This holiday tradition shows the magic of Christmas with songs\, comic sketches and trips down memory lane. Nov. 28-Dec. 21. See website for showtimes. $35.74-$95.10.
URL:https://www.atlantaparent.com/event/christmas-canteen/
LOCATION:Lawrenceville Arts Center\, 125 North Clayton St.\, Lawrenceville
ATTACH;FMTTYPE=image/jpeg:https://www.atlantaparent.com/wp-content/uploads/2023/10/899A4360-scaled-e1700066574491.jpg
GEO:33.956993;-83.9879364
X-APPLE-STRUCTURED-LOCATION;VALUE=URI;X-ADDRESS=Lawrenceville Arts Center 125 North Clayton St. Lawrenceville;X-APPLE-RADIUS=500;X-TITLE=125 North Clayton St.:geo:-83.9879364,33.956993
END:VEVENT
BEGIN:VEVENT
DTSTART;VALUE=DATE:20231124
DTEND;VALUE=DATE:20231225
DTSTAMP:20260425T221552
CREATED:20241003T124850Z
LAST-MODIFIED:20251020T212735Z
UID:10004784-1700784000-1703462399@www.atlantaparent.com
SUMMARY:Tea with Santa at St. Regis
DESCRIPTION:Enjoy a festive holiday atmosphere with delectable holiday teas and treats and a special visit from Santa. Nov. 28-Dec. 24. See website for schedule. $110; ages 3-10\, $95; ages 2 and younger\, free.
URL:https://www.atlantaparent.com/event/45183/
LOCATION:St. Regis Atlanta\, 88 West Paces Ferry Road\, Atlanta
ATTACH;FMTTYPE=image/jpeg:https://www.atlantaparent.com/wp-content/uploads/2020/10/CB59D276-F4FE-46F1-B915-83743FEF377C-scaled-e1606325255407.jpg
GEO:33.8398059;-84.3826416
X-APPLE-STRUCTURED-LOCATION;VALUE=URI;X-ADDRESS=St. Regis Atlanta 88 West Paces Ferry Road Atlanta;X-APPLE-RADIUS=500;X-TITLE=88 West Paces Ferry Road:geo:-84.3826416,33.8398059
END:VEVENT
BEGIN:VEVENT
DTSTART;TZID=America/New_York:20231124T160000
DTEND;TZID=America/New_York:20231124T160000
DTSTAMP:20260425T221552
CREATED:20231018T175537Z
LAST-MODIFIED:20231018T175537Z
UID:10007553-1700841600-1700841600@www.atlantaparent.com
SUMMARY:American Girl Live! In Concert
DESCRIPTION:Watch beloved characters come to life on stage with this pop concert spectacle featuring music\, dancing and surprises. $29.50-$59.
URL:https://www.atlantaparent.com/event/american-girl-live-in-concert/
LOCATION:Atlanta Symphony Hall\, 1280 Peachtree St. NE\, Atlanta
GEO:33.7891582;-84.3849351
X-APPLE-STRUCTURED-LOCATION;VALUE=URI;X-ADDRESS=Atlanta Symphony Hall 1280 Peachtree St. NE Atlanta;X-APPLE-RADIUS=500;X-TITLE=1280 Peachtree St. NE:geo:-84.3849351,33.7891582
END:VEVENT
BEGIN:VEVENT
DTSTART;TZID=America/New_York:20231124T180000
DTEND;TZID=America/New_York:20231230T210000
DTSTAMP:20260425T221552
CREATED:20231012T170401Z
LAST-MODIFIED:20231012T170434Z
UID:10007537-1700848800-1703970000@www.atlantaparent.com
SUMMARY:Lights Over Alpharetta
DESCRIPTION:Experience the magic of the holiday with this walking or drive-thru light display. Nov. 24-Dec. 30\, 6-10 p.m. $29-$49.
URL:https://www.atlantaparent.com/event/lights-over-alpharetta/
LOCATION:Ameris Bank Amphitheatre\, 2200 Encore Pkwy.\, Alpharetta
END:VEVENT
BEGIN:VEVENT
DTSTART;VALUE=DATE:20231125
DTEND;VALUE=DATE:20231211
DTSTAMP:20260425T221552
CREATED:20241001T040032Z
LAST-MODIFIED:20241118T202927Z
UID:10003279-1700870400-1702252799@www.atlantaparent.com
SUMMARY:The Gift of the Magi 2.0
DESCRIPTION:Jim\, an Atlanta streetcar driver\, struggles to make ends meet during the holiday season\, and he goes to great lengths to buy a gift for his wife Della. Nov. 30-Dec. 8. See website for showtimes. $36-$47.50.
URL:https://www.atlantaparent.com/event/gift-of-the-magi/
LOCATION:Marietta Theatre in the Square\, 11 Whitlock Avenue\, Marietta
GEO:33.9516334;-84.5565858
X-APPLE-STRUCTURED-LOCATION;VALUE=URI;X-ADDRESS=Marietta Theatre in the Square 11 Whitlock Avenue Marietta;X-APPLE-RADIUS=500;X-TITLE=11 Whitlock Avenue:geo:-84.5565858,33.9516334
END:VEVENT
BEGIN:VEVENT
DTSTART;TZID=America/New_York:20231125T110000
DTEND;TZID=America/New_York:20231125T150000
DTSTAMP:20260425T221552
CREATED:20231116T135556Z
LAST-MODIFIED:20231121T211650Z
UID:10007709-1700910000-1700924400@www.atlantaparent.com
SUMMARY:Home for the Holidays
DESCRIPTION:See the historic home of author Joel Chandler Harris decorated for the holidays with these guided tours and a storytelling performance. Nov. 25 and Dec. 2\, 9 and 16\, 11 a.m.-3 p.m. Storytelling at 1 p.m. $20; ages 11 and younger\, $16.
URL:https://www.atlantaparent.com/event/home-for-the-holidays/2023-11-25/
LOCATION:The Wren’s Nest\, 1050 Ralph D. Abernathy Blvd.\, Atlanta
GEO:33.7375619;-84.422393
X-APPLE-STRUCTURED-LOCATION;VALUE=URI;X-ADDRESS=The Wren’s Nest 1050 Ralph D. Abernathy Blvd. Atlanta;X-APPLE-RADIUS=500;X-TITLE=1050 Ralph D. Abernathy Blvd.:geo:-84.422393,33.7375619
END:VEVENT
BEGIN:VEVENT
DTSTART;VALUE=DATE:20231126
DTEND;VALUE=DATE:20231127
DTSTAMP:20260425T221552
CREATED:20231110T145250Z
LAST-MODIFIED:20231113T155645Z
UID:10007646-1700956800-1701043199@www.atlantaparent.com
SUMMARY:Holiday Classic Movies
DESCRIPTION:Gather together with your loved ones to see your annual holiday favorite on the big screen\, including “Elf\,” “The Polar Express” and more. Nov. 26-Dec. 23. See website for showtimes. $5.
URL:https://www.atlantaparent.com/event/holiday-classics/2023-11-26/
LOCATION:Regal Cinemas
END:VEVENT
BEGIN:VEVENT
DTSTART;VALUE=DATE:20231128
DTEND;VALUE=DATE:20240101
DTSTAMP:20260425T221552
CREATED:20231004T164201Z
LAST-MODIFIED:20231012T172927Z
UID:10006610-1701129600-1704067199@www.atlantaparent.com
SUMMARY:Holiday Tree Trail
DESCRIPTION:Ring in the yuletide season with six-foot Fraser Firs decorated by local businesses\, families and organizations around the theme of “My Favorite Things.” Nov. 28-Dec. 31. See website for schedule. $14.95; ages 3-12\, $12.95; ages 2 and younger\, free.
URL:https://www.atlantaparent.com/event/holiday-tree-trail/
LOCATION:Atlanta Botanical Garden\, Gainesville\, 1911 Sweetbay Drive\, Gainesville
GEO:34.3353324;-83.8178337
X-APPLE-STRUCTURED-LOCATION;VALUE=URI;X-ADDRESS=Atlanta Botanical Garden Gainesville 1911 Sweetbay Drive Gainesville;X-APPLE-RADIUS=500;X-TITLE=1911 Sweetbay Drive:geo:-83.8178337,34.3353324
END:VEVENT
BEGIN:VEVENT
DTSTART;VALUE=DATE:20231130
DTEND;VALUE=DATE:20231217
DTSTAMP:20260425T221552
CREATED:20251006T022601Z
LAST-MODIFIED:20251027T202340Z
UID:10003915-1701302400-1702771199@www.atlantaparent.com
SUMMARY:A Christmas Carol: A One Man OSA Special Event
DESCRIPTION:This traditional tale of Mr. Scrooge is presented as a one-man show. Dec. 9-18. See website for showtimes. $14.50-$26.50.
URL:https://www.atlantaparent.com/event/a-christmas-carol-5/
LOCATION:OnStage Atlanta\, 2969 East Ponce de Leon Avenue\, Decatur
GEO:33.7829602;-84.2715521
X-APPLE-STRUCTURED-LOCATION;VALUE=URI;X-ADDRESS=OnStage Atlanta 2969 East Ponce de Leon Avenue Decatur;X-APPLE-RADIUS=500;X-TITLE=2969 East Ponce de Leon Avenue:geo:-84.2715521,33.7829602
END:VEVENT
BEGIN:VEVENT
DTSTART;TZID=America/New_York:20231130T180000
DTEND;TZID=America/New_York:20231130T190000
DTSTAMP:20260425T221552
CREATED:20231107T132822Z
LAST-MODIFIED:20231107T132822Z
UID:10007631-1701367200-1701370800@www.atlantaparent.com
SUMMARY:Lighting of the Tree
DESCRIPTION:The City of Jonesboro kicks off Christmas with this tree lighting.
URL:https://www.atlantaparent.com/event/lighting-of-the-tree/
LOCATION:Lee Street Park\, 73 Lee St.\, Jonesboro
END:VEVENT
BEGIN:VEVENT
DTSTART;TZID=America/New_York:20231130T180000
DTEND;TZID=America/New_York:20231130T200000
DTSTAMP:20260425T221552
CREATED:20231117T185847Z
LAST-MODIFIED:20231117T185847Z
UID:10007703-1701367200-1701374400@www.atlantaparent.com
SUMMARY:Light Up the Holidays at Loews Atlanta Hotel
DESCRIPTION:This celebratory tree lighting ceremony will feature festive entertainment from the Atlanta Women’s Chorus. A portions of the proceeds from festive beverages sold at Saltwood\, the hotel’s lobby bar and lounge\, will be donated to the Children’s Healthcare of Atlanta Foundation.
URL:https://www.atlantaparent.com/event/light-up-the-holidays-at-loews-atlanta-hotel/
LOCATION:Loews Atlanta Hotel\, 1065 Peachtree St. NE\, Atlanta
END:VEVENT
BEGIN:VEVENT
DTSTART;VALUE=DATE:20231201
DTEND;VALUE=DATE:20231204
DTSTAMP:20260425T221552
CREATED:20231112T142339Z
LAST-MODIFIED:20231115T191028Z
UID:10006138-1701388800-1701647999@www.atlantaparent.com
SUMMARY:Gala: A Cirque Show
DESCRIPTION:The Akrosphere Aerial & Circus Arts dazzle with a grand party in an unforgettable circus experience. Dec. 1-2\, 7 p.m. and Dec. 2-3\, 2:30 p.m. $15-$20.
URL:https://www.atlantaparent.com/event/reveiller-a-holiday-cirque-show/
LOCATION: Aurora Theatre\, 128 East Pike St.\, Lawrenceville
END:VEVENT
BEGIN:VEVENT
DTSTART;VALUE=DATE:20231201
DTEND;VALUE=DATE:20231218
DTSTAMP:20260425T221552
CREATED:20251020T144009Z
LAST-MODIFIED:20251119T170657Z
UID:10004719-1701388800-1702857599@www.atlantaparent.com
SUMMARY:A Christmas Carol
DESCRIPTION:This new adaptation features seven actors celebrating the magic of theater and the Christmas spirit. Dec. 6-21. See website for showtimes. $15-$32.
URL:https://www.atlantaparent.com/event/its-a-wonderful-life/
LOCATION:Stage Door Theatre\, 5339 Chamblee Dunwoody Rd.\, Dunwoody
GEO:33.9446855;-84.3319777
X-APPLE-STRUCTURED-LOCATION;VALUE=URI;X-ADDRESS=Stage Door Theatre 5339 Chamblee Dunwoody Rd. Dunwoody;X-APPLE-RADIUS=500;X-TITLE=5339 Chamblee Dunwoody Rd.:geo:-84.3319777,33.9446855
END:VEVENT
BEGIN:VEVENT
DTSTART;VALUE=DATE:20231201
DTEND;VALUE=DATE:20231225
DTSTAMP:20260425T221552
CREATED:20251025T040006Z
LAST-MODIFIED:20251027T175438Z
UID:10001008-1701388800-1703462399@www.atlantaparent.com
SUMMARY:A Christmas Carol
DESCRIPTION:This adaptation of the Broadway musical shows Ebenezer Scrooge has he’s visited by ghosts who try to convince him to change. Dec. 5-24. See website for showtimes. $21-$25.
URL:https://www.atlantaparent.com/event/a-christmas-carol/
LOCATION:Woodstock Arts\, 8534 Main St.\, Woodstock
ATTACH;FMTTYPE=image/jpeg:https://www.atlantaparent.com/wp-content/uploads/2020/10/IMG_0329-scaled-e1669049224493.jpg
GEO:34.1017163;-84.5199758
X-APPLE-STRUCTURED-LOCATION;VALUE=URI;X-ADDRESS=Woodstock Arts 8534 Main St. Woodstock;X-APPLE-RADIUS=500;X-TITLE=8534 Main St.:geo:-84.5199758,34.1017163
END:VEVENT
BEGIN:VEVENT
DTSTART;VALUE=DATE:20231201
DTEND;VALUE=DATE:20240101
DTSTAMP:20260425T221552
CREATED:20231020T163937Z
LAST-MODIFIED:20231020T163937Z
UID:10007569-1701388800-1704067199@www.atlantaparent.com
SUMMARY:Winter Fun for All Ages at Lake Lanier
DESCRIPTION:Lake Lanier offers a winter wonderland of snowy fun throughout the holiday season and chilly months. From snow tubing and ice skating to the Polar Bear Plunge — be sure to make plans to visit. Don’t miss the Lakeside Lights Spectacular presented by Margaritaville at Lanier Islands with gorgeous holiday lights\, specialty food and drink and of course\, visits with Santa Claus.
URL:https://www.atlantaparent.com/event/winter-fun-for-all-ages-at-lake-lanier/
LOCATION:Lake Lanier\, Gainesville
ATTACH;FMTTYPE=image/jpeg:https://www.atlantaparent.com/wp-content/uploads/2023/10/DSC_0341-lake-lanier-scaled-e1697819955607.jpg
END:VEVENT
BEGIN:VEVENT
DTSTART;TZID=America/New_York:20231201T170000
DTEND;TZID=America/New_York:20231201T170000
DTSTAMP:20260425T221552
CREATED:20231017T182334Z
LAST-MODIFIED:20231101T144123Z
UID:10006617-1701450000-1701450000@www.atlantaparent.com
SUMMARY:Olde Town Christmas Party
DESCRIPTION:Take selfies with Santa\, taste food from food trucks\, roast marshmallows\, enjoy reindeer games and more. Free admission. \n 
URL:https://www.atlantaparent.com/event/olde-town-christmas-party-2/
LOCATION:Conyers Welcome Center/Depot\, 901 Railroad St.\, Conyers
GEO:33.6663917;-84.0180428
X-APPLE-STRUCTURED-LOCATION;VALUE=URI;X-ADDRESS=Conyers Welcome Center/Depot 901 Railroad St. Conyers;X-APPLE-RADIUS=500;X-TITLE=901 Railroad St.:geo:-84.0180428,33.6663917
END:VEVENT
BEGIN:VEVENT
DTSTART;TZID=America/New_York:20231201T183000
DTEND;TZID=America/New_York:20231201T183000
DTSTAMP:20260425T221552
CREATED:20231107T140232Z
LAST-MODIFIED:20231107T140232Z
UID:10007634-1701455400-1701455400@www.atlantaparent.com
SUMMARY:Annual Tree Lighting
DESCRIPTION:The third annual tree lighting includes carols and hot cocoa as the tree is lit.
URL:https://www.atlantaparent.com/event/annual-tree-lighting/
LOCATION:Heritage Park\, 1898 Heritage Pkwy.\, Fayetteville
GEO:33.4419479;-84.120531
X-APPLE-STRUCTURED-LOCATION;VALUE=URI;X-ADDRESS=Heritage Park 1898 Heritage Pkwy. Fayetteville;X-APPLE-RADIUS=500;X-TITLE=1898 Heritage Pkwy.:geo:-84.120531,33.4419479
END:VEVENT
BEGIN:VEVENT
DTSTART;VALUE=DATE:20231202
DTEND;VALUE=DATE:20231224
DTSTAMP:20260425T221552
CREATED:20251004T183141Z
LAST-MODIFIED:20251027T175229Z
UID:10003378-1701475200-1703375999@www.atlantaparent.com
SUMMARY:Charles Dickens’ A Christmas Carol
DESCRIPTION:Jeff Watkins \nOn a fateful Christmas Eve\, Scrooge will learn the meaning of Christmas spirit with song and holiday cheer. Dec. 6-23. See website for showtimes and bonus performances. $20-$45.
URL:https://www.atlantaparent.com/event/charles-dickens-christmas-carol/
LOCATION:Shakespeare Tavern Playhouse\, 499 Peachtree Street\, Atlanta
ATTACH;FMTTYPE=image/jpeg:https://www.atlantaparent.com/wp-content/uploads/2023/10/22-Carol-84-scaled-e1700068478663.jpg
GEO:33.7681947;-84.3849252
X-APPLE-STRUCTURED-LOCATION;VALUE=URI;X-ADDRESS=Shakespeare Tavern Playhouse 499 Peachtree Street Atlanta;X-APPLE-RADIUS=500;X-TITLE=499 Peachtree Street:geo:-84.3849252,33.7681947
END:VEVENT
BEGIN:VEVENT
DTSTART;TZID=America/New_York:20231202T093000
DTEND;TZID=America/New_York:20231202T113000
DTSTAMP:20260425T221552
CREATED:20231101T202049Z
LAST-MODIFIED:20231113T165220Z
UID:10002527-1701509400-1701516600@www.atlantaparent.com
SUMMARY:College Park Annual Christmas Parade
DESCRIPTION:This year’s theme is “Lights. Camera. Christmas” and travels along Main St.
URL:https://www.atlantaparent.com/event/college-park-annual-christmas-parade/
LOCATION:Downtown College Park\, 3872 College St.\, College Park
END:VEVENT
END:VCALENDAR